Felt | Verdi |
AlreadyApplied | True |
Aperture | 8.0 |
ApertureValue | 8.0 |
Artist | CATO HANSEN |
BitsPerSample | 8 |
BlueHue | 0 |
BlueSaturation | 0 |
Brightness | +50 |
By-line | CATO HANSEN |
CameraProfile | Adobe Standard |
CFAPattern | [Red,Green][Green,Blue] |
ChromaticAberrationB | 0 |
ChromaticAberrationR | 0 |
CircleOfConfusion | 0.030 mm |
Clarity | -29 |
ColorComponents | 3 |
ColorMode | RGB |
ColorNoiseReduction | 25 |
ColorSpace | sRGB |
ColorTemperature | 4200 |
Contrast (2) | +28 |
Contrast | Normal |
ConvertToGrayscale | False |
Copyright | CATO HANSEN |
CopyrightNotice | CATO HANSEN |
CreateDate (1) | 2013:04:28 19:34:10.75+02:00 |
CreateDate | 2013:04:28 19:34:10 |
Creator | CATO HANSEN |
CreatorTool | Ver.1.02 |
CropAngle | 27.910909 |
CropBottom | 1 |
CropHeight | 1 |
CropLeft | 0.375889 |
CropRight | 0.580458 |
CropTop | 0 |
CropUnit | Unknown (3) |
CropWidth | 1 |
CustomRendered | Normal |
DateTimeDigitized | 2013:04:28 19:34:10.75+02:00 |
DateTimeOriginal (1) | 2013:04:28 19:34:10.75+02:00 |
DateTimeOriginal | 2013:04:28 19:34:10 |
Defringe | 0 |
DigitalZoomRatio | 1 |
ExifImageHeight | 2095 |
ExifImageWidth | 2095 |
Exposure | -0.15 |
ExposureCompensation | 0 |
ExposureMode | Manual |
ExposureProgram | Manual |
ExposureTime | 1/750 |
FillLight | 7 |
Flash | On, Return detected |
FlashFired | True |
FlashFunction | False |
FlashMode | On |
FlashRedEyeMode | False |
FlashReturn | Return detected |
FNumber | 8.0 |
FocalLength | 60.0 mm |
FocalLength35efl | 60.0 mm (35 mm equivalent: 60.0 mm) |
FocalLengthIn35mmFormat | 60 mm |
Format | image/jpeg |
FOV | 33.4 deg |
GainControl | None |
GreenHue | 0 |
GreenSaturation | 0 |
HasCrop | True |
HasSettings | True |
HighlightRecovery | 0 |
HueAdjustmentAqua | 0 |
HueAdjustmentBlue | 0 |
HueAdjustmentGreen | 0 |
HueAdjustmentMagenta | 0 |
HueAdjustmentOrange | 0 |
HueAdjustmentPurple | 0 |
HueAdjustmentRed | 0 |
HueAdjustmentYellow | 0 |
HyperfocalDistance | 14.98 m |
ICCProfileName | sRGB IEC61966-2.1 |
ImageHeight | 2095 |
ImageNumber | 19535 |
ImageSize | 2095x2095 |
ImageWidth | 2095 |
ISO | 200 |
Lens | 60.0 mm f/2.8 |
LensInfo | 60mm f/2.8 |
LightSource | Unknown |
LightValue | 14.6 |
LuminanceAdjustmentAqua | 0 |
LuminanceAdjustmentBlue | 0 |
LuminanceAdjustmentGreen | 0 |
LuminanceAdjustmentMagenta | 0 |
LuminanceAdjustmentOrange | 0 |
LuminanceAdjustmentPurple | 0 |
LuminanceAdjustmentRed | 0 |
LuminanceAdjustmentYellow | 0 |
LuminanceSmoothing | 34 |
Make | NIKON CORPORATION |
MaxApertureValue | 3.5 |
Megapixels | 4.4 |
MeteringMode | Multi-segment |
Model | NIKON D700 |
ModifyDate (1) | 2013:05:05 17:06:03+02:00 |
ModifyDate | 2013:05:05 17:06:03 |
Orientation | Horizontal (normal) |
ParametricDarks | 0 |
ParametricHighlights | 0 |
ParametricHighlightSplit | 75 |
ParametricLights | 0 |
ParametricMidtoneSplit | 50 |
ParametricShadows | 0 |
ParametricShadowSplit | 25 |
PostCropVignetteAmount | 0 |
ProfileDescription | sRGB IEC61966-2.1 |
Rating | 0 |
RawFileName | _DSC2356.NEF |
RedHue | 0 |
RedSaturation | 0 |
Rights | CATO HANSEN |
Saturation (2) | -1 |
Saturation | Normal |
SaturationAdjustmentAqua | 0 |
SaturationAdjustmentBlue | 0 |
SaturationAdjustmentGreen | 0 |
SaturationAdjustmentMagenta | 0 |
SaturationAdjustmentOrange | 0 |
SaturationAdjustmentPurple | 0 |
SaturationAdjustmentRed | 0 |
SaturationAdjustmentYellow | 0 |
ScaleFactor35efl | 1.0 |
SceneCaptureType | Standard |
SceneType | Directly photographed |
SensingMethod | One-chip color area |
SerialNumber | 2427445 |
Shadows | 5 |
ShadowTint | 0 |
SharpenDetail | 43 |
SharpenEdgeMasking | 0 |
SharpenRadius | +0.9 |
Sharpness (2) | 132 |
Sharpness | Hard |
ShutterSpeed | 1/750 |
ShutterSpeedValue | 1/750 |
SidecarForExtension | NEF |
Software | Adobe Photoshop Elements 8.0 Windows |
SplitToningBalance | 0 |
SplitToningHighlightHue | 0 |
SplitToningHighlightSaturation | 0 |
SplitToningShadowHue | 0 |
SplitToningShadowSaturation | 0 |
SubjectDistanceRange | Unknown |
Tint | -9 |
ToneCurve | 0, 0, 32, 22, 64, 56, 128, 128, 192, 196, 255, 255 |
ToneCurveName | Medium Contrast |
URL_List | |
Version | 5.5 |
Vibrance | +3 |
VignetteAmount | 0 |
WhiteBalance (2) | Custom |
WhiteBalance | Auto |