Felt | Verdi |
AlreadyApplied | True |
Aperture | 2.8 |
ApertureValue | 2.8 |
ApproximateFocusDistance | 4294967295 |
Artist | Zoltan Tot |
AutoLateralCA | 0 |
BitsPerSample | 8 |
Blacks2012 | -28 |
BlueHue | 0 |
BlueSaturation | 0 |
By-line | Zoltan Tot |
CameraProfile | Adobe Standard |
CFAPattern | [Red,Green][Green,Blue] |
CircleOfConfusion | 0.030 mm |
Clarity2012 | +38 |
ColorComponents | 3 |
ColorMode | RGB |
ColorNoiseReduction | 25 |
ColorNoiseReductionDetail | 50 |
ColorSpace | Uncalibrated |
ColorTemperature | 6800 |
Contrast | Normal |
Contrast2012 | +15 |
ConvertToGrayscale | False |
Copyright | Zoltan ToT |
CopyrightNotice | Zoltan ToT |
CreateDate | 2013:08:24 00:36:55 |
Creator | Zoltan Tot |
CreatorTool | Ver.1.01 |
CropAngle | 0 |
CropBottom | 0.877643 |
CropConstrainToWarp | 1 |
CropLeft | 0.060484 |
CropRight | 1 |
CropTop | 0.048338 |
CustomRendered | Normal |
DateCreated (1) | 2013:08:24 |
DateCreated | 2013:08:24 00:36:55.007 |
DateTimeOriginal | 2013:08:24 00:36:55 |
DefringeGreenAmount | 0 |
DefringeGreenHueHi | 60 |
DefringeGreenHueLo | 40 |
DefringePurpleAmount | 0 |
DefringePurpleHueHi | 70 |
DefringePurpleHueLo | 30 |
DigitalZoomRatio | 1 |
DOF | inf (2.33 m - inf) |
ExifImageHeight | 3330 |
ExifImageWidth | 5652 |
Exposure2012 | +0.50 |
ExposureCompensation | +1 |
ExposureMode | Manual |
ExposureProgram | Manual |
ExposureTime | 1 |
Flash | Off, Did not fire |
FNumber | 2.8 |
FocalLength | 14.0 mm |
FocalLength35efl | 14.0 mm (35 mm equivalent: 14.0 mm) |
FocalLengthIn35mmFormat | 14 mm |
Format | image/jpeg |
FOV | 104.3 deg |
GainControl | High gain up |
GradientBasedCorrActive | true |
GradientBasedCorrAmount | 1.000000 |
GradientBasedCorrBrightness | 0.000000 |
GradientBasedCorrClarity | 0.000000 |
GradientBasedCorrClarity2012 (1) | -0.070000 |
GradientBasedCorrClarity2012 (2) | 0.110000 |
GradientBasedCorrClarity2012 | 0.480000 |
GradientBasedCorrContrast | 0.000000 |
GradientBasedCorrContrast2012 (1) | 0.470000 |
GradientBasedCorrContrast2012 | -0.360000 |
GradientBasedCorrDefringe (3) | 0.010000 |
GradientBasedCorrDefringe | 0.000000 |
GradientBasedCorrExposure | 0.000000 |
GradientBasedCorrExposure2012 (1) | -0.062500 |
GradientBasedCorrExposure2012 | -0.500000 |
GradientBasedCorrHighlights2012 (1) | -0.370000 |
GradientBasedCorrHighlights2012 (3) | -0.300000 |
GradientBasedCorrHighlights2012 | 0.370000 |
GradientBasedCorrHue (1) | 217.000000 |
GradientBasedCorrHue | 56.000000 |
GradientBasedCorrLuminanceNoise | 0.330000 |
GradientBasedCorrMaskFullX (1) | 0.480847 |
GradientBasedCorrMaskFullX (2) | 0.458669 |
GradientBasedCorrMaskFullX (3) | 1.001791 |
GradientBasedCorrMaskFullX | -0.005372 |
GradientBasedCorrMaskFullY (1) | -0.006042 |
GradientBasedCorrMaskFullY (2) | 1.006042 |
GradientBasedCorrMaskFullY (3) | 0.851383 |
GradientBasedCorrMaskFullY | 0.105920 |
GradientBasedCorrMaskValue | 1.000000 |
GradientBasedCorrMaskWhat | Mask/Gradient |
GradientBasedCorrMaskZeroX (1) | 0.478831 |
GradientBasedCorrMaskZeroX (2) | 0.457661 |
GradientBasedCorrMaskZeroX (3) | 0.588183 |
GradientBasedCorrMaskZeroX | 0.606983 |
GradientBasedCorrMaskZeroY (1) | 0.805136 |
GradientBasedCorrMaskZeroY (2) | 0.706949 |
GradientBasedCorrMaskZeroY (3) | 0.418317 |
GradientBasedCorrMaskZeroY | 0.843338 |
GradientBasedCorrMoire | 0.000000 |
GradientBasedCorrSaturation (1) | 0.540000 |
GradientBasedCorrSaturation (2) | 0.610000 |
GradientBasedCorrSaturation (3) | -0.070000 |
GradientBasedCorrSaturation (5) | 0.240000 |
GradientBasedCorrSaturation (7) | -0.650000 |
GradientBasedCorrSaturation | 0.660000 |
GradientBasedCorrShadows2012 (1) | 0.240000 |
GradientBasedCorrShadows2012 | 1.000000 |
GradientBasedCorrSharpness | 0.610000 |
GradientBasedCorrTemperature (1) | 0.370000 |
GradientBasedCorrTemperature (2) | -0.500000 |
GradientBasedCorrTemperature (3) | 0.450000 |
GradientBasedCorrTemperature | -0.420000 |
GradientBasedCorrTint (2) | 0.370000 |
GradientBasedCorrTint | 0.200000 |
GradientBasedCorrWhat | Correction |
GrainAmount | 0 |
GreenHue | 0 |
GreenSaturation | 0 |
HasCrop | True |
HasSettings | True |
Highlights2012 | -95 |
HueAdjustmentAqua | 0 |
HueAdjustmentBlue | 0 |
HueAdjustmentGreen | 0 |
HueAdjustmentMagenta | 0 |
HueAdjustmentOrange | 0 |
HueAdjustmentPurple | 0 |
HueAdjustmentRed | 0 |
HueAdjustmentYellow | 0 |
HyperfocalDistance | 2.33 m |
ICCProfileName | Adobe RGB (1998) |
ImageHeight | 3330 |
ImageNumber | 2415 |
ImageSize | 5652x3330 |
ImageWidth | 5652 |
ISO | 1000 |
Lens | 14.0 mm f/2.8 |
LensID (1) | 74 |
LensID | Samyang AE 14mm f/2.8 ED AS IF UMC |
LensInfo | 14mm f/2.8-1.4 |
LensManualDistortionAmount | 0 |
LensModel | 14.0 mm f/2.8 |
LensProfileEnable | 0 |
LensProfileSetup | LensDefaults |
LightSource | Unknown |
LightValue | -0.4 |
LuminanceAdjustmentAqua | +9 |
LuminanceAdjustmentBlue | +10 |
LuminanceAdjustmentGreen | 0 |
LuminanceAdjustmentMagenta | 0 |
LuminanceAdjustmentOrange | -7 |
LuminanceAdjustmentPurple | 0 |
LuminanceAdjustmentRed | 0 |
LuminanceAdjustmentYellow | -7 |
LuminanceNoiseReductionContrast | 0 |
LuminanceNoiseReductionDetail | 10 |
LuminanceSmoothing | 30 |
Make | NIKON CORPORATION |
MaxApertureValue | 2.8 |
Megapixels | 18.8 |
MeteringMode | Center-weighted average |
Model | NIKON D600 |
ModifyDate (1) | 2013:08:24 01:57:31+02:00 |
ModifyDate | 2013:08:24 01:57:31 |
Orientation | Horizontal (normal) |
ParametricDarks | 0 |
ParametricHighlights | 0 |
ParametricHighlightSplit | 75 |
ParametricLights | 0 |
ParametricMidtoneSplit | 50 |
ParametricShadows | 0 |
ParametricShadowSplit | 25 |
PerspectiveHorizontal | 0 |
PerspectiveRotate | 0.0 |
PerspectiveScale | 100 |
PerspectiveVertical | 0 |
PostCropVignetteAmount | 0 |
ProcessVersion | 6.7 |
ProfileDescription | Adobe RGB (1998) |
Rating | 0 |
RawFileName | _BDS2223.NEF |
RedHue | 0 |
RedSaturation | 0 |
Rights | Zoltan ToT |
Saturation (1) | -5 |
Saturation | Normal |
SaturationAdjustmentAqua | +17 |
SaturationAdjustmentBlue | +20 |
SaturationAdjustmentGreen | -8 |
SaturationAdjustmentMagenta | 0 |
SaturationAdjustmentOrange | -48 |
SaturationAdjustmentPurple | 0 |
SaturationAdjustmentRed | 0 |
SaturationAdjustmentYellow | -27 |
ScaleFactor35efl | 1.0 |
SceneCaptureType | Standard |
SceneType | Directly photographed |
SensingMethod | One-chip color area |
SensitivityType | Recommended Exposure Index |
SerialNumber | 6015639 |
Shadows2012 | +41 |
ShadowTint | 0 |
SharpenDetail | 1 |
SharpenEdgeMasking | 62 |
SharpenRadius | +1.0 |
Sharpness (1) | 140 |
Sharpness | Normal |
ShutterSpeed | 1 |
ShutterSpeedValue | 1 |
Software | Adobe Photoshop CS6 (Macintosh) |
SplitToningBalance | 0 |
SplitToningHighlightHue | 0 |
SplitToningHighlightSaturation | 0 |
SplitToningShadowHue | 0 |
SplitToningShadowSaturation | 0 |
SubjectDistanceRange | Unknown |
Tint | -11 |
ToneCurveName2012 | Linear |
ToneCurvePV2012 | 0, 0, 255, 255 |
ToneCurvePV2012Blue | 0, 0, 255, 255 |
ToneCurvePV2012Green | 0, 0, 255, 255 |
ToneCurvePV2012Red | 0, 0, 255, 255 |
URL_List | |
Version | 7.4 |
Vibrance | +42 |
VignetteAmount | 0 |
WhiteBalance (1) | Custom |
WhiteBalance | Auto |
Whites2012 | -20 |