Felt | Verdi |
AlreadyApplied | True |
Aperture | 4.5 |
ApertureValue | 4.5 |
ApproximateFocusDistance | 4.5 |
AutoLateralCA | 0 |
BitsPerSample | 8 |
Blacks2012 | -19 |
BlueHue | 0 |
BlueSaturation | 0 |
CameraProfile | Adobe Standard |
CircleOfConfusion | 0.009 mm |
Clarity2012 | +60 |
ColorComponents | 1 |
ColorNoiseReduction | 25 |
ColorNoiseReductionDetail | 50 |
ColorTemperature | 5750 |
Contrast2012 | -17 |
ConvertToGrayscale | True |
CreateDate (1) | 2013:07:16 12:23:02.39 |
CreateDate | 2013:07:16 12:23:02 |
CreatorTool | Adobe Photoshop Lightroom 4.3 (Macintosh) |
CropAngle | 0 |
CropBottom | 1 |
CropConstrainToWarp | 0 |
CropHeight | 1181 |
CropLeft | 0.079733 |
CropRight | 0.800832 |
CropTop | 0.148134 |
CropUnit | pixels |
CropWidth | 1500 |
CustomRendered | Normal |
DateCreated (1) | 2013:07:16 |
DateCreated | 2013:07:16 12:23:02.39 |
DateTimeOriginal | 2013:07:16 12:23:02 |
DOF | 0.010 m (4.495 - 4.505 m) |
Exposure2012 | 0.00 |
ExposureCompensation | 0 |
ExposureMode | Manual |
ExposureProgram | Manual |
ExposureTime | 1/1250 |
Firmware | 1.2.1 |
Flash | Off, Did not fire |
FlashCompensation | 0 |
FNumber | 4.5 |
FocalLength | 400.0 mm |
FocalLength35efl | 400.0 mm (35 mm equivalent: 1305.4 mm) |
Format | image/jpeg |
FOV | 1.6 deg |
GrainAmount | 0 |
GrayMixerAqua | -19 |
GrayMixerBlue | +8 |
GrayMixerGreen | -25 |
GrayMixerMagenta | +4 |
GrayMixerOrange | -17 |
GrayMixerPurple | +14 |
GrayMixerRed | -8 |
GrayMixerYellow | -21 |
GreenHue | 0 |
GreenSaturation | 0 |
HasCrop | True |
HasSettings | True |
Highlights2012 | 0 |
HyperfocalDistance | 3861.87 m |
ImageHeight | 1181 |
ImageNumber | 0 |
ImageSize | 1500x1181 |
ImageWidth | 1500 |
ISO | 500 |
Lens | EF400mm f/4 DO IS USM |
LensID (1) | 191 |
LensID | Canon EF 400mm f/4 DO IS |
LensInfo | 400mm f/? |
LensManualDistortionAmount | 0 |
LensModel | EF400mm f/4 DO IS USM |
LensProfileEnable | 0 |
LensProfileSetup | LensDefaults |
LensSerialNumber | 0000000000 |
LightValue | 12.3 |
LuminanceNoiseReductionContrast | 0 |
LuminanceNoiseReductionDetail | 50 |
LuminanceSmoothing | 100 |
Make | Canon |
MaxApertureValue | 4.0 |
Megapixels | 1.8 |
MeteringMode | Multi-segment |
Model | Canon EOS-1D X |
ModifyDate (1) | 2013:08:06 21:03:45+02:00 |
ModifyDate | 2013:08:06 21:03:45 |
PaintCorrectionActive | true |
PaintCorrectionAmount | 1.000000 |
PaintCorrectionBrightness | 0.000000 |
PaintCorrectionClarity2012 | 0.230055 |
PaintCorrectionContrast2012 | 0.047518 |
PaintCorrectionDefringe | 0.000000 |
PaintCorrectionExposure2012 | 0.000000 |
PaintCorrectionHighlights2012 | 0.000000 |
PaintCorrectionHue | 0.000000 |
PaintCorrectionLuminanceNoise | 0.000000 |
PaintCorrectionMaskCenterWeight | 0.000000 |
PaintCorrectionMaskFlow | 1.000000 |
PaintCorrectionMaskRadius | 0.094009 |
PaintCorrectionMaskValue | 1.000000 |
PaintCorrectionMaskWhat | Mask/Paint |
PaintCorrectionMoire | 0.000000 |
PaintCorrectionSaturation | 0.000000 |
PaintCorrectionShadows2012 | 1.000000 |
PaintCorrectionSharpness | 1.000000 |
PaintCorrectionTemperature | 0.000000 |
PaintCorrectionTint | 0.000000 |
PaintCorrectionWhat | Correction |
ParametricDarks | 0 |
ParametricHighlights | 0 |
ParametricHighlightSplit | 75 |
ParametricLights | 0 |
ParametricMidtoneSplit | 50 |
ParametricShadows | 0 |
ParametricShadowSplit | 25 |
PerspectiveHorizontal | 0 |
PerspectiveRotate | 0.0 |
PerspectiveScale | 100 |
PerspectiveVertical | 0 |
PostCropVignetteAmount | -31 |
PostCropVignetteFeather | 50 |
PostCropVignetteHighlightContrast | 0 |
PostCropVignetteMidpoint | 50 |
PostCropVignetteRoundness | 0 |
PostCropVignetteStyle | 1 |
ProcessVersion | 6.7 |
ProfileDescription | sRGB IEC61966-2.1 |
RecommendedExposureIndex | 500 |
RedHue | 0 |
RedSaturation | 0 |
ScaleFactor35efl | 3.3 |
SceneCaptureType | Standard |
SensitivityType | Recommended Exposure Index |
SerialNumber | 063012000874 |
Shadows2012 | +100 |
ShadowTint | 0 |
SharpenDetail | 51 |
SharpenEdgeMasking | 0 |
SharpenRadius | +1.0 |
Sharpness | 46 |
ShutterSpeed | 1/1250 |
ShutterSpeedValue | 1/1250 |
Software | Adobe Photoshop Lightroom 4.3 (Macintosh) |
SplitToningBalance | 0 |
SplitToningHighlightHue | 0 |
SplitToningHighlightSaturation | 0 |
SplitToningShadowHue | 0 |
SplitToningShadowSaturation | 0 |
Tint | +3 |
ToneCurveName2012 | Linear |
ToneCurvePV2012 | 0, 0, 255, 255 |
ToneCurvePV2012Blue | 0, 0, 255, 255 |
ToneCurvePV2012Green | 0, 0, 255, 255 |
ToneCurvePV2012Red | 0, 0, 255, 255 |
Version | 7.3 |
VignetteAmount | 0 |
WhiteBalance (1) | As Shot |
WhiteBalance | Manual |
Whites2012 | +26 |