Felt | Verdi |
AlreadyApplied | True |
Aperture | 2.8 |
ApertureValue | 2.8 |
Artist | Per-Ø Pettersen |
AutoLateralCA | 0 |
BitsPerSample | 8 |
Blacks2012 | -31 |
BlueHue | 0 |
BlueSaturation | 0 |
BrightnessValue | 1.34140625 |
By-line | Per-Ø Pettersen |
CameraProfile | Adobe Standard |
Caption-Abstract | © Per-O Pettersen |
CircleOfConfusion | 0.020 mm |
Clarity2012 | +38 |
ColorComponents | 3 |
ColorNoiseReduction | 25 |
ColorNoiseReductionDetail | 50 |
ColorTemperature | 3050 |
Contrast | Normal |
Contrast2012 | +45 |
ConvertToGrayscale | False |
Copyright | Per-Ø Pettersen |
CopyrightFlag | True |
CopyrightNotice | Per-Ø Pettersen |
CreateDate | 2013:07:15 23:38:11 |
Creator | Per-Ø Pettersen |
CreatorAddress | Gamle Bygdevei 48 |
CreatorCity | Oslo |
CreatorCountry | Norway |
CreatorPostalCode | 1284 |
CreatorRegion | OSLO |
CreatorTool | Adobe Photoshop Lightroom 5.0 (Macintosh) |
CreatorWorkEmail | per-o@per-o.com |
CreatorWorkTelephone | +47 91373160 |
CreatorWorkURL | www.per-o.com |
CropAngle | 0 |
CropBottom | 0.932718 |
CropConstrainToWarp | 0 |
CropLeft | 0.253857 |
CropRight | 1 |
CropTop | 0.186981 |
CustomRendered | Normal |
DateCreated (1) | 2013:07:15 |
DateCreated | 2013:07:15 23:38:11 |
DateTimeOriginal | 2013:07:15 23:38:11 |
DefringeGreenAmount | 0 |
DefringeGreenHueHi | 60 |
DefringeGreenHueLo | 40 |
DefringePurpleAmount | 0 |
DefringePurpleHueHi | 70 |
DefringePurpleHueLo | 30 |
Description | © Per-O Pettersen |
DigitalZoomRatio | 1 |
Exposure2012 | +0.75 |
ExposureCompensation | +0.3 |
ExposureMode | Auto |
ExposureProgram | Aperture-priority AE |
ExposureTime | 1/60 |
Flash | Off, Did not fire |
FNumber | 2.8 |
FocalLength | 28.0 mm |
FocalLength35efl | 28.0 mm (35 mm equivalent: 42.0 mm) |
FocalLengthIn35mmFormat | 42 mm |
Format | image/jpeg |
FOV | 46.4 deg |
GrainAmount | 0 |
GreenHue | 0 |
GreenSaturation | 0 |
HasCrop | True |
HasSettings | True |
Highlights2012 | +21 |
HueAdjustmentAqua | 0 |
HueAdjustmentBlue | 0 |
HueAdjustmentGreen | 0 |
HueAdjustmentMagenta | 0 |
HueAdjustmentOrange | 0 |
HueAdjustmentPurple | 0 |
HueAdjustmentRed | 0 |
HueAdjustmentYellow | 0 |
HyperfocalDistance | 13.98 m |
ImageDescription | © Per-O Pettersen |
ImageHeight | 2434 |
ImageSize | 3665x2434 |
ImageWidth | 3665 |
ISO | 320 |
Keywords | Amund Maarud |
Lens | 28-75mm F2.8 |
LensID (1) | 39 |
LensID | Minolta AF 28-75mm F2.8 (D) |
LensInfo | 28-75mm f/2.8 |
LensManualDistortionAmount | 0 |
LensModel | 28-75mm F2.8 |
LensProfileEnable | 0 |
LensProfileSetup | LensDefaults |
LightSource | Unknown |
LightValue | 7.2 |
LuminanceAdjustmentAqua | 0 |
LuminanceAdjustmentBlue | 0 |
LuminanceAdjustmentGreen | 0 |
LuminanceAdjustmentMagenta | 0 |
LuminanceAdjustmentOrange | 0 |
LuminanceAdjustmentPurple | 0 |
LuminanceAdjustmentRed | 0 |
LuminanceAdjustmentYellow | 0 |
LuminanceSmoothing | 0 |
Make | SONY |
Marked | True |
MaxApertureValue | 2.8 |
Megapixels | 8.9 |
MeteringMode | Multi-segment |
Model | NEX-6 |
ModifyDate (1) | 2013:07:20 21:23:39+02:00 |
ModifyDate | 2013:07:20 21:23:39 |
ParametricDarks | 0 |
ParametricHighlights | 0 |
ParametricHighlightSplit | 75 |
ParametricLights | 0 |
ParametricMidtoneSplit | 50 |
ParametricShadows | 0 |
ParametricShadowSplit | 25 |
PerspectiveAspect | 0 |
PerspectiveHorizontal | 0 |
PerspectiveRotate | 0.0 |
PerspectiveScale | 100 |
PerspectiveUpright | 0 |
PerspectiveVertical | 0 |
PostCropVignetteAmount | 0 |
ProcessVersion | 6.7 |
ProfileDescription | sRGB IEC61966-2.1 |
Rating | 3 |
RecommendedExposureIndex | 320 |
RedHue | 0 |
RedSaturation | 0 |
Rights | Per-Ø Pettersen |
Saturation (1) | 0 |
Saturation | Normal |
SaturationAdjustmentAqua | 0 |
SaturationAdjustmentBlue | 0 |
SaturationAdjustmentGreen | 0 |
SaturationAdjustmentMagenta | 0 |
SaturationAdjustmentOrange | 0 |
SaturationAdjustmentPurple | 0 |
SaturationAdjustmentRed | 0 |
SaturationAdjustmentYellow | 0 |
ScaleFactor35efl | 1.5 |
SceneCaptureType | Standard |
SceneType | Directly photographed |
SensitivityType | Recommended Exposure Index |
Shadows2012 | +37 |
ShadowTint | 0 |
SharpenDetail | 25 |
SharpenEdgeMasking | 0 |
SharpenRadius | +1.0 |
Sharpness (1) | 25 |
Sharpness | Normal |
ShutterSpeed | 1/60 |
ShutterSpeedValue | 1/60 |
Software | Adobe Photoshop Lightroom 5.0 (Macintosh) |
SplitToningBalance | 0 |
SplitToningHighlightHue | 0 |
SplitToningHighlightSaturation | 0 |
SplitToningShadowHue | 0 |
SplitToningShadowSaturation | 0 |
Subject | Amund Maarud |
Tint | +12 |
ToneCurveName2012 | Linear |
ToneCurvePV2012 | 0, 0, 255, 255 |
ToneCurvePV2012Blue | 0, 0, 255, 255 |
ToneCurvePV2012Green | 0, 0, 255, 255 |
ToneCurvePV2012Red | 0, 0, 255, 255 |
Version | 8.1 |
Vibrance | +28 |
VignetteAmount | 0 |
WhiteBalance (1) | As Shot |
WhiteBalance | Auto |
Whites2012 | +37 |