Felt | Verdi |
AlreadyApplied | True |
Aperture | 14.0 |
ApertureValue | 14.0 |
Artist | Per-Ø Pettersen |
AutoLateralCA | 0 |
BitsPerSample | 8 |
Blacks2012 | -14 |
BlueHue | 0 |
BlueSaturation | 0 |
BrightnessValue | 9 |
By-line | Per-Ø Pettersen |
CameraProfile | Adobe Standard |
Caption-Abstract | SONY DSC |
CircleOfConfusion | 0.020 mm |
Clarity2012 | +45 |
ColorComponents | 3 |
ColorNoiseReduction | 25 |
ColorNoiseReductionDetail | 50 |
ColorTemperature | 5900 |
Contrast | Normal |
Contrast2012 | +36 |
ConvertToGrayscale | False |
Copyright | Per-Ø Pettersen |
CopyrightFlag | True |
CopyrightNotice | Per-Ø Pettersen |
CreateDate | 2012:07:16 11:58:29 |
Creator | Per-Ø Pettersen |
CreatorTool | Adobe Photoshop Lightroom 4.3 (Macintosh) |
CreatorWorkEmail | per-o@per-o.com |
CropAngle | 0 |
CropBottom | 0.788041 |
CropConstrainToWarp | 0 |
CropHeight | 600 |
CropLeft | 0.064521 |
CropRight | 0.97101 |
CropTop | 0.053785 |
CropUnit | pixels |
CropWidth | 1111 |
CustomRendered | Normal |
DateCreated (1) | 2012:07:16 |
DateCreated | 2012:07:16 11:58:29 |
DateTimeOriginal | 2012:07:16 11:58:29 |
DefringeGreenAmount | 0 |
DefringeGreenHueHi | 60 |
DefringeGreenHueLo | 40 |
DefringePurpleAmount | 0 |
DefringePurpleHueHi | 70 |
DefringePurpleHueLo | 30 |
Description | SONY DSC |
DigitalZoomRatio | 0 |
Exposure2012 | +0.85 |
ExposureCompensation | 0 |
ExposureMode | Auto |
ExposureProgram | Program AE |
ExposureTime | 1/160 |
Flash | Off, Did not fire |
FNumber | 14.0 |
FocalLength | 18.0 mm |
FocalLength35efl | 18.0 mm (35 mm equivalent: 27.0 mm) |
FocalLengthIn35mmFormat | 27 mm |
Format | image/jpeg |
FOV | 67.4 deg |
GrainAmount | 0 |
GreenHue | 0 |
GreenSaturation | 0 |
HasCrop | True |
HasSettings | True |
Highlights2012 | -100 |
HueAdjustmentAqua | 0 |
HueAdjustmentBlue | 0 |
HueAdjustmentGreen | 0 |
HueAdjustmentMagenta | 0 |
HueAdjustmentOrange | 0 |
HueAdjustmentPurple | 0 |
HueAdjustmentRed | 0 |
HueAdjustmentYellow | 0 |
HyperfocalDistance | 1.16 m |
ImageDescription | SONY DSC |
ImageHeight | 600 |
ImageSize | 1111x600 |
ImageWidth | 1111 |
ISO | 200 |
Lens | DT 11-18mm F4.5-5.6 |
LensID (1) | 41 |
LensID | Minolta/Sony AF DT 11-18mm F4.5-5.6 (D) or Tamron SP AF 11-18mm F4.5-5.6 Di II LD Aspherical IF |
LensInfo | 11-18mm f/4.5-5.6 |
LensManualDistortionAmount | 0 |
LensModel | DT 11-18mm F4.5-5.6 |
LensProfileEnable | 0 |
LensProfileSetup | LensDefaults |
LightSource | Unknown |
LightValue | 13.9 |
LuminanceAdjustmentAqua | 0 |
LuminanceAdjustmentBlue | 0 |
LuminanceAdjustmentGreen | 0 |
LuminanceAdjustmentMagenta | 0 |
LuminanceAdjustmentOrange | 0 |
LuminanceAdjustmentPurple | 0 |
LuminanceAdjustmentRed | 0 |
LuminanceAdjustmentYellow | 0 |
LuminanceSmoothing | 0 |
Make | SONY |
Marked | True |
MaxApertureValue | 5.6 |
Megapixels | 0.667 |
MeteringMode | Multi-segment |
Model | DSLR-A700 |
ModifyDate (1) | 2013:01:10 16:11:58+01:00 |
ModifyDate | 2013:01:10 16:11:58 |
PaintCorrectionActive | true |
PaintCorrectionAmount | 1.000000 |
PaintCorrectionBrightness | 0.000000 |
PaintCorrectionClarity2012 | 0.000000 |
PaintCorrectionContrast2012 | -0.623683 |
PaintCorrectionDefringe | 0.000000 |
PaintCorrectionExposure2012 | -0.142644 |
PaintCorrectionHighlights2012 | 0.110867 |
PaintCorrectionHue | 233.000000 |
PaintCorrectionLuminanceNoise | 0.000000 |
PaintCorrectionMaskCenterWeight | 0.121903 |
PaintCorrectionMaskFlow | 0.981387 |
PaintCorrectionMaskRadius | 0.042017 |
PaintCorrectionMaskValue | 0.913032 |
PaintCorrectionMaskWhat | Mask/Paint |
PaintCorrectionMoire | 0.000000 |
PaintCorrectionSaturation (1) | -0.247454 |
PaintCorrectionSaturation | 0.000000 |
PaintCorrectionShadows2012 | -0.809164 |
PaintCorrectionSharpness | 0.339982 |
PaintCorrectionTemperature | 0.025369 |
PaintCorrectionTint | -0.034322 |
PaintCorrectionWhat | Correction |
ParametricDarks | 0 |
ParametricHighlights | 0 |
ParametricHighlightSplit | 75 |
ParametricLights | 0 |
ParametricMidtoneSplit | 50 |
ParametricShadows | 0 |
ParametricShadowSplit | 25 |
PerspectiveHorizontal | 0 |
PerspectiveRotate | 0.0 |
PerspectiveScale | 100 |
PerspectiveVertical | 0 |
PostCropVignetteAmount | 0 |
ProcessVersion | 6.7 |
ProfileDescription | sRGB IEC61966-2.1 |
Rating | 3 |
RedHue | 0 |
RedSaturation | 0 |
Rights | Per-Ø Pettersen |
Saturation (1) | -15 |
Saturation | Normal |
SaturationAdjustmentAqua | 0 |
SaturationAdjustmentBlue | 0 |
SaturationAdjustmentGreen | 0 |
SaturationAdjustmentMagenta | 0 |
SaturationAdjustmentOrange | 0 |
SaturationAdjustmentPurple | 0 |
SaturationAdjustmentRed | 0 |
SaturationAdjustmentYellow | 0 |
ScaleFactor35efl | 1.5 |
SceneCaptureType | Standard |
SceneType | Directly photographed |
Shadows2012 | +20 |
ShadowTint | 0 |
SharpenDetail | 45 |
SharpenEdgeMasking | 70 |
SharpenRadius | +1.2 |
Sharpness (1) | 56 |
Sharpness | Normal |
ShutterSpeed | 1/160 |
ShutterSpeedValue | 1/160 |
Software | Adobe Photoshop Lightroom 4.3 (Macintosh) |
SplitToningBalance | 0 |
SplitToningHighlightHue | 0 |
SplitToningHighlightSaturation | 0 |
SplitToningShadowHue | 0 |
SplitToningShadowSaturation | 0 |
Tint | +3 |
ToneCurveName2012 | Linear |
ToneCurvePV2012 | 0, 0, 255, 255 |
ToneCurvePV2012Blue | 0, 0, 255, 255 |
ToneCurvePV2012Green | 0, 0, 255, 255 |
ToneCurvePV2012Red | 0, 0, 255, 255 |
Version | 7.3 |
Vibrance | +54 |
VignetteAmount | 0 |
WhiteBalance (1) | As Shot |
WhiteBalance | Auto |
Whites2012 | -60 |