Felt | Verdi |
AlreadyApplied | True |
Aperture | 2.8 |
ApertureValue | 2.8 |
BitsPerSample | 8 |
BlueHue | -100 |
BlueSaturation | -81 |
Brightness | +65 |
CameraProfile | ACR 2.4 |
ChromaticAberrationB | 0 |
ChromaticAberrationR | 0 |
Clarity | +20 |
ColorComponents | 3 |
ColorNoiseReduction | 0 |
Contrast | +45 |
ConvertToGrayscale | True |
CreateDate | 2012:08:11 01:17:27+02:00 |
CreatorTool | Adobe Photoshop Lightroom |
DateTimeOriginal (1) | 2012:08:11 01:17:27+02:00 |
DateTimeOriginal | 2012:08:11 01:17:27 |
Defringe | 2 |
ExifImageHeight | 2602 |
ExifImageWidth | 3908 |
Exposure | 0.00 |
ExposureTime | 1/4 |
FillLight | 36 |
FNumber | 2.8 |
FocalLength | 35.0 mm |
FocalLength35efl | 35.0 mm |
GrainAmount | 0 |
GrayMixerAqua | +2 |
GrayMixerBlue | -100 |
GrayMixerGreen | -69 |
GrayMixerMagenta | 0 |
GrayMixerOrange | +8 |
GrayMixerPurple | +25 |
GrayMixerRed | +34 |
GrayMixerYellow | -17 |
GreenHue | -100 |
GreenSaturation | +2 |
HasCrop | False |
HasSettings | True |
HighlightRecovery | 10 |
ImageHeight | 2602 |
ImageSize | 3908x2602 |
ImageWidth | 3908 |
IncrementalTemperature | +19 |
IncrementalTint | -51 |
ISO | 200 |
LensManualDistortionAmount | 0 |
LensProfileEnable | 0 |
LensProfileSetup | LensDefaults |
LightValue | 4.0 |
LuminanceSmoothing | 0 |
Megapixels | 10.2 |
Model | Canon EOS 40D |
ModifyDate (1) | 2012:08:11 04:56:07+02:00 |
ModifyDate | 2012:08:11 04:56:07 |
PaintCorrectionActive | true |
PaintCorrectionAmount | 1.000000 |
PaintCorrectionBrightness | 0.000000 |
PaintCorrectionClarity | 0.000000 |
PaintCorrectionContrast | 0.000000 |
PaintCorrectionExposure | -0.171000 |
PaintCorrectionHue | 240.000000 |
PaintCorrectionMaskCenterWeight | 0.146839 |
PaintCorrectionMaskFlow | 1.000000 |
PaintCorrectionMaskRadius | 0.013509 |
PaintCorrectionMaskValue | 1.000000 |
PaintCorrectionMaskWhat | Mask/Paint |
PaintCorrectionSaturation | 0.000000 |
PaintCorrectionSharpness | 0.000000 |
PaintCorrectionWhat | Correction |
ParametricDarks | +62 |
ParametricHighlights | +10 |
ParametricHighlightSplit | 75 |
ParametricLights | +7 |
ParametricMidtoneSplit | 50 |
ParametricShadows | -33 |
ParametricShadowSplit | 25 |
PerspectiveHorizontal | 0 |
PerspectiveRotate | 0.0 |
PerspectiveScale | 100 |
PerspectiveVertical | 0 |
PostCropVignetteAmount | 0 |
ProcessVersion | 5.7 |
ProfileDescription | Adobe RGB (1998) |
RedHue | +48 |
RedSaturation | +45 |
Shadows | 10 |
ShadowTint | +17 |
SharpenDetail | 25 |
SharpenEdgeMasking | 0 |
SharpenRadius | +1.0 |
Sharpness | 25 |
ShutterSpeed | 1/4 |
ShutterSpeedValue | 1/4 |
SplitToningBalance | 0 |
SplitToningHighlightHue | 240 |
SplitToningHighlightSaturation | 1 |
SplitToningShadowHue | 231 |
SplitToningShadowSaturation | 5 |
ToneCurve | 0, 0, 255, 255 |
ToneCurveName | Linear |
Version | 6.1 |
VignetteAmount | -80 |
VignetteMidpoint | 0 |
WhiteBalance | Custom |