Felt | Verdi |
AlreadyApplied | True |
Aperture | 11.0 |
ApertureValue | 11.0 |
AutoLateralCA | 0 |
BitsPerSample | 8 |
Blacks2012 | -33 |
BlueHue | 0 |
BlueSaturation | 0 |
CameraProfile | Adobe Standard |
CircleOfConfusion | 0.019 mm |
Clarity2012 | +28 |
ColorComponents | 3 |
ColorMode | RGB |
ColorNoiseReduction | 25 |
ColorNoiseReductionDetail | 50 |
ColorSpace | sRGB |
ColorTemperature | 5450 |
Contrast2012 | +34 |
ConvertToGrayscale | False |
CopyrightFlag | False |
CreateDate (1) | 2012:05:31 12:04:50.01 |
CreateDate | 2012:05:31 12:04:50 |
CreatorTool | Adobe Photoshop Elements 6.0 Windows |
CropAngle | 0 |
CropBottom | 0.899795 |
CropConstrainToWarp | 0 |
CropHeight | 620 |
CropLeft | 0.024557 |
CropRight | 0.994543 |
CropTop | 0.018405 |
CropUnit | pixels |
CropWidth | 1024 |
CustomRendered | Normal |
DateCreated | 2012:05:31 |
DateTimeDigitized | 2012:05:31 12:04:50+02:00 |
DateTimeOriginal (1) | 2012:05:31 12:04:50+02:00 |
DateTimeOriginal | 2012:05:31 12:04:50 |
DefringeGreenAmount | 0 |
DefringeGreenHueHi | 60 |
DefringeGreenHueLo | 40 |
DefringePurpleAmount | 0 |
DefringePurpleHueHi | 70 |
DefringePurpleHueLo | 30 |
ExifImageHeight | 620 |
ExifImageWidth | 1024 |
Exposure2012 | +0.46 |
ExposureCompensation | 0 |
ExposureMode | Auto |
ExposureProgram | Aperture-priority AE |
ExposureTime | 1/6 |
Firmware | 1.1.1 |
Flash | Off, Did not fire |
FlashCompensation | 0 |
FlashFired | False |
FlashFunction | False |
FlashMode | Off |
FlashRedEyeMode | False |
FlashReturn | No return detection |
FNumber | 11.0 |
FocalLength | 45.0 mm |
FocalLength35efl | 45.0 mm (35 mm equivalent: 72.8 mm) |
Format | image/jpeg |
FOV | 27.8 deg |
GrainAmount | 0 |
GreenHue | 0 |
GreenSaturation | 0 |
HasCrop | True |
HasSettings | True |
Highlights2012 | -73 |
HueAdjustmentAqua | 0 |
HueAdjustmentBlue | 0 |
HueAdjustmentGreen | 0 |
HueAdjustmentMagenta | 0 |
HueAdjustmentOrange | 0 |
HueAdjustmentPurple | 0 |
HueAdjustmentRed | 0 |
HueAdjustmentYellow | 0 |
HyperfocalDistance | 9.92 m |
ICCProfileName | sRGB IEC61966-2.1 |
ImageHeight | 620 |
ImageNumber | 0 |
ImageSize | 1024x620 |
ImageWidth | 1024 |
ISO | 100 |
Lens | 17-50mm |
LensID (1) | 161 |
LensID | Tamron AF 17-50mm f/2.8 Di-II LD Aspherical |
LensInfo | 17-50mm f/? |
LensManualDistortionAmount | 0 |
LensModel | 17-50mm |
LensProfileEnable | 0 |
LensProfileSetup | LensDefaults |
LightValue | 9.5 |
LuminanceAdjustmentAqua | 0 |
LuminanceAdjustmentBlue | 0 |
LuminanceAdjustmentGreen | 0 |
LuminanceAdjustmentMagenta | 0 |
LuminanceAdjustmentOrange | 0 |
LuminanceAdjustmentPurple | 0 |
LuminanceAdjustmentRed | 0 |
LuminanceAdjustmentYellow | 0 |
LuminanceSmoothing | 0 |
Make | Canon |
MaxApertureValue | 2.8 |
Megapixels | 0.635 |
MeteringMode | Multi-segment |
Model | Canon EOS 40D |
ModifyDate (1) | 2012:06:01 16:18:21+02:00 |
ModifyDate | 2012:06:01 16:18:21 |
Orientation | Horizontal (normal) |
ParametricDarks | 0 |
ParametricHighlights | 0 |
ParametricHighlightSplit | 75 |
ParametricLights | 0 |
ParametricMidtoneSplit | 50 |
ParametricShadows | 0 |
ParametricShadowSplit | 25 |
PerspectiveHorizontal | 0 |
PerspectiveRotate | 0.0 |
PerspectiveScale | 100 |
PerspectiveVertical | 0 |
PostCropVignetteAmount | 0 |
ProcessVersion | 6.7 |
ProfileDescription | sRGB IEC61966-2.1 |
RedHue | 0 |
RedSaturation | 0 |
Saturation | +1 |
SaturationAdjustmentAqua | 0 |
SaturationAdjustmentBlue | 0 |
SaturationAdjustmentGreen | 0 |
SaturationAdjustmentMagenta | 0 |
SaturationAdjustmentOrange | 0 |
SaturationAdjustmentPurple | 0 |
SaturationAdjustmentRed | 0 |
SaturationAdjustmentYellow | 0 |
ScaleFactor35efl | 1.6 |
SceneCaptureType | Standard |
SerialNumber | 2231207814 |
Shadows2012 | 0 |
ShadowTint | 0 |
SharpenDetail | 25 |
SharpenEdgeMasking | 0 |
SharpenRadius | +1.0 |
Sharpness | 25 |
ShutterSpeed | 1/6 |
ShutterSpeedValue | 1/6 |
Software | Adobe Photoshop Elements 6.0 Windows |
SplitToningBalance | 0 |
SplitToningHighlightHue | 76 |
SplitToningHighlightSaturation | 28 |
SplitToningShadowHue | 57 |
SplitToningShadowSaturation | 24 |
Tint | -2 |
ToneCurveName2012 | Linear |
ToneCurvePV2012 | 0, 0, 255, 255 |
ToneCurvePV2012Blue | 0, 0, 255, 255 |
ToneCurvePV2012Green | 0, 0, 255, 255 |
ToneCurvePV2012Red | 0, 0, 255, 255 |
URL_List | |
Version | 7.1 |
Vibrance | +83 |
VignetteAmount | 0 |
WhiteBalance (1) | As Shot |
WhiteBalance | Auto |
Whites2012 | +6 |