Felt | Verdi |
AlreadyApplied | True |
Aperture | 9.0 |
ApertureValue | 9.0 |
BitsPerSample | 8 |
BlueHue | 0 |
BlueSaturation | 0 |
Brightness | +50 |
CameraProfile | Camera Standard v3 |
CFAPattern | [Red,Green][Green,Blue] |
ChromaticAberrationB | 0 |
ChromaticAberrationR | 0 |
CircleOfConfusion | 0.030 mm |
Clarity | 0 |
ColorComponents | 3 |
ColorNoiseReduction | 25 |
ColorSpace | Uncalibrated |
ColorTemperature | 5400 |
Contrast (1) | High |
Contrast | Normal |
ConvertToGrayscale | False |
Copyright | Eivind Sponga |
CopyrightNotice | Eivind Sponga |
CreateDate (1) | 2011:04:09 16:16:52.67+02:00 |
CreateDate | 2011:04:09 16:16:52 |
CreatorTool | Adobe Photoshop Lightroom |
CropAngle | 1.15144 |
CropBottom | 0.955937 |
CropHeight | 550 |
CropLeft | 0.122356 |
CropRight | 0.949377 |
CropTop | 0.153416 |
CropUnit | pixels |
CropWidth | 891 |
CustomRendered | Normal |
DateTimeDigitized | 2011:04:09 16:16:52.67+02:00 |
DateTimeOriginal (1) | 2011:04:09 16:16:52.67+02:00 |
DateTimeOriginal | 2011:04:09 16:16:52 |
Defringe | 0 |
DigitalZoomRatio | 1 |
DOF | 4.95 m (0.91 - 5.86 m) |
ExifImageHeight | 550 |
ExifImageWidth | 891 |
Exposure | +0.32 |
ExposureCompensation | +3 |
ExposureMode | Manual |
ExposureProgram | Manual |
ExposureTime | 13 |
FillLight | 13 |
Flash | No Flash |
FlashFired | False |
FlashFunction | False |
FlashMode | Unknown |
FlashRedEyeMode | False |
FlashReturn | No return detection |
FNumber | 9.0 |
FocalLength | 24.0 mm |
FocalLength35efl | 24.0 mm (35 mm equivalent: 24.0 mm) |
FocalLengthIn35mmFormat | 24 mm |
FOV | 73.7 deg |
GainControl | Low gain up |
GreenHue | 0 |
GreenSaturation | -3 |
HasCrop | True |
HasSettings | True |
HighlightRecovery | 24 |
HueAdjustmentAqua | 0 |
HueAdjustmentBlue | 0 |
HueAdjustmentGreen | 0 |
HueAdjustmentMagenta | 0 |
HueAdjustmentOrange | 0 |
HueAdjustmentPurple | 0 |
HueAdjustmentRed | 0 |
HueAdjustmentYellow | 0 |
HyperfocalDistance | 2.13 m |
ImageHeight (1) | 550 |
ImageHeight | 564 |
ImageNumber | 11615 |
ImageSize | 905x564 |
ImageWidth (1) | 891 |
ImageWidth | 905 |
ISO | 400 |
Lens | 24.0 mm f/2.8 |
LensID (1) | 54 |
LensID | AF Nikkor 24mm f/2.8D |
LensInfo | 24mm f/2.8 |
LightSource | Unknown |
LightValue | 0.6 |
LuminanceAdjustmentAqua | 0 |
LuminanceAdjustmentBlue | 0 |
LuminanceAdjustmentGreen | 0 |
LuminanceAdjustmentMagenta | 0 |
LuminanceAdjustmentOrange | 0 |
LuminanceAdjustmentPurple | 0 |
LuminanceAdjustmentRed | 0 |
LuminanceAdjustmentYellow | 0 |
LuminanceSmoothing | 0 |
Make | NIKON CORPORATION |
MaxApertureValue | 2.8 |
Megapixels | 0.510 |
MeteringMode | Multi-segment |
Model | NIKON D700 |
ModifyDate (1) | 2011:04:09 22:47:48+02:00 |
ModifyDate | 2011:04:09 22:47:48 |
ParametricDarks | 0 |
ParametricHighlights | 0 |
ParametricHighlightSplit | 75 |
ParametricLights | 0 |
ParametricMidtoneSplit | 50 |
ParametricShadows | 0 |
ParametricShadowSplit | 25 |
PostCropVignetteAmount | 0 |
ProfileDescription | sRGB IEC61966-2.1 |
Rating | 3 |
RedHue | 0 |
RedSaturation | 0 |
Rights | Eivind Sponga |
Saturation | Normal |
SaturationAdjustmentAqua | 0 |
SaturationAdjustmentBlue | 0 |
SaturationAdjustmentGreen | 0 |
SaturationAdjustmentMagenta | 0 |
SaturationAdjustmentOrange | 0 |
SaturationAdjustmentPurple | 0 |
SaturationAdjustmentRed | 0 |
SaturationAdjustmentYellow | 0 |
ScaleFactor35efl | 1.0 |
SceneCaptureType | Standard |
SceneType | Directly photographed |
SensingMethod | One-chip color area |
SerialNumber | 2117917 |
Shadows | 2 |
ShadowTint | 0 |
SharpenDetail | 31 |
SharpenEdgeMasking | 35 |
SharpenRadius | +1.4 |
Sharpness | Hard |
ShutterSpeed | 13 |
ShutterSpeedValue | 13 |
Software | Ver.1.00 |
SplitToningBalance | 0 |
SplitToningHighlightHue | 0 |
SplitToningHighlightSaturation | 0 |
SplitToningShadowHue | 0 |
SplitToningShadowSaturation | 0 |
SubjectDistance | 1.58 m |
SubjectDistanceRange | Unknown |
Tint | -2 |
ToneCurve | 0, 0, 32, 22, 64, 56, 128, 128, 192, 196, 255, 255 |
ToneCurveName | Medium Contrast |
Version | 6.2 |
Vibrance | +20 |
VignetteAmount | 0 |
WhiteBalance | Auto |