Felt | Verdi |
AlreadyApplied | True |
Aperture | 6.3 |
ApertureValue | 6.3 |
BitsPerSample | 8 |
BlueHue | 0 |
BlueSaturation | +100 |
Brightness | +7 |
CameraProfile | ACR 3.3 |
ChromaticAberrationB | 0 |
ChromaticAberrationR | 0 |
CircleOfConfusion | 0.019 mm |
Clarity | 0 |
ColorComponents | 3 |
ColorNoiseReduction | 25 |
ColorNoiseReductionDetail | 50 |
ColorTemperature | 6000 |
Contrast | +97 |
ConvertToGrayscale | True |
CreateDate (1) | 2010:04:04 13:00:25.01+02:00 |
CreateDate | 2010:04:04 13:00:25 |
CreatorTool | Adobe Photoshop Lightroom |
CropAngle | 0 |
CropBottom | 1 |
CropConstrainToWarp | 0 |
CropHeight | 2539 |
CropLeft | 0 |
CropRight | 0.835596 |
CropTop | 0.020362 |
CropUnit | pixels |
CropWidth | 3249 |
CustomRendered | Normal |
DateTimeDigitized | 2010:04:04 13:00:25.01+02:00 |
DateTimeOriginal (1) | 2010:04:04 13:00:25.01+02:00 |
DateTimeOriginal | 2010:04:04 13:00:25 |
Defringe | 0 |
DOF | 0.018 m (0.831 - 0.849 m) |
ExifImageHeight | 2539 |
ExifImageWidth | 3249 |
Exposure | +4.00 |
ExposureCompensation | 0 |
ExposureMode | Manual |
ExposureProgram | Manual |
ExposureTime | 1/400 |
FillLight | 17 |
Firmware | 1.1.1 |
Flash | Off, Did not fire |
FlashCompensation | 0 |
FlashFired | False |
FlashFunction | False |
FlashMode | Off |
FlashRedEyeMode | False |
FlashReturn | No return detection |
FNumber | 6.3 |
FocalLength | 90.0 mm |
FocalLength35efl | 90.0 mm (35 mm equivalent: 145.7 mm) |
FOV | 14.1 deg |
GrainAmount | 0 |
GrayMixerAqua | -17 |
GrayMixerBlue | +11 |
GrayMixerGreen | -28 |
GrayMixerMagenta | +2 |
GrayMixerOrange | -21 |
GrayMixerPurple | +16 |
GrayMixerRed | -12 |
GrayMixerYellow | -25 |
GreenHue | 0 |
GreenSaturation | 0 |
HasCrop | True |
HasSettings | True |
HighlightRecovery | 100 |
HyperfocalDistance | 69.27 m |
ImageHeight | 2539 |
ImageNumber | 0 |
ImageSize | 3249x2539 |
ImageWidth | 3249 |
ISO | 100 |
Lens | 90mm |
LensID (1) | 161 |
LensID | Tamron 90mm f/2.8 |
LensInfo | 90mm f/? |
LensManualDistortionAmount | 0 |
LensProfileEnable | 0 |
LensProfileSetup | LensDefaults |
LightValue | 14.0 |
LuminanceSmoothing | 0 |
Make | Canon |
MaxApertureValue | 2.8 |
Megapixels | 8.2 |
MeteringMode | Multi-segment |
Model | Canon EOS 40D |
ModifyDate (1) | 2010:07:25 21:43:26+02:00 |
ModifyDate | 2010:07:25 21:43:26 |
ParametricDarks | -100 |
ParametricHighlights | +16 |
ParametricHighlightSplit | 75 |
ParametricLights | -100 |
ParametricMidtoneSplit | 50 |
ParametricShadows | -100 |
ParametricShadowSplit | 25 |
PerspectiveHorizontal | 0 |
PerspectiveRotate | 0.0 |
PerspectiveScale | 100 |
PerspectiveVertical | 0 |
PostCropVignetteAmount | 0 |
ProcessVersion | 5.7 |
ProfileDescription | sRGB IEC61966-2.1 |
RedHue | 0 |
RedSaturation | 0 |
ScaleFactor35efl | 1.6 |
SceneCaptureType | Standard |
SerialNumber | 2231202386 |
Shadows | 21 |
ShadowTint | 0 |
SharpenDetail | 25 |
SharpenEdgeMasking | 0 |
SharpenRadius | +1.0 |
Sharpness | 25 |
ShutterSpeed | 1/400 |
ShutterSpeedValue | 1/400 |
SplitToningBalance | +49 |
SplitToningHighlightHue | 17 |
SplitToningHighlightSaturation | 0 |
SplitToningShadowHue | 7 |
SplitToningShadowSaturation | 95 |
SubjectDistance | 0.84 m |
Tint | 0 |
ToneCurve | 0, 0, 32, 22, 64, 56, 128, 128, 192, 196, 255, 255 |
ToneCurveName | Medium Contrast |
Version | 6.1 |
VignetteAmount | -60 |
VignetteMidpoint | 41 |
WhiteBalance (2) | Auto |
WhiteBalance | Manual |