Felt | Verdi |
AlreadyApplied | True |
BitsPerSample | 8 |
BlueHue | 0 |
BlueSaturation | 0 |
Brightness | 0 |
By-line | Størker Moe |
CameraProfile | Embedded |
ChromaticAberrationB | 0 |
ChromaticAberrationR | 0 |
CircleOfConfusion | 0.030 mm |
City | Badaling |
Clarity | +30 |
ColorComponents | 3 |
ColorNoiseReduction | 50 |
ColorSpace | Uncalibrated |
Contrast | 0 |
ConvertToGrayscale | False |
Copyright | Storker Moe |
CopyrightNotice | Størker Moe |
Country | China |
Country-PrimaryLocationCode | CHN |
Country-PrimaryLocationName | China |
CountryCode | CHN |
CreateDate | 2009:03:31 14:30:00 |
Creator | Størker Moe |
CreatorCountry | Norway |
CreatorTool | Adobe Photoshop Lightroom |
CropAngle | -2.15491 |
CropBottom | 0.943798 |
CropHeight | 533 |
CropLeft | 0.047401 |
CropRight | 0.962274 |
CropTop | 0.110817 |
CropUnit | pixels |
CropWidth | 800 |
DateTimeDigitized | 2009:03:31 14:30:00+02:00 |
DateTimeOriginal (1) | 2009:03:31 14:30:00+02:00 |
DateTimeOriginal | 2009:03:31 14:30:00 |
Defringe | 0 |
ExifImageHeight | 533 |
ExifImageWidth | 800 |
Exposure | +0.75 |
FillLight | 0 |
Flash | No Flash |
FlashFired | False |
FlashFunction | False |
FlashMode | Unknown |
FlashRedEyeMode | False |
FlashReturn | No return detection |
FocalLength | 200.0 mm |
FocalLength35efl | 200.0 mm (35 mm equivalent: 200.0 mm) |
FocalLengthIn35mmFormat | 200 mm |
Format | image/tiff |
FOV | 10.3 deg |
GPSAltitude (2) | 0 m |
GPSAltitude | 0 m Above Sea Level |
GPSAltitudeRef | Above Sea Level |
GPSDateStamp | 2009:03:31 |
GPSDateTime | 2009:03:31 12:30:00Z |
GPSLatitude (2) | 40 deg 21' 25.44" |
GPSLatitude | 40 deg 21' 25.44" N |
GPSLatitudeRef | North |
GPSLongitude (2) | 116 deg 0' 45.78" |
GPSLongitude | 116 deg 0' 45.78" E |
GPSLongitudeRef | East |
GPSMapDatum | WGS-84 |
GPSPosition | 40 deg 21' 25.44" N, 116 deg 0' 45.78" E |
GPSSatellites | 0 |
GPSTimeStamp | 12:30:00 |
GPSVersionID | 2.2.0.0 |
GreenHue | 0 |
GreenSaturation | 0 |
HasCrop | True |
HasSettings | True |
HighlightRecovery | 0 |
HueAdjustmentAqua | 0 |
HueAdjustmentBlue | 0 |
HueAdjustmentGreen | -9 |
HueAdjustmentMagenta | 0 |
HueAdjustmentOrange | 0 |
HueAdjustmentPurple | 0 |
HueAdjustmentRed | 0 |
HueAdjustmentYellow | -2 |
ImageHeight | 533 |
ImageSize | 800x533 |
ImageWidth | 800 |
IncrementalTemperature | -3 |
IncrementalTint | +8 |
ISO | 100 |
Keywords | Bygninger, Friluft/Natur, Landskap, Menneskeskapt, Natur |
Location | Great Wall |
LuminanceAdjustmentAqua | 0 |
LuminanceAdjustmentBlue | 0 |
LuminanceAdjustmentGreen | +30 |
LuminanceAdjustmentMagenta | 0 |
LuminanceAdjustmentOrange | 0 |
LuminanceAdjustmentPurple | 0 |
LuminanceAdjustmentRed | 0 |
LuminanceAdjustmentYellow | 0 |
LuminanceSmoothing | 50 |
Make | Nikon |
MaxApertureValue | 4.0 |
Megapixels | 0.426 |
Model | Nikon Coolscan V / Fuji Reala |
ModifyDate (1) | 2010:03:07 19:00:10+01:00 |
ModifyDate | 2010:03:07 19:00:10 |
PaintCorrectionActive | true |
PaintCorrectionAmount | 1.000000 |
PaintCorrectionBrightness | 0.150000 |
PaintCorrectionClarity | 0.000000 |
PaintCorrectionContrast | 0.000000 |
PaintCorrectionExposure | 0.000000 |
PaintCorrectionHue | 230.000000 |
PaintCorrectionMaskCenterWeight | 0.000000 |
PaintCorrectionMaskFlow | 1.000000 |
PaintCorrectionMaskRadius | 0.157185 |
PaintCorrectionMaskValue | 0.500000 |
PaintCorrectionMaskWhat | Mask/Paint |
PaintCorrectionSaturation | 0.000000 |
PaintCorrectionSharpness | 0.000000 |
PaintCorrectionWhat | Correction |
ParametricDarks | 0 |
ParametricHighlights | +20 |
ParametricHighlightSplit | 75 |
ParametricLights | 0 |
ParametricMidtoneSplit | 50 |
ParametricShadows | -10 |
ParametricShadowSplit | 25 |
PostCropVignetteAmount | 0 |
ProfileDescription | sRGB IEC61966-2.1 |
Province-State | Beijing |
Rating | 5 |
RedHue | 0 |
RedSaturation | 0 |
Rights | Størker Moe |
Saturation | 0 |
SaturationAdjustmentAqua | 0 |
SaturationAdjustmentBlue | 0 |
SaturationAdjustmentGreen | +4 |
SaturationAdjustmentMagenta | 0 |
SaturationAdjustmentOrange | 0 |
SaturationAdjustmentPurple | 0 |
SaturationAdjustmentRed | 0 |
SaturationAdjustmentYellow | +3 |
ScaleFactor35efl | 1.0 |
Shadows | 13 |
ShadowTint | 0 |
SharpenDetail | 25 |
SharpenEdgeMasking | 20 |
SharpenRadius | +1.0 |
Sharpness | 70 |
Software | SilverFast SE v6.6.1r2 |
SplitToningBalance | 0 |
SplitToningHighlightHue | 0 |
SplitToningHighlightSaturation | 0 |
SplitToningShadowHue | 0 |
SplitToningShadowSaturation | 0 |
State | Beijing |
Sub-location | Great Wall |
Subject | Bygninger, Friluft/Natur, Landskap, Menneskeskapt, Natur |
ToneCurve | 0, 0, 32, 16, 64, 50, 128, 128, 192, 202, 255, 255 |
ToneCurveName | Strong Contrast |
UserComment | © Storker Moe |
Version | 5.6 |
Vibrance | +20 |
VignetteAmount | 0 |
WhiteBalance | Custom |