Felt | Verdi |
AlreadyApplied | True |
Aperture | 5.0 |
ApertureValue | 5.0 |
Artist | KJETIL MYHRE 10/07/69:33184 |
BitsPerSample | 8 |
BlueHue | 0 |
BlueSaturation | 0 |
Brightness | +50 |
By-line | KJETIL MYHRE 10/07/69:33184 |
CameraProfile | Camera Standard |
CFAPattern | [Red,Green][Green,Blue] |
ChromaticAberrationB | 0 |
ChromaticAberrationR | 0 |
CircleOfConfusion | 0.030 mm |
Clarity | 0 |
ColorComponents | 3 |
ColorMode | RGB |
ColorNoiseReduction | 25 |
ColorSpace | Uncalibrated |
ColorTemperature | 6550 |
Contrast (2) | +43 |
Contrast | Normal |
ConvertToGrayscale | False |
Copyright | KMAN |
CopyrightNotice | KMAN |
CreateDate (1) | 2010:01:13 11:21:04.76+01:00 |
CreateDate | 2010:01:13 11:21:04 |
Creator | KJETIL MYHRE 10/07/69:33184 |
CreatorTool | Ver.1.01 |
CustomRendered | Normal |
DateTimeDigitized | 2010:01:13 11:21:04.76+01:00 |
DateTimeOriginal (1) | 2010:01:13 11:21:04.76+01:00 |
DateTimeOriginal | 2010:01:13 11:21:04 |
Defringe | 0 |
DigitalZoomRatio | 1 |
ExifImageHeight | 852 |
ExifImageWidth | 1280 |
Exposure | +1.55 |
ExposureCompensation | 0 |
ExposureMode | Auto |
ExposureProgram | Aperture-priority AE |
ExposureTime | 1/640 |
FillLight | 0 |
Flash | No Flash |
FlashFired | False |
FlashFunction | False |
FlashMode | Unknown |
FlashRedEyeMode | False |
FlashReturn | No return detection |
FNumber | 5.0 |
FocalLength | 300.0 mm |
FocalLength35efl | 300.0 mm (35 mm equivalent: 300.0 mm) |
FocalLengthIn35mmFormat | 300 mm |
Format | image/jpeg |
FOV | 6.9 deg |
GainControl | None |
GPSAltitude (2) | 0 m |
GPSAltitude | 0 m Above Sea Level |
GPSAltitudeRef | Above Sea Level |
GPSDateStamp | 2010:01:13 |
GPSDateTime | 2010:01:13 10:22:17Z |
GPSLatitude (2) | 58 deg 44' 33.18" |
GPSLatitude | 58 deg 44' 33.18" N |
GPSLatitudeRef | North |
GPSLongitude (2) | 5 deg 32' 17.66" |
GPSLongitude | 5 deg 32' 17.66" E |
GPSLongitudeRef | East |
GPSPosition | 58 deg 44' 33.18" N, 5 deg 32' 17.66" E |
GPSSatellites | 10 |
GPSTimeStamp | 10:22:17 |
GPSVersionID | 2.2.0.0 |
GreenHue | 0 |
GreenSaturation | 0 |
HasCrop | False |
HasSettings | True |
HighlightRecovery | 0 |
HueAdjustmentAqua | 0 |
HueAdjustmentBlue | 0 |
HueAdjustmentGreen | 0 |
HueAdjustmentMagenta | 0 |
HueAdjustmentOrange | 0 |
HueAdjustmentPurple | 0 |
HueAdjustmentRed | 0 |
HueAdjustmentYellow | 0 |
HyperfocalDistance | 599.08 m |
ICCProfileName | Adobe RGB (1998) |
ImageHeight | 852 |
ImageNumber | 14103 |
ImageSize | 1280x852 |
ImageWidth | 1280 |
ISO | 200 |
Lens | 300.0 mm f/2.8 |
LensInfo | 300mm f/2.8 |
LightSource | Unknown |
LightValue | 13.0 |
LuminanceAdjustmentAqua | 0 |
LuminanceAdjustmentBlue | 0 |
LuminanceAdjustmentGreen | 0 |
LuminanceAdjustmentMagenta | 0 |
LuminanceAdjustmentOrange | 0 |
LuminanceAdjustmentPurple | 0 |
LuminanceAdjustmentRed | 0 |
LuminanceAdjustmentYellow | 0 |
LuminanceSmoothing | 0 |
Make | NIKON CORPORATION |
MaxApertureValue | 2.8 |
Megapixels | 1.1 |
MeteringMode | Multi-segment |
Model | NIKON D700 |
ModifyDate (1) | 2010:02:24 17:20:09+01:00 |
ModifyDate | 2010:02:24 17:20:09 |
Orientation | Horizontal (normal) |
ParametricDarks | 0 |
ParametricHighlights | 0 |
ParametricHighlightSplit | 75 |
ParametricLights | 0 |
ParametricMidtoneSplit | 50 |
ParametricShadows | 0 |
ParametricShadowSplit | 25 |
PostCropVignetteAmount | 0 |
ProfileDescription | Adobe RGB (1998) |
Rating | 0 |
RawFileName | _DSC3879 copy.NEF |
RedHue | 0 |
RedSaturation | 0 |
Rights | KMAN |
Saturation (2) | +5 |
Saturation | Normal |
SaturationAdjustmentAqua | 0 |
SaturationAdjustmentBlue | 0 |
SaturationAdjustmentGreen | 0 |
SaturationAdjustmentMagenta | 0 |
SaturationAdjustmentOrange | +3 |
SaturationAdjustmentPurple | 0 |
SaturationAdjustmentRed | 0 |
SaturationAdjustmentYellow | 0 |
ScaleFactor35efl | 1.0 |
SceneCaptureType | Standard |
SceneType | Directly photographed |
SensingMethod | One-chip color area |
SerialNumber | 2087357 |
Shadows | 5 |
ShadowTint | 0 |
SharpenDetail | 25 |
SharpenEdgeMasking | 0 |
SharpenRadius | +1.0 |
Sharpness (2) | 25 |
Sharpness | Normal |
ShutterSpeed | 1/640 |
ShutterSpeedValue | 1/640 |
Software | Adobe Photoshop CS4 Windows |
SplitToningBalance | 0 |
SplitToningHighlightHue | 0 |
SplitToningHighlightSaturation | 3 |
SplitToningShadowHue | 0 |
SplitToningShadowSaturation | 1 |
SubjectDistanceRange | Unknown |
Tint | -11 |
ToneCurve | 0, 0, 32, 22, 51, 37, 64, 56, 123, 134, 191, 198, 255, 255 |
ToneCurveName | Custom |
URL_List | |
Version | 5.5 |
Vibrance | 0 |
VignetteAmount | 0 |
WhiteBalance (2) | Custom |
WhiteBalance | Auto |