Felt | Verdi |
AlreadyApplied | True |
Aperture | 1.0 |
ApertureValue | 1.0 |
Artist | Tor Atle H. Kleven |
BitsPerSample | 8 |
BlueHue | 0 |
BlueSaturation | 0 |
Brightness | +29 |
By-line | Tor Atle H. Kleven |
CameraProfile | Embedded |
Caption-Abstract | HDR tonemapped |
ChromaticAberrationB | 0 |
ChromaticAberrationR | 0 |
Clarity | +30 |
ColorComponents | 3 |
ColorNoiseReduction | 25 |
Contrast | -21 |
ConvertToGrayscale | False |
Copyright | Tor Atle H. Kleven |
CopyrightFlag | True |
CopyrightNotice | Tor Atle H. Kleven |
Creator | Tor Atle H. Kleven |
CreatorTool | Adobe Photoshop Lightroom |
Defringe | 0 |
Description | HDR tonemapped |
ExifImageHeight | 533 |
ExifImageWidth | 800 |
Exposure | +0.76 |
ExposureTime | 1 |
FillLight | 7 |
FNumber | 1.0 |
FocalLength | 1.0 mm |
FocalLength35efl | 1.0 mm |
GreenHue | 0 |
GreenSaturation | 0 |
HasCrop | False |
HasSettings | True |
HierarchicalSubject | Begivenheter og hendelser|Fritid|Fototur, Bildetype|HDR, Fototur Heimdal-Hestsjøen-Nypan-Tiller-Heimdal |
HighlightRecovery | 0 |
HueAdjustmentAqua | 0 |
HueAdjustmentBlue | 0 |
HueAdjustmentGreen | 0 |
HueAdjustmentMagenta | 0 |
HueAdjustmentOrange | 0 |
HueAdjustmentPurple | 0 |
HueAdjustmentRed | 0 |
HueAdjustmentYellow | 0 |
ImageDescription | HDR tonemapped |
ImageHeight | 533 |
ImageSize | 800x533 |
ImageWidth | 800 |
IncrementalTemperature | -22 |
IncrementalTint | -31 |
ISO | 100 |
Keywords | Fototur, Fototur Heimdal-Hestsjøen-Nypan-Tiller-Heimdal, HDR |
LightValue | 0.0 |
LuminanceAdjustmentAqua | 0 |
LuminanceAdjustmentBlue | 0 |
LuminanceAdjustmentGreen | 0 |
LuminanceAdjustmentMagenta | 0 |
LuminanceAdjustmentOrange | 0 |
LuminanceAdjustmentPurple | 0 |
LuminanceAdjustmentRed | 0 |
LuminanceAdjustmentYellow | 0 |
LuminanceSmoothing | 0 |
Make | Mediachance |
Marked | True |
Megapixels | 0.426 |
ModifyDate (1) | 2009:10:31 01:23:43+01:00 |
ModifyDate | 2009:10:31 01:23:43 |
ParametricDarks | 0 |
ParametricHighlights | 0 |
ParametricHighlightSplit | 75 |
ParametricLights | 0 |
ParametricMidtoneSplit | 50 |
ParametricShadows | 0 |
ParametricShadowSplit | 25 |
PostCropVignetteAmount | 0 |
ProfileDescription | sRGB IEC61966-2.1 |
RedHue | 0 |
RedSaturation | 0 |
Rights | Tor Atle H. Kleven |
Saturation | -12 |
SaturationAdjustmentAqua | -69 |
SaturationAdjustmentBlue | -50 |
SaturationAdjustmentGreen | -74 |
SaturationAdjustmentMagenta | -26 |
SaturationAdjustmentOrange | -50 |
SaturationAdjustmentPurple | -50 |
SaturationAdjustmentRed | -64 |
SaturationAdjustmentYellow | -55 |
Shadows | 25 |
ShadowTint | 0 |
SharpenDetail | 25 |
SharpenEdgeMasking | 0 |
SharpenRadius | +1.0 |
Sharpness | 25 |
ShutterSpeed | 1 |
ShutterSpeedValue | 1 |
Software | Dynamic Photo HDR |
SplitToningBalance | 0 |
SplitToningHighlightHue | 0 |
SplitToningHighlightSaturation | 0 |
SplitToningShadowHue | 0 |
SplitToningShadowSaturation | 0 |
Subject | Fototur, Fototur Heimdal-Hestsjøen-Nypan-Tiller-Heimdal, HDR |
ToneCurve | 0, 0, 32, 22, 64, 56, 128, 128, 192, 196, 255, 255 |
ToneCurveName | Medium Contrast |
Version | 5.5 |
Vibrance | -10 |
VignetteAmount | 0 |
WhiteBalance | Custom |