Felt | Verdi |
AlreadyApplied | True |
Aperture | 5.0 |
ApertureValue | 5.0 |
BitsPerSample | 8 |
BlueHue | 0 |
BlueSaturation | 0 |
Brightness | +61 |
CameraProfile | ACR 4.4 |
ChromaticAberrationB | 0 |
ChromaticAberrationR | 0 |
CircleOfConfusion | 0.019 mm |
Clarity | +33 |
ColorComponents | 1 |
ColorMode | RGB |
ColorNoiseReduction | 25 |
ColorSpace | sRGB |
ColorTemperature | 4500 |
Contrast | +55 |
ConvertToGrayscale | True |
CopyrightFlag | False |
CreateDate (1) | 2009:06:11 22:38:51+02:00 |
CreateDate | 2009:06:02 16:54:04 |
CreatorTool | Adobe Photoshop CS3 Windows |
CropAngle | -8.73962 |
CropBottom | 0.812616 |
CropHeight | 2341 |
CropLeft | 0.104102 |
CropRight | 1 |
CropTop | 0.187384 |
CropUnit | pixels |
CropWidth | 3512 |
CustomRendered | Normal |
DateTimeDigitized | 2009:06:02 16:54:04.03+02:00 |
DateTimeOriginal (1) | 2009:06:02 16:54:04.03+02:00 |
DateTimeOriginal | 2009:06:02 16:54:04 |
Defringe | 0 |
ExifImageHeight | 800 |
ExifImageWidth | 547 |
Exposure | 0.00 |
ExposureCompensation | 0 |
ExposureMode | Auto |
ExposureProgram | Aperture-priority AE |
ExposureTime | 1/8 |
FillLight | 0 |
Firmware | 1.0.9 |
Flash | Off, Did not fire |
FlashCompensation | 0 |
FlashFired | False |
FlashFunction | False |
FlashMode | Off |
FlashRedEyeMode | False |
FlashReturn | No return detection |
FNumber | 5.0 |
FocalLength | 18.0 mm |
FocalLength35efl | 18.0 mm (35 mm equivalent: 29.1 mm) |
Format | image/jpeg |
FOV | 63.5 deg |
GrayMixerAqua | -71 |
GrayMixerBlue | +45 |
GrayMixerGreen | -19 |
GrayMixerMagenta | +10 |
GrayMixerOrange | +5 |
GrayMixerPurple | +12 |
GrayMixerRed | +26 |
GrayMixerYellow | +26 |
GreenHue | 0 |
GreenSaturation | 0 |
HasCrop | True |
HasSettings | True |
HighlightRecovery | 25 |
HyperfocalDistance | 3.48 m |
ICCProfileName | sRGB IEC61966-2.1 |
ImageHeight (1) | 3512 |
ImageHeight | 800 |
ImageNumber | 0 |
ImageSize | 547x800 |
ImageWidth (1) | 2341 |
ImageWidth | 547 |
ISO | 800 |
Lens | 18-125mm |
LensInfo | 18-125mm f/? |
LightValue | 4.6 |
LuminanceSmoothing | 0 |
Make | Canon |
MaxApertureValue | 3.8 |
Megapixels | 0.438 |
MeteringMode | Multi-segment |
Model | Canon EOS 450D |
ModifyDate (1) | 2009:06:11 22:38:51+02:00 |
ModifyDate | 2009:06:11 22:38:51 |
Orientation | Horizontal (normal) |
ParametricDarks | -14 |
ParametricHighlights | +48 |
ParametricHighlightSplit | 75 |
ParametricLights | +29 |
ParametricMidtoneSplit | 50 |
ParametricShadows | -24 |
ParametricShadowSplit | 25 |
PostCropVignetteAmount | 0 |
ProfileDescription | sRGB IEC61966-2.1 |
RedHue | 0 |
RedSaturation | 0 |
ScaleFactor35efl | 1.6 |
SceneCaptureType | Standard |
SerialNumber | 530176788 |
Shadows | 3 |
ShadowTint | 0 |
SharpenDetail | 43 |
SharpenEdgeMasking | 14 |
SharpenRadius | +1.0 |
Sharpness | 80 |
ShutterSpeed | 1/8 |
ShutterSpeedValue | 1/8 |
Software | Adobe Photoshop CS3 Windows |
SplitToningBalance | 0 |
SplitToningHighlightHue | 0 |
SplitToningHighlightSaturation | 0 |
SplitToningShadowHue | 0 |
SplitToningShadowSaturation | 0 |
Tint | +2 |
ToneCurve | 0, 0, 32, 16, 64, 50, 128, 128, 192, 202, 255, 255 |
ToneCurveName | Strong Contrast |
URL_List | |
Version | 4.5 |
VignetteAmount | 0 |
WhiteBalance (2) | As Shot |
WhiteBalance | Auto |