Felt | Verdi |
AlreadyApplied | True |
Aperture | 8.0 |
ApertureValue | 8.0 |
Artist | unknown |
BitsPerSample | 8 |
BlueHue | 0 |
BlueSaturation | 0 |
Brightness | +50 |
By-line | Harald Haakonsen |
CameraProfile | ACR 2.4 |
ChromaticAberrationB | 0 |
ChromaticAberrationR | 0 |
CircleOfConfusion | 0.019 mm |
ColorComponents | 3 |
ColorNoiseReduction | 25 |
ColorTemperature | 5300 |
Contrast | +29 |
ConvertToGrayscale | False |
Copyright | Harald Haakonsen |
CopyrightNotice | Harald Haakonsen |
CreateDate | 2008:02:23 14:17:10 |
Creator | Harald Haakonsen |
CreatorAddress | Fjellveien 16 |
CreatorCountry | Norge |
CreatorPostalCode | 1396 Billingstad |
CreatorTool | Adobe Photoshop Lightroom |
CreatorWorkEmail | harald_haakonsen@yahoo.no |
CreatorWorkURL | home.no/hhfoto |
CustomRendered | Normal |
DateTimeDigitized | 2008:02:23 14:17:10+01:00 |
DateTimeOriginal (1) | 2008:02:23 14:17:10+01:00 |
DateTimeOriginal | 2008:02:23 14:17:10 |
Exposure | +0.33 |
ExposureCompensation | 0 |
ExposureMode | Auto |
ExposureProgram | Aperture-priority AE |
ExposureTime | 1/250 |
FillLight | 14 |
Firmware | 2.0.0 |
Flash | Off, Did not fire |
FlashCompensation | -2 |
FlashFired | False |
FlashFunction | False |
FlashMode | Off |
FlashRedEyeMode | False |
FlashReturn | No return detection |
FNumber | 8.0 |
FocalLength | 18.0 mm |
FocalLength35efl | 18.0 mm (35 mm equivalent: 28.8 mm) |
FOV | 64.0 deg |
GreenHue | 0 |
GreenSaturation | 0 |
HasCrop | False |
HasSettings | True |
HighlightRecovery | 7 |
HueAdjustmentAqua | 0 |
HueAdjustmentBlue | 0 |
HueAdjustmentGreen | 0 |
HueAdjustmentMagenta | 0 |
HueAdjustmentOrange | 0 |
HueAdjustmentPurple | 0 |
HueAdjustmentRed | 0 |
HueAdjustmentYellow | 0 |
HyperfocalDistance | 2.16 m |
ImageHeight | 667 |
ImageNumber | 36 |
ImageSize | 1000x667 |
ImageWidth | 1000 |
ISO | 200 |
Keywords | 2008, Februar, Ski |
Lens | 18.0-55.0 mm |
LensInfo | 18-55mm f/? |
LightValue | 13.0 |
LuminanceAdjustmentAqua | 0 |
LuminanceAdjustmentBlue | 0 |
LuminanceAdjustmentGreen | 0 |
LuminanceAdjustmentMagenta | 0 |
LuminanceAdjustmentOrange | 0 |
LuminanceAdjustmentPurple | 0 |
LuminanceAdjustmentRed | 0 |
LuminanceAdjustmentYellow | 0 |
LuminanceSmoothing | 0 |
Make | Canon |
Megapixels | 0.667 |
MeteringMode | Average |
Model | Canon EOS 20D |
ModifyDate (1) | 2008:08:16 15:42:35+02:00 |
ModifyDate | 2008:08:16 15:42:35 |
OwnerName | unknown |
ParametricDarks | 0 |
ParametricHighlights | 0 |
ParametricHighlightSplit | 75 |
ParametricLights | 0 |
ParametricMidtoneSplit | 50 |
ParametricShadows | 0 |
ParametricShadowSplit | 25 |
PrivateRTKInfo | cHJpdmF0ZVJUS0luZm8gPSB7Cgl7CgkJZmxhdCA9IHsKCQkJIjIwMDgiLAoJCX0sCgkJcGF0aCA9IHsKCQkJIjIwMDgiLAoJCX0sCgkJcHJpbWFyeSA9ICIyMDA4IiwKCQl1dWlkID0gIkNGQzE2QzM2LUI1NUItNEJEOC1CQ0I0LTg1OEVBMUJGNjZFMCIsCgl9LAoJewoJCWZsYXQgPSB7CgkJCSJGZWJydWFyIiwKCQl9LAoJCXBhdGggPSB7CgkJCSJGZWJydWFyIiwKCQl9LAoJCXByaW1hcnkgPSAiRmVicnVhciIsCgkJdXVpZCA9ICJBNUQwMjFCMy0xN0NBLTRFRDktQjlCMS1EQjUwNDNBNzk5MUEiLAoJfSwKCXsKCQlmbGF0ID0gewoJCQkiU2tpIiwKCQl9LAoJCXBhdGggPSB7CgkJCSJTa2kiLAoJCX0sCgkJcHJpbWFyeSA9ICJTa2kiLAoJCXV1aWQgPSAiOEFDQjEyQjctRDVCQy00NjFELUFFODYtMEJERTNFQTkwMzNEIiwKCX0sCn0K |
ProfileDescription | sRGB IEC61966-2.1 |
RedHue | 0 |
RedSaturation | 0 |
Rights | Harald Haakonsen |
Saturation | +8 |
SaturationAdjustmentAqua | 0 |
SaturationAdjustmentBlue | 0 |
SaturationAdjustmentGreen | 0 |
SaturationAdjustmentMagenta | 0 |
SaturationAdjustmentOrange | 0 |
SaturationAdjustmentPurple | 0 |
SaturationAdjustmentRed | 0 |
SaturationAdjustmentYellow | 0 |
ScaleFactor35efl | 1.6 |
SceneCaptureType | Standard |
SerialNumber | 530312943 |
Shadows | 33 |
ShadowTint | 0 |
Sharpness | 25 |
ShutterSpeed | 1/250 |
ShutterSpeedValue | 1/250 |
SplitToningBalance | 0 |
SplitToningHighlightHue | 0 |
SplitToningHighlightSaturation | 0 |
SplitToningShadowHue | 0 |
SplitToningShadowSaturation | 0 |
Subject | 2008, Februar, Ski |
Tint | -6 |
ToneCurve | 0, 0, 32, 22, 64, 56, 128, 128, 192, 196, 255, 255 |
ToneCurveName | Medium Contrast |
Version | 1.0 |
Vibrance | 0 |
VignetteAmount | 0 |
WhiteBalance (2) | As Shot |
WhiteBalance | Auto |