Felt | Verdi |
AlreadyApplied | True |
Aperture | 9.0 |
ApertureValue | 9.0 |
Artist | unknown |
BitsPerSample | 8 |
BlueHue | 0 |
BlueSaturation | 0 |
Brightness | +2 |
By-line | Harald Haakonsen |
CameraProfile | ACR 2.4 |
ChromaticAberrationB | 0 |
ChromaticAberrationR | 0 |
CircleOfConfusion | 0.019 mm |
ColorComponents | 1 |
ColorNoiseReduction | 25 |
ColorTemperature | 5350 |
Contrast | +59 |
ConvertToGrayscale | False |
Copyright | Harald Haakonsen |
CopyrightNotice | Harald Haakonsen |
CreateDate | 2008:04:05 11:46:51 |
Creator | Harald Haakonsen |
CreatorAddress | Fjellveien 16 |
CreatorCountry | Norge |
CreatorPostalCode | 1396 Billingstad |
CreatorTool | Adobe Photoshop Lightroom |
CreatorWorkEmail | harald_haakonsen@yahoo.no |
CreatorWorkURL | home.no/hhfoto |
CropAngle | 0 |
CropBottom | 0.914489 |
CropHeight | 700 |
CropLeft | 0.085511 |
CropRight | 1 |
CropTop | 0 |
CropUnit | pixels |
CropWidth | 1050 |
CustomRendered | Normal |
DateTimeDigitized | 2008:04:05 11:46:51+02:00 |
DateTimeOriginal (1) | 2008:04:05 11:46:51+02:00 |
DateTimeOriginal | 2008:04:05 11:46:51 |
Exposure | +1.18 |
ExposureCompensation | +1 |
ExposureMode | Auto |
ExposureProgram | Aperture-priority AE |
ExposureTime | 1/800 |
FillLight | 24 |
Firmware | 2.0.0 |
Flash | Off, Did not fire |
FlashCompensation | -0.666666666666667 |
FlashFired | False |
FlashFunction | False |
FlashMode | Off |
FlashRedEyeMode | False |
FlashReturn | No return detection |
FNumber | 9.0 |
FocalLength | 50.0 mm |
FocalLength35efl | 50.0 mm (35 mm equivalent: 80.1 mm) |
FOV | 25.3 deg |
GreenHue | 0 |
GreenSaturation | 0 |
HasCrop | True |
HasSettings | True |
HighlightRecovery | 8 |
HueAdjustmentAqua | 0 |
HueAdjustmentBlue | 0 |
HueAdjustmentGreen | 0 |
HueAdjustmentMagenta | 0 |
HueAdjustmentOrange | 0 |
HueAdjustmentPurple | 0 |
HueAdjustmentRed | 0 |
HueAdjustmentYellow | 0 |
HyperfocalDistance | 14.81 m |
ImageHeight | 700 |
ImageNumber | 26 |
ImageSize | 1050x700 |
ImageWidth | 1050 |
ISO | 100 |
Keywords | 2008, April |
Lens | 50.0 mm |
LensInfo | 50mm f/? |
LightValue | 16.0 |
LuminanceAdjustmentAqua | 0 |
LuminanceAdjustmentBlue | 0 |
LuminanceAdjustmentGreen | 0 |
LuminanceAdjustmentMagenta | 0 |
LuminanceAdjustmentOrange | 0 |
LuminanceAdjustmentPurple | 0 |
LuminanceAdjustmentRed | 0 |
LuminanceAdjustmentYellow | 0 |
LuminanceSmoothing | 0 |
Make | Canon |
MaxApertureValue | 1.8 |
Megapixels | 0.735 |
MeteringMode | Average |
Model | Canon EOS 20D |
ModifyDate (1) | 2008:06:09 18:18:06+02:00 |
ModifyDate | 2008:06:09 18:18:06 |
OwnerName | unknown |
ParametricDarks | 0 |
ParametricHighlights | 0 |
ParametricHighlightSplit | 75 |
ParametricLights | 0 |
ParametricMidtoneSplit | 50 |
ParametricShadows | 0 |
ParametricShadowSplit | 25 |
PrivateRTKInfo | cHJpdmF0ZVJUS0luZm8gPSB7Cgl7CgkJZmxhdCA9IHsKCQkJIjIwMDgiLAoJCX0sCgkJcGF0aCA9IHsKCQkJIjIwMDgiLAoJCX0sCgkJcHJpbWFyeSA9ICIyMDA4IiwKCQl1dWlkID0gIkNGQzE2QzM2LUI1NUItNEJEOC1CQ0I0LTg1OEVBMUJGNjZFMCIsCgl9LAoJewoJCWZsYXQgPSB7CgkJCSJBcHJpbCIsCgkJfSwKCQlwYXRoID0gewoJCQkiQXByaWwiLAoJCX0sCgkJcHJpbWFyeSA9ICJBcHJpbCIsCgkJdXVpZCA9ICI5RURFNDdENS0yQTg3LTQ0ODEtODY3Qy1BREQzMUU3QTRDMUMiLAoJfSwKfQo= |
ProfileDescription | sRGB IEC61966-2.1 |
RedHue | 0 |
RedSaturation | 0 |
Rights | Harald Haakonsen |
Saturation | -100 |
SaturationAdjustmentAqua | 0 |
SaturationAdjustmentBlue | 0 |
SaturationAdjustmentGreen | 0 |
SaturationAdjustmentMagenta | 0 |
SaturationAdjustmentOrange | 0 |
SaturationAdjustmentPurple | 0 |
SaturationAdjustmentRed | 0 |
SaturationAdjustmentYellow | 0 |
ScaleFactor35efl | 1.6 |
SceneCaptureType | Standard |
SerialNumber | 530312943 |
Shadows | 20 |
ShadowTint | 0 |
Sharpness | 25 |
ShutterSpeed | 1/800 |
ShutterSpeedValue | 1/800 |
SplitToningBalance | 0 |
SplitToningHighlightHue | 0 |
SplitToningHighlightSaturation | 0 |
SplitToningShadowHue | 0 |
SplitToningShadowSaturation | 0 |
Subject | 2008, April |
Tint | 0 |
ToneCurve | 0, 0, 32, 22, 64, 56, 128, 128, 192, 196, 255, 255 |
ToneCurveName | Medium Contrast |
Version | 1.0 |
Vibrance | 0 |
VignetteAmount | 0 |
WhiteBalance (2) | As Shot |
WhiteBalance | Auto |