Felt | Verdi |
AlreadyApplied | True |
Aperture | 4.0 |
ApertureValue | 4.0 |
Artist | Kurt Gaasoe |
BitsPerSample | 8 |
BlueHue | 0 |
BlueSaturation | 0 |
Brightness | +54 |
By-line | Kurt Gaasoe |
CameraProfile | ACR 3.6 |
ChromaticAberrationB | 0 |
ChromaticAberrationR | 0 |
CircleOfConfusion | 0.019 mm |
Clarity | 83 |
ColorComponents | 3 |
ColorMode | RGB |
ColorNoiseReduction | 25 |
ColorSpace (1) | Unknown (-1) |
ColorSpace | Uncalibrated |
ColorTemperature | 5511 |
Contrast | +46 |
ConvertToGrayscale | False |
Copyright | Kurt Gaasoe |
CopyrightFlag | False |
CopyrightNotice | Kurt Gaasoe |
CreateDate (1) | 2008:05:21 17:05:16+02:00 |
CreateDate | 2008:05:16 16:03:40 |
Creator | Kurt Gaasoe |
CreatorAddress | Lille Bislett 2 |
CreatorCity | Oslo |
CreatorCountry | Norway |
CreatorPostalCode | 0170 |
CreatorRegion | Oslo |
CreatorTool | Adobe Photoshop CS2 Macintosh |
CreatorWorkEmail | goga@online.no |
CropAngle | 0 |
CropBottom | 0.975221 |
CropHeight | 2528 |
CropLeft | 0 |
CropRight | 1 |
CropTop | 0 |
CropUnit | pixels |
CropWidth | 3888 |
CustomRendered | Normal |
DateTimeDigitized | 2008:05:16 16:03:40+02:00 |
DateTimeOriginal (1) | 2008:05:16 16:03:40+02:00 |
DateTimeOriginal | 2008:05:16 16:03:40 |
Defringe | 0 |
ExifImageHeight | 761 |
ExifImageWidth | 1170 |
Exposure | -0.17 |
ExposureCompensation | 0 |
ExposureMode | Manual |
ExposureProgram | Manual |
ExposureTime | 1/400 |
FillLight | 20 |
Firmware | 1.1.1 |
Flash | Off, Did not fire |
FlashCompensation | -1 |
FlashFired | False |
FlashFunction | False |
FlashMode | Off |
FlashRedEyeMode | False |
FlashReturn | No return detection |
FNumber | 4.0 |
FocalLength | 17.0 mm |
FocalLength35efl | 17.0 mm (35 mm equivalent: 27.5 mm) |
Format | image/jpeg |
FOV | 66.4 deg |
GreenHue | 0 |
GreenSaturation | 0 |
HasCrop | True |
HasSettings | True |
HighlightRecovery | 52 |
HueAdjustmentAqua | 0 |
HueAdjustmentBlue | 0 |
HueAdjustmentGreen | 0 |
HueAdjustmentMagenta | 0 |
HueAdjustmentOrange | 0 |
HueAdjustmentPurple | 0 |
HueAdjustmentRed | 0 |
HueAdjustmentYellow | 0 |
HyperfocalDistance | 3.89 m |
ICCProfileName | Adobe RGB (1998) |
ImageHeight (1) | 2528 |
ImageHeight | 761 |
ImageNumber | 32 |
ImageSize | 1170x761 |
ImageWidth (1) | 3888 |
ImageWidth | 1170 |
ISO | 100 |
Keywords | Barcelona, By, Bygg, Spania, gater |
Lens | EF-S17-85mm f/4-5.6 IS USM |
LensInfo | 17-85mm f/? |
LightValue | 12.6 |
LuminanceAdjustmentAqua | 0 |
LuminanceAdjustmentBlue | 0 |
LuminanceAdjustmentGreen | 0 |
LuminanceAdjustmentMagenta | 0 |
LuminanceAdjustmentOrange | 0 |
LuminanceAdjustmentPurple | 0 |
LuminanceAdjustmentRed | 0 |
LuminanceAdjustmentYellow | 0 |
LuminanceSmoothing | 0 |
Make | Canon |
MaxApertureValue | 4.0 |
Megapixels | 0.890 |
MeteringMode | Multi-segment |
Model | Canon EOS 400D DIGITAL |
ModifyDate (1) | 2008:05:21 17:20:04+02:00 |
ModifyDate | 2008:05:21 17:20:04 |
Orientation | Horizontal (normal) |
OwnerName | unknown |
ParametricDarks | 0 |
ParametricHighlights | 0 |
ParametricHighlightSplit | 75 |
ParametricLights | 0 |
ParametricMidtoneSplit | 50 |
ParametricShadows | 0 |
ParametricShadowSplit | 25 |
ProfileDescription | Adobe RGB (1998) |
Rating | 3 |
RedHue | 0 |
RedSaturation | 0 |
Rights | Kurt Gaasoe |
Saturation | 0 |
SaturationAdjustmentAqua | 0 |
SaturationAdjustmentBlue | -60 |
SaturationAdjustmentGreen | 0 |
SaturationAdjustmentMagenta | 0 |
SaturationAdjustmentOrange | 0 |
SaturationAdjustmentPurple | 0 |
SaturationAdjustmentRed | 0 |
SaturationAdjustmentYellow | 0 |
ScaleFactor35efl | 1.6 |
SceneCaptureType | Standard |
SerialNumber | 530167206 |
Shadows | 5 |
ShadowTint | 0 |
SharpenDetail | 60 |
SharpenEdgeMasking | 26 |
SharpenRadius | +1.9 |
Sharpness | 120 |
ShutterSpeed | 1/400 |
ShutterSpeedValue | 1/400 |
Software | Adobe Photoshop CS2 Macintosh |
SplitToningBalance | 0 |
SplitToningHighlightHue | 0 |
SplitToningHighlightSaturation | 0 |
SplitToningShadowHue | 0 |
SplitToningShadowSaturation | 0 |
Subject | Barcelona, By, Bygg, Spania, gater |
Tint | +14 |
ToneCurve | 0, 0, 32, 22, 64, 56, 128, 128, 192, 196, 255, 255 |
ToneCurveName | Medium Contrast |
URL_List | |
Version | 1.0 |
Vibrance | +28 |
VignetteAmount | 0 |
WhiteBalance (2) | Custom |
WhiteBalance | Auto |