Felt | Verdi |
AlreadyApplied | True |
Aperture | 9.0 |
ApertureValue | 9.0 |
Artist | Harald Haakonsen |
BitsPerSample (1) | 16, 16, 16 |
BitsPerSample (2) | 16 16 16 |
BitsPerSample | 8 |
BlueHue | 0 |
BlueSaturation | 0 |
Brightness | +55 |
By-line | Harald Haakonsen |
CameraProfile | ACR 2.4 |
ChromaticAberrationB | 0 |
ChromaticAberrationR | 0 |
CircleOfConfusion | 0.019 mm |
ColorComponents | 3 |
ColorMode | RGB |
ColorNoiseReduction | 25 |
ColorSpace | sRGB |
ColorTemperature | 5350 |
Contrast | +36 |
ConvertToGrayscale | False |
Copyright | Harald Haakonsen |
CopyrightFlag | False |
CopyrightNotice | Harald Haakonsen |
CreateDate (1) | 2007:04:17 22:46:54+02:00 |
CreateDate | 2007:04:13 12:58:35 |
Creator | Harald Haakonsen |
CreatorAddress | Fjellveien 16 |
CreatorCountry | Norge |
CreatorPostalCode | 1396 Billingstad |
CreatorTool | Adobe Photoshop CS2 Windows |
CreatorWorkEmail | harald_haakonsen@yahoo.no |
CreatorWorkURL | home.no/hhfoto |
CropAngle | 0 |
CropBottom | 0.564133 |
CropHeight | 1318 |
CropLeft | 0.069675 |
CropRight | 0.633808 |
CropTop | 0 |
CropUnit | pixels |
CropWidth | 1977 |
CustomRendered | Normal |
DateTimeDigitized | 2007:04:13 12:58:35+02:00 |
DateTimeOriginal (1) | 2007:04:13 12:58:35+02:00 |
DateTimeOriginal | 2007:04:13 12:58:35 |
ExifImageHeight | 667 |
ExifImageWidth | 1000 |
Exposure | +0.89 |
ExposureCompensation | +2/3 |
ExposureMode | Auto |
ExposureProgram | Aperture-priority AE |
ExposureTime | 1/2000 |
FillLight | 21 |
Firmware | 2.0.0 |
Flash | Off, Did not fire |
FlashCompensation | -1 |
FlashFired | False |
FlashFunction | False |
FlashMode | Off |
FlashRedEyeMode | False |
FlashReturn | No return detection |
FNumber | 9.0 |
FocalLength | 126.0 mm |
FocalLength35efl | 126.0 mm (35 mm equivalent: 201.8 mm) |
Format | image/jpeg |
FOV | 10.2 deg |
GreenHue | 0 |
GreenSaturation | 0 |
HasCrop | True |
HasSettings | True |
HighlightRecovery | 9 |
HueAdjustmentAqua | 0 |
HueAdjustmentBlue | 0 |
HueAdjustmentGreen | 0 |
HueAdjustmentMagenta | 0 |
HueAdjustmentOrange | 0 |
HueAdjustmentPurple | 0 |
HueAdjustmentRed | 0 |
HueAdjustmentYellow | 0 |
HyperfocalDistance | 94.02 m |
ICCProfileName | sRGB IEC61966-2.1 |
ImageHeight (1) | 1318 |
ImageHeight | 667 |
ImageNumber | 173 |
ImageSize | 1000x667 |
ImageWidth (1) | 1977 |
ImageWidth | 1000 |
ISO | 200 |
Keywords | April, Freeride, Haukeli, Siggi, Ski |
Lens | 70.0-200.0 mm |
LensInfo | 70-200mm f/? |
LightValue | 16.3 |
LuminanceAdjustmentAqua | 0 |
LuminanceAdjustmentBlue | 0 |
LuminanceAdjustmentGreen | 0 |
LuminanceAdjustmentMagenta | 0 |
LuminanceAdjustmentOrange | 0 |
LuminanceAdjustmentPurple | 0 |
LuminanceAdjustmentRed | 0 |
LuminanceAdjustmentYellow | 0 |
LuminanceSmoothing | 0 |
Make | Canon |
MaxApertureValue | 2.8 |
Megapixels | 0.667 |
MeteringMode | Partial |
Model | Canon EOS 20D |
ModifyDate (1) | 2007:04:17 22:49:26+02:00 |
ModifyDate | 2007:04:17 22:49:26 |
Orientation | Horizontal (normal) |
OwnerName | unknown |
ParametricDarks | 0 |
ParametricHighlights | 0 |
ParametricHighlightSplit | 75 |
ParametricLights | 0 |
ParametricMidtoneSplit | 50 |
ParametricShadows | 0 |
ParametricShadowSplit | 25 |
PhotometricInterpretation | RGB |
PlanarConfiguration | Chunky |
ProfileDescription | sRGB IEC61966-2.1 |
RedHue | 0 |
RedSaturation | 0 |
Rights | Harald Haakonsen |
SamplesPerPixel | 3 |
Saturation | +8 |
SaturationAdjustmentAqua | 0 |
SaturationAdjustmentBlue | 0 |
SaturationAdjustmentGreen | 0 |
SaturationAdjustmentMagenta | 0 |
SaturationAdjustmentOrange | 0 |
SaturationAdjustmentPurple | 0 |
SaturationAdjustmentRed | 0 |
SaturationAdjustmentYellow | 0 |
ScaleFactor35efl | 1.6 |
SceneCaptureType | Standard |
SerialNumber | 530312943 |
Shadows | 8 |
ShadowTint | 0 |
Sharpness | 25 |
ShutterSpeed | 1/2000 |
ShutterSpeedValue | 1/2000 |
Software | Adobe Photoshop CS2 Windows |
SplitToningBalance | 0 |
SplitToningHighlightHue | 0 |
SplitToningHighlightSaturation | 0 |
SplitToningShadowHue | 0 |
SplitToningShadowSaturation | 0 |
Subject | April, Freeride, Haukeli, Siggi, Ski |
Tint | 0 |
ToneCurve | 0, 0, 32, 22, 64, 56, 128, 128, 192, 196, 255, 255 |
ToneCurveName | Medium Contrast |
URL_List | |
Version | 1.0 |
Vibrance | 0 |
VignetteAmount | 0 |
WhiteBalance (2) | As Shot |
WhiteBalance | Auto |