Felt | Verdi |
AbsoluteAltitude | +59.00 |
AlreadyApplied | True |
Aperture | 2.8 |
ApertureValue | 2.8 |
AutoLateralCA | 1 |
BitsPerSample | 8 |
Blacks2012 | +44 |
BlueHue | -6 |
BlueSaturation | -10 |
CameraProfile | Embedded |
CamReverse | 0 |
CircleOfConfusion | 0.006 mm |
City | Nes |
Clarity2012 | 0 |
ColorComponents | 3 |
ColorGradeBlending | 100 |
ColorGradeGlobalHue | 0 |
ColorGradeGlobalLum | 0 |
ColorGradeGlobalSat | 0 |
ColorGradeHighlightLum | 0 |
ColorGradeMidtoneHue | 0 |
ColorGradeMidtoneLum | 0 |
ColorGradeMidtoneSat | 0 |
ColorGradeShadowLum | 0 |
ColorNoiseReduction | 36 |
ColorNoiseReductionDetail | 50 |
ColorNoiseReductionSmoothness | 50 |
ColorSpace | sRGB |
ColorTemperature | 5299 |
ColorTransform | YCbCr |
Contrast | Normal |
Contrast2012 | +16 |
ConvertToGrayscale | False |
Country | Norway |
Country-PrimaryLocationCode | NO |
Country-PrimaryLocationName | Norway |
CountryCode | NO |
CreateDate (1) | 2020:12:30 16:30:42.1 |
CreateDate | 2020:12:30 16:30:42 |
CreatorTool | Adobe Photoshop Lightroom Classic 10.0 (Macintosh) |
CropAngle | 1.22836 |
CropBottom | 0.612998 |
CropConstrainToWarp | 1 |
CropLeft | 0.14848 |
CropRight | 0.87278 |
CropTop | 0.047384 |
DateCreated (1) | 2020:12:30 |
DateCreated | 2020:12:30 16:30:42 |
DateTimeOriginal | 2020:12:30 16:30:42 |
DefringeGreenAmount | 0 |
DefringeGreenHueHi | 60 |
DefringeGreenHueLo | 40 |
DefringePurpleAmount | 0 |
DefringePurpleHueHi | 70 |
DefringePurpleHueLo | 30 |
Dehaze | 0 |
DigitalZoomRatio | 1 |
DistortionCorrectionAlreadyApplied | True |
Exposure2012 | +0.10 |
ExposureCompensation | -1.3 |
ExposureMode | Manual |
ExposureProgram | Manual |
ExposureTime | 1 |
Flash | No Flash |
FlightPitchDegree | +0.90 |
FlightRollDegree | -0.70 |
FlightYawDegree | +158.10 |
FNumber | 2.8 |
FocalLength | 4.5 mm |
FocalLength35efl | 4.5 mm (35 mm equivalent: 24.0 mm) |
FocalLengthIn35mmFormat | 24 mm |
Format | image/jpeg |
FOV | 73.7 deg |
GainControl | None |
GimbalPitchDegree | +1.80 |
GimbalReverse | 0 |
GimbalRollDegree | +0.00 |
GimbalYawDegree | +156.50 |
GPSAltitude | 59 m |
GPSLatitude (2) | 60 deg 34' 19.64" |
GPSLatitude | 60 deg 34' 19.64" N |
GPSLatitudeRef | North |
GPSLongitude (1) | 9 deg 10' 10.34" E |
GPSLongitude (2) | 9 deg 10' 10.33" |
GPSLongitude | 9 deg 10' 10.33" E |
GPSLongitudeRef | East |
GPSPosition | 60 deg 34' 19.64" N, 9 deg 10' 10.33" E |
GPSVersionID | 2.3.0.0 |
GradientBasedCorrActive | true |
GradientBasedCorrAmount | 1.000000 |
GradientBasedCorrBrightness | 0.000000 |
GradientBasedCorrClarity | 0.000000 |
GradientBasedCorrClarity2012 | -0.150000 |
GradientBasedCorrContrast | 0.000000 |
GradientBasedCorrContrast2012 | 0.000000 |
GradientBasedCorrCorrectionRangeMaskColorAmount | 0.500000 |
GradientBasedCorrCorrectionRangeMaskDepthFeather | 0.500000 |
GradientBasedCorrCorrectionRangeMaskDepthMax | 1.000000 |
GradientBasedCorrCorrectionRangeMaskDepthMin | 0.000000 |
GradientBasedCorrCorrectionRangeMaskLumFeather | 0.500000 |
GradientBasedCorrCorrectionRangeMaskLumMax | 1.000000 |
GradientBasedCorrCorrectionRangeMaskLumMin | 0.000000 |
GradientBasedCorrCorrectionRangeMaskType | 0 |
GradientBasedCorrCorrectionRangeMaskVersion | +2 |
GradientBasedCorrDefringe | 0.000000 |
GradientBasedCorrExposure | 0.000000 |
GradientBasedCorrExposure2012 (1) | -0.025770 |
GradientBasedCorrExposure2012 | -0.145624 |
GradientBasedCorrHighlights2012 (1) | 0.889847 |
GradientBasedCorrHighlights2012 | 0.624704 |
GradientBasedCorrHue | 0.000000 |
GradientBasedCorrLocalBlacks2012 | 0.000000 |
GradientBasedCorrLocalDehaze | 0.000000 |
GradientBasedCorrLocalHue | 0.000000 |
GradientBasedCorrLocalTexture | -0.350000 |
GradientBasedCorrLocalWhites2012 | 0.000000 |
GradientBasedCorrLuminanceNoise | 0.000000 |
GradientBasedCorrMaskFullX (1) | 0.510889 |
GradientBasedCorrMaskFullX | 0.531686 |
GradientBasedCorrMaskFullY (1) | 0.249298 |
GradientBasedCorrMaskFullY | 0.647819 |
GradientBasedCorrMaskValue | 1.000000 |
GradientBasedCorrMaskWhat | Mask/Gradient |
GradientBasedCorrMaskZeroX (1) | 0.508587 |
GradientBasedCorrMaskZeroX | 0.528564 |
GradientBasedCorrMaskZeroY (1) | 0.405080 |
GradientBasedCorrMaskZeroY | 0.421165 |
GradientBasedCorrMoire | 0.000000 |
GradientBasedCorrSaturation | 0.000000 |
GradientBasedCorrShadows2012 | 0.000000 |
GradientBasedCorrSharpness | 0.000000 |
GradientBasedCorrTemperature | 0.000000 |
GradientBasedCorrTint | 0.000000 |
GradientBasedCorrWhat | Correction |
GrainAmount | 0 |
GrainFrequency | 40 |
GreenHue | +10 |
GreenSaturation | 0 |
HasCrop | True |
HasSettings | True |
Highlights2012 | -37 |
HueAdjustmentAqua | -12 |
HueAdjustmentBlue | -10 |
HueAdjustmentGreen | +20 |
HueAdjustmentMagenta | +20 |
HueAdjustmentOrange | +3 |
HueAdjustmentPurple | +15 |
HueAdjustmentRed | +6 |
HueAdjustmentYellow | +5 |
HyperfocalDistance | 1.28 m |
ImageHeight | 6568 |
ImageSize | 5254x6568 |
ImageWidth | 5254 |
IsMergedPanorama | True |
ISO | 800 |
LateralChromaticAberrationCorrectionAlreadyApplied | True |
Lens | 24.0 mm f/2.8 |
LensInfo | 24mm f/2.8 |
LensManualDistortionAmount | 0 |
LensModel | 24.0 mm f/2.8 |
LensProfileDistortionScale | 100 |
LensProfileEnable | 1 |
LensProfileFilename | SONY (TAMRON 28-75mm F_2.8 Di III RXD A036) - RAW.lcp |
LensProfileIsEmbedded | False |
LensProfileName | Adobe (TAMRON 28-75mm F/2.8 Di III RXD A036, SONY) |
LensProfileSetup | Custom |
LensProfileVignettingScale | 0 |
LightSource | Daylight |
LightValue | -0.0 |
LuminanceAdjustmentAqua | +10 |
LuminanceAdjustmentBlue | -10 |
LuminanceAdjustmentGreen | -10 |
LuminanceAdjustmentMagenta | 0 |
LuminanceAdjustmentOrange | +4 |
LuminanceAdjustmentPurple | +5 |
LuminanceAdjustmentRed | -5 |
LuminanceAdjustmentYellow | -10 |
LuminanceNoiseReductionContrast | 30 |
LuminanceNoiseReductionDetail | 50 |
LuminanceSmoothing | 20 |
Make | DJI |
MaxApertureValue | 2.8 |
Megapixels | 34.5 |
MeteringMode | Average |
Model | FC3170 |
ModifyDate (1) | 2020:12:30 22:03:26+01:00 |
ModifyDate | 2020:12:30 22:03:26 |
OverrideLookVignette | False |
ParametricDarks | 0 |
ParametricHighlights | 0 |
ParametricHighlightSplit | 87 |
ParametricLights | 0 |
ParametricMidtoneSplit | 40 |
ParametricShadows | 0 |
ParametricShadowSplit | 20 |
PerspectiveAspect | -9 |
PerspectiveHorizontal | 0 |
PerspectiveRotate | 0.0 |
PerspectiveScale | 78 |
PerspectiveUpright | 0 |
PerspectiveVertical | -35 |
PerspectiveX | 0.00 |
PerspectiveY | 0.00 |
PostCropVignetteAmount | 0 |
PreservedFileName | DJI_0193.DNG |
ProcessVersion | 11.0 |
ProfileDescription | sRGB IEC61966-2.1 |
Province-State | Viken |
RedHue | 0 |
RedSaturation | +10 |
RelativeAltitude | +59.00 |
Saturation (1) | +5 |
Saturation | Normal |
SaturationAdjustmentAqua | -10 |
SaturationAdjustmentBlue | -20 |
SaturationAdjustmentGreen | -40 |
SaturationAdjustmentMagenta | -30 |
SaturationAdjustmentOrange | -25 |
SaturationAdjustmentPurple | -30 |
SaturationAdjustmentRed | +10 |
SaturationAdjustmentYellow | -1 |
ScaleFactor35efl | 5.3 |
SceneCaptureType | Standard |
SceneType | Directly photographed |
SelfData | |
SerialNumber | 1TCLH1C03BJ1P9 |
Shadows2012 | +10 |
ShadowTint | 0 |
SharpenDetail | 25 |
SharpenEdgeMasking | 0 |
SharpenRadius | +1.0 |
Sharpness (1) | 25 |
Sharpness | Normal |
ShutterSpeed | 1 |
ShutterSpeedValue | 1 |
Software | Adobe Photoshop Lightroom Classic 10.0 (Macintosh) |
SplitToningBalance | +90 |
SplitToningHighlightHue | 55 |
SplitToningHighlightSaturation | 3 |
SplitToningShadowHue | 55 |
SplitToningShadowSaturation | 10 |
State | Viken |
Texture | 0 |
Tint | -5 |
ToneCurveName2012 | Custom |
ToneCurvePV2012 | 0, 0, 23, 27, 142, 131, 255, 240 |
ToneCurvePV2012Blue | 0, 0, 49, 38, 118, 129, 190, 198, 255, 250 |
ToneCurvePV2012Green | 0, 0, 46, 37, 116, 129, 144, 158, 188, 196, 255, 252 |
ToneCurvePV2012Red | 0, 0, 50, 39, 116, 127, 188, 199, 255, 255 |
Transformation | Perspective |
Version | 13.0 |
Vibrance | 0 |
VignetteAmount | 0 |
VirtualFocalLength | 0.209908 |
VirtualImageXCenter | 0.48103 |
VirtualImageYCenter | 0.275897 |
WhiteBalance (1) | Custom |
WhiteBalance | Auto |
Whites2012 | -6 |