Felt | Verdi |
AlreadyApplied | True |
Aperture | 5.6 |
ApertureValue | 5.6 |
Artist | Steinskog photo |
AutoLateralCA | 1 |
AutoWhiteVersion | 134348800 |
BitsPerSample | 8 |
Blacks2012 | 0 |
BlueHue | 0 |
BlueSaturation | 0 |
BrightnessValue | 4.97 |
By-line | Steinskog photo |
CameraProfile | Camera CLASSIC CHROME |
CircGradBasedCorrActive | true |
CircGradBasedCorrAmount | 1.000000 |
CircGradBasedCorrBrightness | 0.000000 |
CircGradBasedCorrClarity2012 | 0.000000 |
CircGradBasedCorrContrast2012 | 0.000000 |
CircGradBasedCorrCorrectionRangeMaskColorAmount | 0.500000 |
CircGradBasedCorrCorrectionRangeMaskDepthFeather | 0.500000 |
CircGradBasedCorrCorrectionRangeMaskDepthMax | 1.000000 |
CircGradBasedCorrCorrectionRangeMaskDepthMin | 0.000000 |
CircGradBasedCorrCorrectionRangeMaskLumFeather | 0.500000 |
CircGradBasedCorrCorrectionRangeMaskLumMax | 1.000000 |
CircGradBasedCorrCorrectionRangeMaskLumMin | 0.000000 |
CircGradBasedCorrCorrectionRangeMaskType | 0 |
CircGradBasedCorrCorrectionRangeMaskVersion | +2 |
CircGradBasedCorrDefringe | 0.000000 |
CircGradBasedCorrExposure2012 (1) | 0.213605 |
CircGradBasedCorrExposure2012 | 0.079745 |
CircGradBasedCorrHighlights2012 | 0.000000 |
CircGradBasedCorrHue | 294.921997 |
CircGradBasedCorrLocalBlacks2012 | 0.000000 |
CircGradBasedCorrLocalDehaze | 0.000000 |
CircGradBasedCorrLocalTexture | 0.000000 |
CircGradBasedCorrLocalWhites2012 | 0.000000 |
CircGradBasedCorrLuminanceNoise | 0.000000 |
CircGradBasedCorrMaskAngle | 0.000000 |
CircGradBasedCorrMaskBottom (1) | 0.592811 |
CircGradBasedCorrMaskBottom | 0.437347 |
CircGradBasedCorrMaskFeather | +100 |
CircGradBasedCorrMaskFlipped | true |
CircGradBasedCorrMaskLeft (1) | 0.229791 |
CircGradBasedCorrMaskLeft | 0.725771 |
CircGradBasedCorrMaskMidpoint | +50 |
CircGradBasedCorrMaskRight (1) | 0.831311 |
CircGradBasedCorrMaskRight | 0.950355 |
CircGradBasedCorrMaskRoundness | 0 |
CircGradBasedCorrMaskTop (1) | 0.212463 |
CircGradBasedCorrMaskTop | 0.027759 |
CircGradBasedCorrMaskValue | 1.000000 |
CircGradBasedCorrMaskVersion | +2 |
CircGradBasedCorrMaskWhat | Mask/CircularGradient |
CircGradBasedCorrMoire | 0.000000 |
CircGradBasedCorrSaturation | 0.000000 |
CircGradBasedCorrShadows2012 | 0.000000 |
CircGradBasedCorrSharpness | 0.000000 |
CircGradBasedCorrTemperature | 0.000000 |
CircGradBasedCorrTint | 0.000000 |
CircGradBasedCorrWhat | Correction |
CircleOfConfusion | 0.038 mm |
City | Trondheim |
Clarity2012 | +14 |
ColorComponents | 3 |
ColorNoiseReduction | 25 |
ColorNoiseReductionDetail | 50 |
ColorNoiseReductionSmoothness | 50 |
ColorSpace | sRGB |
ColorTemperature | 5550 |
ColorTransform | YCbCr |
Contrast2012 | 0 |
ConvertToGrayscale | False |
Copyright | Øyvind Samdal Steinskog |
CopyrightFlag | True |
CopyrightNotice | Øyvind Samdal Steinskog |
Country | Norway |
Country-PrimaryLocationCode | NO |
Country-PrimaryLocationName | Norway |
CountryCode | NO |
CreateDate | 2019:09:26 17:40:36 |
Creator | Steinskog photo |
CreatorTool | Adobe Photoshop Lightroom Classic 8.4.1 (Macintosh) |
CropAngle | -0.318727 |
CropBottom | 0.99311 |
CropConstrainToWarp | 0 |
CropLeft | 0.065125 |
CropRight | 0.998197 |
CropTop | 0.009132 |
CustomRendered | Normal |
DateCreated (1) | 2019:09:26 |
DateCreated | 2019:09:26 17:40:36 |
DateTimeOriginal | 2019:09:26 17:40:36 |
DefringeGreenAmount | 0 |
DefringeGreenHueHi | 60 |
DefringeGreenHueLo | 40 |
DefringePurpleAmount | 0 |
DefringePurpleHueHi | 70 |
DefringePurpleHueLo | 30 |
Dehaze | 0 |
DistortionCorrectionAlreadyApplied | True |
Exposure2012 | +2.60 |
ExposureCompensation | 0 |
ExposureMode | Manual |
ExposureProgram | Manual |
ExposureTime | 1/250 |
Flash | No Flash |
FNumber | 5.6 |
FocalLength | 100.0 mm |
FocalLength35efl | 100.0 mm (35 mm equivalent: 79.0 mm) |
FocalLengthIn35mmFormat | 79 mm |
Format | image/jpeg |
FOV | 25.7 deg |
GPSAltitude (1) | 0 m |
GPSAltitude | 0 m Above Sea Level |
GPSAltitudeRef | Above Sea Level |
GPSDateStamp | 2019:09:26 |
GPSDateTime | 2019:09:26 15:34:01Z |
GPSLatitude (1) | 63 deg 25' 43.10" |
GPSLatitude | 63 deg 25' 43.10" N |
GPSLatitudeRef | North |
GPSLongitude (1) | 10 deg 24' 2.37" |
GPSLongitude | 10 deg 24' 2.37" E |
GPSLongitudeRef | East |
GPSMapDatum | WGS-84 |
GPSPosition | 63 deg 25' 43.10" N, 10 deg 24' 2.37" E |
GPSSpeed | 0 |
GPSSpeedRef | km/h |
GPSTimeStamp | 15:34:01 |
GPSVersionID | 2.3.0.0 |
GrainAmount | 0 |
GreenHue | 0 |
GreenSaturation | 0 |
HasCrop | True |
HasExtendedXMP | 2E83298F8A9A28C7D07525409E250454 |
HasSettings | True |
Highlights2012 | -35 |
HueAdjustmentAqua | 0 |
HueAdjustmentBlue | -9 |
HueAdjustmentGreen | -24 |
HueAdjustmentMagenta | 0 |
HueAdjustmentOrange | 0 |
HueAdjustmentPurple | 0 |
HueAdjustmentRed | +11 |
HueAdjustmentYellow | -12 |
HyperfocalDistance | 46.95 m |
ImageHeight | 2235 |
ImageSize | 1788x2235 |
ImageWidth | 1788 |
ISO | 160 |
Keywords | Trondheim |
LateralChromaticAberrationCorrectionAlreadyApplied | True |
Lens | GF100-200mmF5.6 R LM OIS WR |
LensInfo | 100-200mm f/5.6 |
LensMake | FUJIFILM |
LensManualDistortionAmount | 0 |
LensModel | GF100-200mmF5.6 R LM OIS WR |
LensProfileEnable | 0 |
LensProfileSetup | LensDefaults |
LensSerialNumber | 95A00142 |
LightSource | Unknown |
LightValue | 12.3 |
LookName | |
LuminanceAdjustmentAqua | 0 |
LuminanceAdjustmentBlue | 0 |
LuminanceAdjustmentGreen | 0 |
LuminanceAdjustmentMagenta | 0 |
LuminanceAdjustmentOrange | 0 |
LuminanceAdjustmentPurple | 0 |
LuminanceAdjustmentRed | 0 |
LuminanceAdjustmentYellow | 0 |
LuminanceSmoothing | 0 |
Make | FUJIFILM |
Marked | True |
MaxApertureValue | 5.7 |
Megapixels | 4.0 |
MeteringMode | Multi-segment |
Model | GFX 50R |
ModifyDate (1) | 2019:10:06 19:48:45+02:00 |
ModifyDate | 2019:10:06 19:48:45 |
OverrideLookVignette | False |
PaintCorrectionActive | true |
PaintCorrectionAmount | 1.000000 |
PaintCorrectionBrightness | 0.000000 |
PaintCorrectionClarity2012 | 0.000000 |
PaintCorrectionContrast2012 | 0.000000 |
PaintCorrectionCorrectionRangeMaskColorAmount | 0.500000 |
PaintCorrectionCorrectionRangeMaskDepthFeather | 0.500000 |
PaintCorrectionCorrectionRangeMaskDepthMax | 1.000000 |
PaintCorrectionCorrectionRangeMaskDepthMin | 0.000000 |
PaintCorrectionCorrectionRangeMaskLumFeather | 0.500000 |
PaintCorrectionCorrectionRangeMaskLumMax (1) | 1.000000 |
PaintCorrectionCorrectionRangeMaskLumMax | 0.674644 |
PaintCorrectionCorrectionRangeMaskLumMin | 0.000000 |
PaintCorrectionCorrectionRangeMaskType (1) | 0 |
PaintCorrectionCorrectionRangeMaskType | +2 |
PaintCorrectionCorrectionRangeMaskVersion | +2 |
PaintCorrectionDefringe | 0.000000 |
PaintCorrectionExposure2012 (1) | 0.176162 |
PaintCorrectionExposure2012 | -0.251239 |
PaintCorrectionHighlights2012 | 0.000000 |
PaintCorrectionHue | 294.921997 |
PaintCorrectionLocalBlacks2012 | 0.000000 |
PaintCorrectionLocalDehaze | 0.000000 |
PaintCorrectionLocalTexture | 0.000000 |
PaintCorrectionLocalWhites2012 | 0.000000 |
PaintCorrectionLuminanceNoise | 0.000000 |
PaintCorrectionMaskCenterWeight | 0.000000 |
PaintCorrectionMaskFlow (1) | 0.089747 |
PaintCorrectionMaskFlow (10) | 0.077094 |
PaintCorrectionMaskFlow (11) | 0.107309 |
PaintCorrectionMaskFlow (13) | 0.170356 |
PaintCorrectionMaskFlow (15) | 0.102351 |
PaintCorrectionMaskFlow (16) | 0.093813 |
PaintCorrectionMaskFlow (17) | 0.165766 |
PaintCorrectionMaskFlow (18) | 0.140285 |
PaintCorrectionMaskFlow (19) | 0.151051 |
PaintCorrectionMaskFlow (2) | 0.082812 |
PaintCorrectionMaskFlow (20) | 0.015707 |
PaintCorrectionMaskFlow (21) | 0.125025 |
PaintCorrectionMaskFlow (22) | 0.144903 |
PaintCorrectionMaskFlow (23) | 0.174055 |
PaintCorrectionMaskFlow (24) | 0.109770 |
PaintCorrectionMaskFlow (25) | 0.048914 |
PaintCorrectionMaskFlow (26) | 0.120958 |
PaintCorrectionMaskFlow (28) | 0.154883 |
PaintCorrectionMaskFlow (29) | 0.143986 |
PaintCorrectionMaskFlow (3) | 0.135872 |
PaintCorrectionMaskFlow (30) | 0.122876 |
PaintCorrectionMaskFlow (31) | 0.146276 |
PaintCorrectionMaskFlow (33) | 0.098100 |
PaintCorrectionMaskFlow (34) | 0.144215 |
PaintCorrectionMaskFlow (35) | 0.173825 |
PaintCorrectionMaskFlow (36) | 0.181554 |
PaintCorrectionMaskFlow (37) | 0.155108 |
PaintCorrectionMaskFlow (38) | 0.169485 |
PaintCorrectionMaskFlow (39) | 0.171660 |
PaintCorrectionMaskFlow (4) | 0.085905 |
PaintCorrectionMaskFlow (40) | 0.044214 |
PaintCorrectionMaskFlow (42) | 0.054120 |
PaintCorrectionMaskFlow (43) | 0.063046 |
PaintCorrectionMaskFlow (44) | 0.108048 |
PaintCorrectionMaskFlow (45) | 0.181766 |
PaintCorrectionMaskFlow (46) | 0.092546 |
PaintCorrectionMaskFlow (48) | 0.080740 |
PaintCorrectionMaskFlow (49) | 0.087445 |
PaintCorrectionMaskFlow (5) | 0.124310 |
PaintCorrectionMaskFlow (50) | 0.100105 |
PaintCorrectionMaskFlow (51) | 0.109033 |
PaintCorrectionMaskFlow (52) | 0.108541 |
PaintCorrectionMaskFlow (53) | 0.135639 |
PaintCorrectionMaskFlow (54) | 0.114916 |
PaintCorrectionMaskFlow (55) | 0.104588 |
PaintCorrectionMaskFlow (56) | 0.109279 |
PaintCorrectionMaskFlow (57) | 0.110261 |
PaintCorrectionMaskFlow (58) | 0.167957 |
PaintCorrectionMaskFlow (59) | 0.097346 |
PaintCorrectionMaskFlow (6) | 0.079961 |
PaintCorrectionMaskFlow (61) | 0.060626 |
PaintCorrectionMaskFlow (62) | 0.183887 |
PaintCorrectionMaskFlow (63) | 0.162902 |
PaintCorrectionMaskFlow (64) | 0.163564 |
PaintCorrectionMaskFlow (65) | 0.014244 |
PaintCorrectionMaskFlow (66) | 0.103595 |
PaintCorrectionMaskFlow (67) | 0.115159 |
PaintCorrectionMaskFlow (68) | 0.119032 |
PaintCorrectionMaskFlow (69) | 0.134470 |
PaintCorrectionMaskFlow (7) | 0.124071 |
PaintCorrectionMaskFlow (70) | 0.069975 |
PaintCorrectionMaskFlow (71) | 0.072617 |
PaintCorrectionMaskFlow (72) | 0.147189 |
PaintCorrectionMaskFlow (73) | 0.110751 |
PaintCorrectionMaskFlow (74) | 0.061703 |
PaintCorrectionMaskFlow (75) | 0.123832 |
PaintCorrectionMaskFlow (76) | 0.112723 |
PaintCorrectionMaskFlow (77) | 0.095835 |
PaintCorrectionMaskFlow (78) | 0.038334 |
PaintCorrectionMaskFlow (79) | 0.105331 |
PaintCorrectionMaskFlow (8) | 0.088981 |
PaintCorrectionMaskFlow (80) | 0.095330 |
PaintCorrectionMaskFlow (81) | 0.018331 |
PaintCorrectionMaskFlow (82) | 0.117099 |
PaintCorrectionMaskFlow (83) | 0.162017 |
PaintCorrectionMaskFlow (84) | 0.090511 |
PaintCorrectionMaskFlow (9) | 0.081000 |
PaintCorrectionMaskFlow | 0.158017 |
PaintCorrectionMaskRadius (34) | 0.038949 |
PaintCorrectionMaskRadius | 0.112120 |
PaintCorrectionMaskValue | 1.000000 |
PaintCorrectionMaskWhat | Mask/Paint |
PaintCorrectionMoire | 0.000000 |
PaintCorrectionSaturation | 0.000000 |
PaintCorrectionShadows2012 | 0.000000 |
PaintCorrectionSharpness | 0.000000 |
PaintCorrectionTemperature | 0.000000 |
PaintCorrectionTint | 0.000000 |
PaintCorrectionWhat | Correction |
ParametricDarks | 0 |
ParametricHighlights | 0 |
ParametricHighlightSplit | 75 |
ParametricLights | 0 |
ParametricMidtoneSplit | 50 |
ParametricShadows | 0 |
ParametricShadowSplit | 25 |
PerspectiveAspect | 0 |
PerspectiveHorizontal | 0 |
PerspectiveRotate | 0.0 |
PerspectiveScale | 100 |
PerspectiveUpright | 0 |
PerspectiveVertical | 0 |
PerspectiveX | 0.00 |
PerspectiveY | 0.00 |
PostCropVignetteAmount | 0 |
PreservedFileName | DSCF4983.RAF |
ProcessVersion | 11.0 |
ProfileDescription | sRGB IEC61966-2.1 |
Province-State | Sør-Trøndelag |
RangeMaskMapInfoRangeMaskMapInfoLabMax | 0.998947 0.539376 0.558755 |
RangeMaskMapInfoRangeMaskMapInfoLabMin | 0.000549 0.485573 0.431327 |
RangeMaskMapInfoRangeMaskMapInfoRGBMax | 0.997650 0.998306 0.998199 |
RangeMaskMapInfoRangeMaskMapInfoRGBMin | 0.000610 0.000671 0.000626 |
Rating | 4 |
RawFileName | 190926_Trondheim_500.RAF |
RedHue | 0 |
RedSaturation | 0 |
Rights | Øyvind Samdal Steinskog |
Saturation | -13 |
SaturationAdjustmentAqua | 0 |
SaturationAdjustmentBlue | +14 |
SaturationAdjustmentGreen | +18 |
SaturationAdjustmentMagenta | 0 |
SaturationAdjustmentOrange | +14 |
SaturationAdjustmentPurple | 0 |
SaturationAdjustmentRed | +13 |
SaturationAdjustmentYellow | 0 |
ScaleFactor35efl | 0.8 |
SceneCaptureType | Standard |
SceneType | Directly photographed |
SensingMethod | One-chip color area |
SensitivityType | Standard Output Sensitivity |
SerialNumber | 84053934 |
Shadows2012 | 0 |
ShadowTint | 0 |
SharpenDetail | 25 |
SharpenEdgeMasking | 0 |
SharpenRadius | +1.0 |
Sharpness (1) | 13 |
Sharpness | Normal |
ShutterSpeed | 1/250 |
ShutterSpeedValue | 1/250 |
Software | Adobe Photoshop Lightroom Classic 8.4.1 (Macintosh) |
SplitToningBalance | 0 |
SplitToningHighlightHue | 0 |
SplitToningHighlightSaturation | 0 |
SplitToningShadowHue | 0 |
SplitToningShadowSaturation | 0 |
StandardOutputSensitivity | 160 |
State | Sør-Trøndelag |
Subject | Trondheim |
SubjectDistanceRange | Unknown |
Texture | +12 |
Tint | +28 |
ToneCurve | 0, 0, 255, 255 |
ToneCurveBlue | 0, 0, 255, 255 |
ToneCurveGreen | 0, 0, 255, 255 |
ToneCurveName | Linear |
ToneCurveName2012 | Custom |
ToneCurvePV2012 | 0, 39, 42, 62, 123, 138, 212, 227, 255, 255 |
ToneCurvePV2012Blue | 0, 0, 40, 22, 129, 128, 209, 234, 255, 255 |
ToneCurvePV2012Green | 0, 0, 38, 22, 129, 128, 213, 230, 255, 255 |
ToneCurvePV2012Red | 0, 0, 40, 25, 128, 128, 214, 229, 255, 255 |
ToneCurveRed | 0, 0, 255, 255 |
ToneMapStrength | 0 |
Version | 11.4.1 |
Vibrance | 0 |
VignetteAmount | 0 |
VignetteCorrectionAlreadyApplied | True |
WhiteBalance | Auto |
Whites2012 | 0 |