Felt | Verdi |
AlreadyApplied | True |
AutoLateralCA | 0 |
BitsPerSample | 8 |
Blacks2012 | 0 |
BlueHue | 0 |
BlueSaturation | 0 |
CameraProfile | Embedded |
CircGradBasedCorrActive | true |
CircGradBasedCorrAmount | 1.000000 |
CircGradBasedCorrBrightness | 0.000000 |
CircGradBasedCorrClarity2012 | 0.000000 |
CircGradBasedCorrContrast2012 | 0.096770 |
CircGradBasedCorrCorrectionRangeMaskColorAmount | 0.500000 |
CircGradBasedCorrCorrectionRangeMaskDepthFeather | 0.500000 |
CircGradBasedCorrCorrectionRangeMaskDepthMax | 1.000000 |
CircGradBasedCorrCorrectionRangeMaskDepthMin | 0.000000 |
CircGradBasedCorrCorrectionRangeMaskLumFeather | 0.500000 |
CircGradBasedCorrCorrectionRangeMaskLumMax | 1.000000 |
CircGradBasedCorrCorrectionRangeMaskLumMin | 0.000000 |
CircGradBasedCorrCorrectionRangeMaskType | 0 |
CircGradBasedCorrCorrectionRangeMaskVersion | +2 |
CircGradBasedCorrDefringe | 0.000000 |
CircGradBasedCorrExposure2012 (4) | 0.548500 |
CircGradBasedCorrExposure2012 (7) | 0.677500 |
CircGradBasedCorrExposure2012 | 0.419250 |
CircGradBasedCorrHighlights2012 | 0.000000 |
CircGradBasedCorrHue | 0.000000 |
CircGradBasedCorrLocalBlacks2012 | 0.000000 |
CircGradBasedCorrLocalDehaze | 0.075270 |
CircGradBasedCorrLocalWhites2012 | 0.000000 |
CircGradBasedCorrLuminanceNoise | 0.000000 |
CircGradBasedCorrMaskAngle (4) | -1.623810 |
CircGradBasedCorrMaskAngle (5) | 0.000000 |
CircGradBasedCorrMaskAngle | 8.321300 |
CircGradBasedCorrMaskBottom (1) | 0.983986 |
CircGradBasedCorrMaskBottom (10) | 0.669040 |
CircGradBasedCorrMaskBottom (11) | 0.466193 |
CircGradBasedCorrMaskBottom (2) | 0.817616 |
CircGradBasedCorrMaskBottom (3) | 0.320285 |
CircGradBasedCorrMaskBottom (4) | 1.027200 |
CircGradBasedCorrMaskBottom (5) | 0.664591 |
CircGradBasedCorrMaskBottom (6) | 0.924377 |
CircGradBasedCorrMaskBottom (7) | 0.330070 |
CircGradBasedCorrMaskBottom (8) | 0.971531 |
CircGradBasedCorrMaskBottom (9) | 0.928826 |
CircGradBasedCorrMaskBottom | 0.998088 |
CircGradBasedCorrMaskFeather | +100 |
CircGradBasedCorrMaskFlipped | true |
CircGradBasedCorrMaskLeft (1) | 0.438908 |
CircGradBasedCorrMaskLeft (10) | 0.025504 |
CircGradBasedCorrMaskLeft (11) | -0.087189 |
CircGradBasedCorrMaskLeft (2) | 0.408066 |
CircGradBasedCorrMaskLeft (3) | 0.147686 |
CircGradBasedCorrMaskLeft (4) | -0.077609 |
CircGradBasedCorrMaskLeft (5) | 0.499406 |
CircGradBasedCorrMaskLeft (6) | 0.721826 |
CircGradBasedCorrMaskLeft (7) | -0.007118 |
CircGradBasedCorrMaskLeft (8) | 0.292408 |
CircGradBasedCorrMaskLeft (9) | 0.130486 |
CircGradBasedCorrMaskLeft | 0.013844 |
CircGradBasedCorrMaskMidpoint | +50 |
CircGradBasedCorrMaskRight (1) | 0.711744 |
CircGradBasedCorrMaskRight (10) | 0.273428 |
CircGradBasedCorrMaskRight (11) | 0.160735 |
CircGradBasedCorrMaskRight (2) | 0.680902 |
CircGradBasedCorrMaskRight (3) | 0.420522 |
CircGradBasedCorrMaskRight (4) | 0.284013 |
CircGradBasedCorrMaskRight (5) | 0.772242 |
CircGradBasedCorrMaskRight (6) | 0.994662 |
CircGradBasedCorrMaskRight (7) | 0.265718 |
CircGradBasedCorrMaskRight (8) | 0.565244 |
CircGradBasedCorrMaskRight (9) | 0.378410 |
CircGradBasedCorrMaskRight | 0.100034 |
CircGradBasedCorrMaskRoundness | 0 |
CircGradBasedCorrMaskTop (1) | 0.798932 |
CircGradBasedCorrMaskTop (10) | 0.483986 |
CircGradBasedCorrMaskTop (11) | 0.281139 |
CircGradBasedCorrMaskTop (2) | 0.632562 |
CircGradBasedCorrMaskTop (3) | -0.064057 |
CircGradBasedCorrMaskTop (4) | 0.102696 |
CircGradBasedCorrMaskTop (5) | 0.479537 |
CircGradBasedCorrMaskTop (6) | 0.739323 |
CircGradBasedCorrMaskTop (7) | -0.013346 |
CircGradBasedCorrMaskTop (8) | 0.786477 |
CircGradBasedCorrMaskTop (9) | 0.743772 |
CircGradBasedCorrMaskTop | 0.603336 |
CircGradBasedCorrMaskValue | 1.000000 |
CircGradBasedCorrMaskVersion | +2 |
CircGradBasedCorrMaskWhat | Mask/CircularGradient |
CircGradBasedCorrMoire | 0.000000 |
CircGradBasedCorrSaturation | 0.000000 |
CircGradBasedCorrShadows2012 | 0.000000 |
CircGradBasedCorrSharpness | 0.182800 |
CircGradBasedCorrTemperature | 0.000000 |
CircGradBasedCorrTint | 0.000000 |
CircGradBasedCorrWhat | Correction |
Clarity2012 | +8 |
ColorComponents | 3 |
ColorNoiseReduction | 0 |
ColorSpace | sRGB |
ColorTransform | YCbCr |
Contrast2012 | +57 |
ConvertToGrayscale | False |
CreateDate | 2019:03:02 23:53:35 |
CreatorTool | Adobe Photoshop Lightroom Classic 8.2 (Windows) |
DateCreated (1) | 2019:03:02 |
DateCreated | 2019:03:02 23:53:35 |
DateTimeOriginal | 2019:03:02 23:53:35 |
DefringeGreenAmount | 0 |
DefringeGreenHueHi | 60 |
DefringeGreenHueLo | 40 |
DefringePurpleAmount | 0 |
DefringePurpleHueHi | 70 |
DefringePurpleHueLo | 30 |
Dehaze | -18 |
Exposure2012 | -0.38 |
Format | image/jpeg |
GrainAmount | 0 |
GreenHue | 0 |
GreenSaturation | 0 |
HasCrop | False |
HasSettings | True |
Highlights2012 | +5 |
HueAdjustmentAqua | 0 |
HueAdjustmentBlue | 0 |
HueAdjustmentGreen | 0 |
HueAdjustmentMagenta | 0 |
HueAdjustmentOrange | 0 |
HueAdjustmentPurple | 0 |
HueAdjustmentRed | 0 |
HueAdjustmentYellow | 0 |
ImageHeight | 800 |
ImageSize | 1200x800 |
ImageWidth | 1200 |
IncrementalTemperature | 0 |
IncrementalTint | 0 |
Keywords | 03, 0319 |
Lens | XF27mmF2.8 |
LensInfo | 27mm f/2.8 |
LensManualDistortionAmount | 0 |
LensModel | XF27mmF2.8 |
LensProfileEnable | 0 |
LensProfileSetup | LensDefaults |
LensSerialNumber | 33A03683 |
LookName | |
LuminanceAdjustmentAqua | 0 |
LuminanceAdjustmentBlue | 0 |
LuminanceAdjustmentGreen | 0 |
LuminanceAdjustmentMagenta | 0 |
LuminanceAdjustmentOrange | 0 |
LuminanceAdjustmentPurple | 0 |
LuminanceAdjustmentRed | 0 |
LuminanceAdjustmentYellow | 0 |
LuminanceSmoothing | 0 |
Make | FUJIFILM |
Megapixels | 0.960 |
Model | X-T1 |
ModifyDate (1) | 2019:03:24 12:05:51+01:00 |
ModifyDate | 2019:03:24 12:05:51 |
OverrideLookVignette | False |
ParametricDarks | -17 |
ParametricHighlights | +34 |
ParametricHighlightSplit | 75 |
ParametricLights | 0 |
ParametricMidtoneSplit | 50 |
ParametricShadows | +19 |
ParametricShadowSplit | 25 |
PerspectiveAspect | 0 |
PerspectiveHorizontal | 0 |
PerspectiveRotate | 0.0 |
PerspectiveScale | 100 |
PerspectiveUpright | 0 |
PerspectiveVertical | 0 |
PerspectiveX | 0.00 |
PerspectiveY | 0.00 |
PostCropVignetteAmount | -29 |
PostCropVignetteFeather | 50 |
PostCropVignetteHighlightContrast | 0 |
PostCropVignetteMidpoint | 78 |
PostCropVignetteRoundness | 0 |
PostCropVignetteStyle | 1 |
ProcessVersion | 11.0 |
ProfileDescription | sRGB IEC61966-2.1 |
RawFileName | |
RedHue | 0 |
RedSaturation | 0 |
Saturation | 0 |
SaturationAdjustmentAqua | 0 |
SaturationAdjustmentBlue | 0 |
SaturationAdjustmentGreen | 0 |
SaturationAdjustmentMagenta | 0 |
SaturationAdjustmentOrange | 0 |
SaturationAdjustmentPurple | 0 |
SaturationAdjustmentRed | 0 |
SaturationAdjustmentYellow | 0 |
Shadows2012 | 0 |
ShadowTint | 0 |
SharpenDetail | 25 |
SharpenEdgeMasking | 0 |
SharpenRadius | +1.0 |
Sharpness | 0 |
Software | Adobe Photoshop Lightroom Classic 8.2 (Windows) |
SplitToningBalance | 0 |
SplitToningHighlightHue | 0 |
SplitToningHighlightSaturation | 0 |
SplitToningShadowHue | 0 |
SplitToningShadowSaturation | 0 |
Subject | 03, 0319 |
ToneCurve | 0, 0, 255, 255 |
ToneCurveBlue | 0, 0, 255, 255 |
ToneCurveGreen | 0, 0, 255, 255 |
ToneCurveName | Linear |
ToneCurveName2012 | Linear |
ToneCurvePV2012 | 0, 0, 255, 255 |
ToneCurvePV2012Blue | 0, 0, 255, 255 |
ToneCurvePV2012Green | 0, 0, 255, 255 |
ToneCurvePV2012Red | 0, 0, 255, 255 |
ToneCurveRed | 0, 0, 255, 255 |
ToneMapStrength | 0 |
Version | 11.2 |
Vibrance | 0 |
VignetteAmount | 0 |
WhiteBalance | As Shot |
Whites2012 | 0 |