Felt | Verdi |
AlreadyApplied | True |
Aperture | 20.0 |
ApertureValue | 20.0 |
ApproximateFocusDistance | 12.6 |
Artist | Ole Harald Jensen
AutoLateralCA | 1 |
BitsPerSample | 8 |
Blacks2012 | +5 |
BlueHue | 0 |
BlueSaturation | 0 |
By-line | Ole Harald Jensen
CameraProfile | Embedded |
CircleOfConfusion | 0.030 mm |
Clarity2012 | +52 |
ColorComponents | 3 |
ColorNoiseReduction | 0 |
ColorSpace | sRGB |
ColorTransform | YCbCr |
Contrast2012 | +10 |
ConvertToGrayscale | False |
CreateDate (1) | 2019:03:02 06:31:29.78 |
CreateDate | 2019:03:02 06:31:29 |
Creator | Ole Harald Jensen
CreatorTool | Adobe Photoshop Lightroom Classic 8.2 (Windows) |
CropAngle | 0 |
CropBottom | 0.958333 |
CropConstrainToWarp | 0 |
CropLeft | 0 |
CropRight | 1 |
CropTop | 0.19213 |
CustomRendered | Normal |
DateCreated (1) | 2019:03:02 |
DateCreated | 2019:03:02 06:31:29.78 |
DateTimeOriginal | 2019:03:02 06:31:29 |
DefringeGreenAmount | 0 |
DefringeGreenHueHi | 60 |
DefringeGreenHueLo | 40 |
DefringePurpleAmount | 0 |
DefringePurpleHueHi | 70 |
DefringePurpleHueLo | 30 |
Dehaze | +24 |
DistortionCorrectionAlreadyApplied | True |
DOF | inf (4.53 m - inf) |
Exposure2012 | +1.07 |
ExposureCompensation | -1 |
ExposureMode | Auto |
ExposureProgram | Aperture-priority AE |
ExposureTime | 0.8 |
Firmware | 1.0.1 |
Flash | No Flash |
FlashCompensation | 0 |
FNumber | 20.0 |
FocalLength | 65.0 mm |
FocalLength35efl | 65.0 mm (35 mm equivalent: 65.1 mm) |
Format | image/jpeg |
FOV | 30.9 deg |
GradientBasedCorrActive | true |
GradientBasedCorrAmount | 1.000000 |
GradientBasedCorrBrightness | 0.000000 |
GradientBasedCorrClarity2012 (1) | 0.456520 |
GradientBasedCorrClarity2012 | 0.304350 |
GradientBasedCorrContrast2012 (1) | 0.173910 |
GradientBasedCorrContrast2012 | 0.130430 |
GradientBasedCorrCorrectionRangeMaskColorAmount | 0.500000 |
GradientBasedCorrCorrectionRangeMaskDepthFeather | 0.500000 |
GradientBasedCorrCorrectionRangeMaskDepthMax | 1.000000 |
GradientBasedCorrCorrectionRangeMaskDepthMin | 0.000000 |
GradientBasedCorrCorrectionRangeMaskLumFeather | 0.500000 |
GradientBasedCorrCorrectionRangeMaskLumMax | 1.000000 |
GradientBasedCorrCorrectionRangeMaskLumMin | 0.000000 |
GradientBasedCorrCorrectionRangeMaskType | 0 |
GradientBasedCorrCorrectionRangeMaskVersion | +2 |
GradientBasedCorrDefringe | 0.000000 |
GradientBasedCorrExposure2012 (1) | 0.000000 |
GradientBasedCorrExposure2012 | 0.087000 |
GradientBasedCorrHighlights2012 (1) | -1.000000 |
GradientBasedCorrHighlights2012 | -0.217390 |
GradientBasedCorrHue | 240.000000 |
GradientBasedCorrLocalBlacks2012 | 0.000000 |
GradientBasedCorrLocalDehaze (1) | 0.260870 |
GradientBasedCorrLocalDehaze | 0.152170 |
GradientBasedCorrLocalWhites2012 | 0.000000 |
GradientBasedCorrLuminanceNoise | 0.000000 |
GradientBasedCorrMaskFullX (1) | 0.485819 |
GradientBasedCorrMaskFullX | 0.517818 |
GradientBasedCorrMaskFullY (1) | 0.150966 |
GradientBasedCorrMaskFullY | 0.953611 |
GradientBasedCorrMaskValue | 1.000000 |
GradientBasedCorrMaskWhat | Mask/Gradient |
GradientBasedCorrMaskZeroX (1) | 0.499949 |
GradientBasedCorrMaskZeroX | 0.468771 |
GradientBasedCorrMaskZeroY (1) | 0.875040 |
GradientBasedCorrMaskZeroY | 0.432197 |
GradientBasedCorrMoire | 0.000000 |
GradientBasedCorrSaturation (1) | 0.130430 |
GradientBasedCorrSaturation (3) | 0.456520 |
GradientBasedCorrSaturation | 0.000000 |
GradientBasedCorrShadows2012 (1) | 0.000000 |
GradientBasedCorrShadows2012 | 0.500000 |
GradientBasedCorrSharpness | 0.250000 |
GradientBasedCorrTemperature | 0.000000 |
GradientBasedCorrTint | 0.000000 |
GradientBasedCorrWhat | Correction |
GrainAmount | 0 |
GreenHue | 0 |
GreenSaturation | 0 |
HasCrop | True |
HasExtendedXMP | 1890F67B5EF6C8F288CF42E59E0176A1 |
HasSettings | True |
Highlights2012 | -90 |
HueAdjustmentAqua | 0 |
HueAdjustmentBlue | 0 |
HueAdjustmentGreen | 0 |
HueAdjustmentMagenta | 0 |
HueAdjustmentOrange | 0 |
HueAdjustmentPurple | 0 |
HueAdjustmentRed | 0 |
HueAdjustmentYellow | 0 |
HyperfocalDistance | 7.04 m |
ImageHeight | 736 |
ImageNumber | 0 |
ImageSize | 1440x736 |
ImageWidth | 1440 |
IncrementalTemperature | +10 |
IncrementalTint | +19 |
ISO | 100 |
LateralChromaticAberrationCorrectionAlreadyApplied | True |
Lens | TAMRON 28-300mm F/3.5-6.3 Di VC PZD A010 |
LensID (1) | 46 |
LensID | Canon EF 28-90mm f/4-5.6 |
LensInfo | 28-300mm f/? |
LensManualDistortionAmount | 0 |
LensModel | TAMRON 28-300mm F/3.5-6.3 Di VC PZD A010 |
LensProfileChromaticAberrationScale | 100 |
LensProfileDistortionScale | 100 |
LensProfileEnable | 1 |
LensProfileFilename | Canon EOS-1Ds Mark III (Tamron Di 28-75mm f2.8 SP XR LD IF).lcp |
LensProfileName | Adobe (Tamron Di 28-75mm f/2.8 SP XR LD IF) |
LensProfileSetup | Custom |
LensProfileVignettingScale | 100 |
LensSerialNumber | 0000000000 |
LightValue | 9.0 |
LookName | |
LuminanceAdjustmentAqua | 0 |
LuminanceAdjustmentBlue | 0 |
LuminanceAdjustmentGreen | 0 |
LuminanceAdjustmentMagenta | 0 |
LuminanceAdjustmentOrange | 0 |
LuminanceAdjustmentPurple | 0 |
LuminanceAdjustmentRed | 0 |
LuminanceAdjustmentYellow | 0 |
LuminanceSmoothing | 0 |
Make | Canon |
MaxApertureValue | 4.8 |
Megapixels | 1.1 |
MeteringMode | Multi-segment |
Model | Canon EOS RP |
ModifyDate (1) | 2019:03:02 10:42:57+01:00 |
ModifyDate | 2019:03:02 10:42:57 |
OverrideLookVignette | False |
PaintCorrectionActive | true |
PaintCorrectionAmount | 1.000000 |
PaintCorrectionBrightness | 0.000000 |
PaintCorrectionClarity2012 (1) | 0.326090 |
PaintCorrectionClarity2012 (2) | 0.282610 |
PaintCorrectionClarity2012 (3) | 0.195650 |
PaintCorrectionClarity2012 (4) | 0.260870 |
PaintCorrectionClarity2012 (5) | 0.152170 |
PaintCorrectionClarity2012 | 0.347830 |
PaintCorrectionContrast2012 (1) | 0.347830 |
PaintCorrectionContrast2012 (4) | 0.195650 |
PaintCorrectionContrast2012 (5) | 0.173910 |
PaintCorrectionContrast2012 (6) | 0.391300 |
PaintCorrectionContrast2012 | 0.000000 |
PaintCorrectionCorrectionRangeMaskColorAmount | 0.500000 |
PaintCorrectionCorrectionRangeMaskDepthFeather | 0.500000 |
PaintCorrectionCorrectionRangeMaskDepthMax | 1.000000 |
PaintCorrectionCorrectionRangeMaskDepthMin | 0.000000 |
PaintCorrectionCorrectionRangeMaskLumFeather | 0.500000 |
PaintCorrectionCorrectionRangeMaskLumMax | 1.000000 |
PaintCorrectionCorrectionRangeMaskLumMin | 0.000000 |
PaintCorrectionCorrectionRangeMaskType | 0 |
PaintCorrectionCorrectionRangeMaskVersion | +2 |
PaintCorrectionDefringe | 0.000000 |
PaintCorrectionExposure2012 (1) | 0.347750 |
PaintCorrectionExposure2012 (2) | 0.434750 |
PaintCorrectionExposure2012 (3) | 0.000000 |
PaintCorrectionExposure2012 (5) | 0.087000 |
PaintCorrectionExposure2012 | -0.152250 |
PaintCorrectionHighlights2012 (1) | 0.413040 |
PaintCorrectionHighlights2012 (2) | 0.326090 |
PaintCorrectionHighlights2012 (3) | 0.369570 |
PaintCorrectionHighlights2012 (5) | 0.304350 |
PaintCorrectionHighlights2012 (6) | 0.391300 |
PaintCorrectionHighlights2012 | -1.000000 |
PaintCorrectionHue | 240.000000 |
PaintCorrectionLocalBlacks2012 | 0.000000 |
PaintCorrectionLocalDehaze (1) | -0.130430 |
PaintCorrectionLocalDehaze (2) | -0.043480 |
PaintCorrectionLocalDehaze (3) | 0.195650 |
PaintCorrectionLocalDehaze (5) | 0.000000 |
PaintCorrectionLocalDehaze (6) | -0.086960 |
PaintCorrectionLocalDehaze (7) | -0.173910 |
PaintCorrectionLocalDehaze | -0.260870 |
PaintCorrectionLocalWhites2012 (3) | 0.000000 |
PaintCorrectionLocalWhites2012 | 0.130430 |
PaintCorrectionLuminanceNoise | 0.000000 |
PaintCorrectionMaskCenterWeight | 0.000000 |
PaintCorrectionMaskFlow | 0.842000 |
PaintCorrectionMaskRadius (1) | 0.063521 |
PaintCorrectionMaskRadius (2) | 0.013174 |
PaintCorrectionMaskRadius (3) | 0.062886 |
PaintCorrectionMaskRadius (4) | 0.061977 |
PaintCorrectionMaskRadius (5) | 0.049735 |
PaintCorrectionMaskRadius (6) | 0.084390 |
PaintCorrectionMaskRadius (7) | 0.037204 |
PaintCorrectionMaskRadius (8) | 0.050248 |
PaintCorrectionMaskRadius (9) | 0.049487 |
PaintCorrectionMaskRadius | 0.070782 |
PaintCorrectionMaskValue | 0.791000 |
PaintCorrectionMaskWhat | Mask/Paint |
PaintCorrectionMoire | 0.000000 |
PaintCorrectionSaturation (1) | 0.108700 |
PaintCorrectionSaturation (5) | 0.195650 |
PaintCorrectionSaturation (7) | 0.239130 |
PaintCorrectionSaturation | 0.000000 |
PaintCorrectionShadows2012 (1) | 0.565220 |
PaintCorrectionShadows2012 (2) | 0.260870 |
PaintCorrectionShadows2012 (3) | 0.282610 |
PaintCorrectionShadows2012 (5) | 0.478260 |
PaintCorrectionShadows2012 (6) | 0.239130 |
PaintCorrectionShadows2012 (7) | -0.108700 |
PaintCorrectionShadows2012 | 0.000000 |
PaintCorrectionSharpness | 0.250000 |
PaintCorrectionTemperature (3) | 0.130430 |
PaintCorrectionTemperature | 0.000000 |
PaintCorrectionTint (3) | 0.173910 |
PaintCorrectionTint | 0.000000 |
PaintCorrectionWhat | Correction |
ParametricDarks | +26 |
ParametricHighlights | +63 |
ParametricHighlightSplit | 75 |
ParametricLights | +32 |
ParametricMidtoneSplit | 50 |
ParametricShadows | +48 |
ParametricShadowSplit | 25 |
PerspectiveAspect | 0 |
PerspectiveHorizontal | 0 |
PerspectiveRotate | 0.0 |
PerspectiveScale | 100 |
PerspectiveUpright | 0 |
PerspectiveVertical | 0 |
PerspectiveX | 0.00 |
PerspectiveY | 0.00 |
PostCropVignetteAmount | 0 |
ProcessVersion | 11.0 |
ProfileDescription | sRGB IEC61966-2.1 |
RawFileName | |
RecommendedExposureIndex | 100 |
RedHue | 0 |
RedSaturation | 0 |
Ronning Ostgor |
Ronning Ostgordsvei 31 9180 Skjervoy |
Saturation | +31 |
SaturationAdjustmentAqua | 0 |
SaturationAdjustmentBlue | 0 |
SaturationAdjustmentGreen | 0 |
SaturationAdjustmentMagenta | 0 |
SaturationAdjustmentOrange | 0 |
SaturationAdjustmentPurple | 0 |
SaturationAdjustmentRed | 0 |
SaturationAdjustmentYellow | 0 |
ScaleFactor35efl | 1.0 |
SceneCaptureType | Standard |
SensitivityType | Recommended Exposure Index |
SerialNumber | 023021005939 |
Shadows2012 | +100 |
ShadowTint | 0 |
SharpenDetail | 25 |
SharpenEdgeMasking | 0 |
SharpenRadius | +1.0 |
Sharpness | 0 |
ShutterSpeed | 0.8 |
ShutterSpeedValue | 0.8 |
Software | Adobe Photoshop Lightroom Classic 8.2 (Windows) |
SplitToningBalance | 0 |
SplitToningHighlightHue | 0 |
SplitToningHighlightSaturation | 0 |
SplitToningShadowHue | 0 |
SplitToningShadowSaturation | 0 |
ToneCurve | 0, 0, 255, 255 |
ToneCurveBlue | 0, 0, 255, 255 |
ToneCurveGreen | 0, 0, 255, 255 |
ToneCurveName | Linear |
ToneCurveName2012 | Linear |
ToneCurvePV2012 | 0, 0, 255, 255 |
ToneCurvePV2012Blue | 0, 0, 255, 255 |
ToneCurvePV2012Green | 0, 0, 255, 255 |
ToneCurvePV2012Red | 0, 0, 255, 255 |
ToneCurveRed | 0, 0, 255, 255 |
ToneMapStrength | 0 |
Version | 11.2 |
Vibrance | +29 |
VignetteAmount | 0 |
VignetteCorrectionAlreadyApplied | True |
WhiteBalance (1) | Custom |
WhiteBalance | Auto |
Whites2012 | +14 |