Felt | Verdi |
AlreadyApplied | True |
Aperture | 5.0 |
ApertureValue | 5.0 |
Artist | Tomasz Slawinski
AutoLateralCA | 1 |
BitsPerSample | 8 |
Blacks2012 | -24 |
BlueHue | -10 |
BlueSaturation | -52 |
By-line | Tomasz Slawinski
CameraProfile | Adobe Standard |
CircGradBasedCorrActive | true |
CircGradBasedCorrAmount | 1.000000 |
CircGradBasedCorrBrightness | 0.000000 |
CircGradBasedCorrClarity2012 | -0.427115 |
CircGradBasedCorrContrast2012 | 0.142626 |
CircGradBasedCorrCorrectionRangeMaskColorAmount | 0.500000 |
CircGradBasedCorrCorrectionRangeMaskLumFeather | 0.373839 |
CircGradBasedCorrCorrectionRangeMaskLumMax | 0.497646 |
CircGradBasedCorrCorrectionRangeMaskLumMin | 0.307363 |
CircGradBasedCorrCorrectionRangeMaskType | 0 |
CircGradBasedCorrCorrectionRangeMaskVersion | +2 |
CircGradBasedCorrDefringe | 0.000000 |
CircGradBasedCorrExposure2012 | -0.352896 |
CircGradBasedCorrHighlights2012 | 0.000000 |
CircGradBasedCorrHue | 240.000000 |
CircGradBasedCorrLocalBlacks2012 | 0.000000 |
CircGradBasedCorrLocalDehaze | 0.000000 |
CircGradBasedCorrLocalWhites2012 | 0.000000 |
CircGradBasedCorrLuminanceNoise | 0.567073 |
CircGradBasedCorrMaskAngle | 0.222689 |
CircGradBasedCorrMaskBottom | 0.770029 |
CircGradBasedCorrMaskFeather | +50 |
CircGradBasedCorrMaskFlipped | false |
CircGradBasedCorrMaskLeft | -0.370701 |
CircGradBasedCorrMaskMidpoint | +50 |
CircGradBasedCorrMaskRight | 0.934175 |
CircGradBasedCorrMaskRoundness | 0 |
CircGradBasedCorrMaskTop | 0.196111 |
CircGradBasedCorrMaskValue | 1.000000 |
CircGradBasedCorrMaskVersion | +2 |
CircGradBasedCorrMaskWhat | Mask/CircularGradient |
CircGradBasedCorrMoire | 0.000000 |
CircGradBasedCorrSaturation | 0.000000 |
CircGradBasedCorrShadows2012 | 0.426258 |
CircGradBasedCorrSharpness | 0.431323 |
CircGradBasedCorrTemperature | 0.000000 |
CircGradBasedCorrTint | 0.000000 |
CircGradBasedCorrWhat | Correction |
CircleOfConfusion | 0.030 mm |
Clarity2012 | +22 |
ColorComponents | 3 |
ColorNoiseReduction | 0 |
ColorSpace | Uncalibrated |
ColorTemperature | 4850 |
ColorTransform | YCbCr |
Contrast2012 | -15 |
ConvertToGrayscale | False |
Copyright | Tomasz Slawinski |
CopyrightNotice | Tomasz Slawinski |
CreateDate (1) | 2018:07:21 13:53:53.64 |
CreateDate | 2018:07:21 13:53:53 |
Creator | Tomasz Slawinski
CreatorTool | Adobe Photoshop Lightroom Classic 7.3.1 (Macintosh) |
CropAngle | 0.148438 |
CropBottom | 1 |
CropConstrainToWarp | 1 |
CropLeft | 0.002796 |
CropRight | 0.997204 |
CropTop | -0 |
CustomRendered | Normal |
DateCreated (1) | 2018:07:21 |
DateCreated | 2018:07:21 13:53:53.64 |
DateTimeOriginal | 2018:07:21 13:53:53 |
DefringeGreenAmount | 0 |
DefringeGreenHueHi | 60 |
DefringeGreenHueLo | 40 |
DefringePurpleAmount | 0 |
DefringePurpleHueHi | 70 |
DefringePurpleHueLo | 30 |
Dehaze | 0 |
DistortionCorrectionAlreadyApplied | True |
Exposure2012 | -0.45 |
ExposureCompensation | 0 |
ExposureMode | Manual |
ExposureProgram | Manual |
ExposureTime | 1/100 |
Firmware | 1.1.7 |
Flash | Off, Did not fire |
FlashCompensation | 0 |
FNumber | 5.0 |
FocalLength | 85.0 mm |
FocalLength35efl | 85.0 mm (35 mm equivalent: 85.3 mm) |
Format | image/jpeg |
FOV | 23.8 deg |
GradientBasedCorrActive | true |
GradientBasedCorrAmount | 1.000000 |
GradientBasedCorrBrightness | 0.000000 |
GradientBasedCorrClarity2012 | 0.000000 |
GradientBasedCorrContrast2012 | 0.000000 |
GradientBasedCorrCorrectionRangeMaskColorAmount | 0.500000 |
GradientBasedCorrCorrectionRangeMaskLumFeather | 0.500000 |
GradientBasedCorrCorrectionRangeMaskLumMax | 1.000000 |
GradientBasedCorrCorrectionRangeMaskLumMin | 0.000000 |
GradientBasedCorrCorrectionRangeMaskType | 0 |
GradientBasedCorrCorrectionRangeMaskVersion | +2 |
GradientBasedCorrDefringe | 0.000000 |
GradientBasedCorrExposure2012 | 0.000000 |
GradientBasedCorrHighlights2012 | 0.000000 |
GradientBasedCorrHue (1) | 230.000000 |
GradientBasedCorrHue | 240.000000 |
GradientBasedCorrLocalBlacks2012 | 0.000000 |
GradientBasedCorrLocalDehaze | 0.000000 |
GradientBasedCorrLocalWhites2012 | 0.000000 |
GradientBasedCorrLuminanceNoise | 0.000000 |
GradientBasedCorrMaskFullX (1) | 1.054600 |
GradientBasedCorrMaskFullX (2) | 1.000000 |
GradientBasedCorrMaskFullX (3) | -0.104885 |
GradientBasedCorrMaskFullX (4) | 0.479846 |
GradientBasedCorrMaskFullX (5) | 0.512476 |
GradientBasedCorrMaskFullX (6) | 0.775275 |
GradientBasedCorrMaskFullX | 0.655462 |
GradientBasedCorrMaskFullY (1) | 0.530043 |
GradientBasedCorrMaskFullY (2) | 0.517167 |
GradientBasedCorrMaskFullY (3) | 0.495708 |
GradientBasedCorrMaskFullY (4) | -0.014327 |
GradientBasedCorrMaskFullY (5) | 1.128940 |
GradientBasedCorrMaskFullY (6) | -0.005857 |
GradientBasedCorrMaskFullY | 1.000850 |
GradientBasedCorrMaskValue | 1.000000 |
GradientBasedCorrMaskWhat | Mask/Gradient |
GradientBasedCorrMaskZeroX (1) | 0.353449 |
GradientBasedCorrMaskZeroX (2) | 0.928161 |
GradientBasedCorrMaskZeroX (3) | 0.182471 |
GradientBasedCorrMaskZeroX (4) | 0.479846 |
GradientBasedCorrMaskZeroX (5) | 0.512476 |
GradientBasedCorrMaskZeroX (6) | 0.575994 |
GradientBasedCorrMaskZeroX | 0.591026 |
GradientBasedCorrMaskZeroY (1) | 0.527897 |
GradientBasedCorrMaskZeroY (2) | 0.517167 |
GradientBasedCorrMaskZeroY (3) | 0.495708 |
GradientBasedCorrMaskZeroY (4) | 0.203438 |
GradientBasedCorrMaskZeroY (5) | 0.716333 |
GradientBasedCorrMaskZeroY (6) | 0.696048 |
GradientBasedCorrMaskZeroY | 0.266848 |
GradientBasedCorrMoire | 0.000000 |
GradientBasedCorrSaturation (10) | 0.790000 |
GradientBasedCorrSaturation (2) | 0.555000 |
GradientBasedCorrSaturation (4) | 0.233000 |
GradientBasedCorrSaturation (6) | 0.666000 |
GradientBasedCorrSaturation (8) | 0.480000 |
GradientBasedCorrSaturation | 0.000000 |
GradientBasedCorrShadows2012 | 0.000000 |
GradientBasedCorrSharpness (2) | 0.000000 |
GradientBasedCorrSharpness | 0.404345 |
GradientBasedCorrTemperature | 0.000000 |
GradientBasedCorrTint | 0.000000 |
GradientBasedCorrWhat | Correction |
GrainAmount | 0 |
GreenHue | +90 |
GreenSaturation | -50 |
HasCrop | True |
HasSettings | True |
Highlights2012 | -80 |
HueAdjustmentAqua | 0 |
HueAdjustmentBlue | 0 |
HueAdjustmentGreen | 0 |
HueAdjustmentMagenta | 0 |
HueAdjustmentOrange | 0 |
HueAdjustmentPurple | 0 |
HueAdjustmentRed | 0 |
HueAdjustmentYellow | 0 |
HyperfocalDistance | 48.28 m |
ImageHeight | 5451 |
ImageNumber | 0 |
ImageSize | 3634x5451 |
ImageWidth | 3634 |
ISO | 100 |
LateralChromaticAberrationCorrectionAlreadyApplied | True |
Lens | EF85mm f/1.2L USM |
LensID (1) | 137 |
LensID | Canon EF 85mm f/1.2L USM |
LensInfo | 85mm f/? |
LensManualDistortionAmount | 0 |
LensModel | EF85mm f/1.2L USM |
LensProfileChromaticAberrationScale | 100 |
LensProfileDistortionScale | 100 |
LensProfileEnable | 1 |
LensProfileFilename | Canon EOS 5D Mark II (Canon EF 85mm f1.2L USM) - RAW.lcp |
LensProfileName | Adobe (Canon EF 85mm f/1.2 L USM) |
LensProfileSetup | LensDefaults |
LensProfileVignettingScale | 100 |
LensSerialNumber | 0000000000 |
LightValue | 11.3 |
LookName | |
LuminanceAdjustmentAqua | 0 |
LuminanceAdjustmentBlue | 0 |
LuminanceAdjustmentGreen | +60 |
LuminanceAdjustmentMagenta | +61 |
LuminanceAdjustmentOrange | +75 |
LuminanceAdjustmentPurple | +93 |
LuminanceAdjustmentRed | +18 |
LuminanceAdjustmentYellow | +78 |
LuminanceSmoothing | 0 |
Make | Canon |
MaxApertureValue | 1.2 |
Megapixels | 19.8 |
MeteringMode | Multi-segment |
Model | Canon EOS 6D |
ModifyDate (1) | 2018:07:23 09:30:52+02:00 |
ModifyDate | 2018:07:23 09:30:52 |
OverrideLookVignette | False |
OwnerName | Sawynart |
PaintCorrectionActive | true |
PaintCorrectionAmount | 1.000000 |
PaintCorrectionBrightness | 0.000000 |
PaintCorrectionClarity2012 | 0.147620 |
PaintCorrectionContrast2012 | 0.000000 |
PaintCorrectionCorrectionRangeMaskColorAmount | 0.500000 |
PaintCorrectionCorrectionRangeMaskLumFeather | 0.500000 |
PaintCorrectionCorrectionRangeMaskLumMax | 1.000000 |
PaintCorrectionCorrectionRangeMaskLumMin | 0.000000 |
PaintCorrectionCorrectionRangeMaskType | 0 |
PaintCorrectionCorrectionRangeMaskVersion | +2 |
PaintCorrectionDefringe | 0.000000 |
PaintCorrectionExposure2012 | 0.000000 |
PaintCorrectionHighlights2012 | 0.000000 |
PaintCorrectionHue | 240.000000 |
PaintCorrectionLocalBlacks2012 | 0.000000 |
PaintCorrectionLocalDehaze | 0.000000 |
PaintCorrectionLocalWhites2012 | 0.000000 |
PaintCorrectionLuminanceNoise | 0.000000 |
PaintCorrectionMaskCenterWeight | 0.113802 |
PaintCorrectionMaskFlow | 1.000000 |
PaintCorrectionMaskRadius (1) | 0.015224 |
PaintCorrectionMaskRadius (10) | 0.015173 |
PaintCorrectionMaskRadius (11) | 0.015139 |
PaintCorrectionMaskRadius (12) | 0.015162 |
PaintCorrectionMaskRadius (13) | 0.015185 |
PaintCorrectionMaskRadius (14) | 0.015170 |
PaintCorrectionMaskRadius (2) | 0.016512 |
PaintCorrectionMaskRadius (3) | 0.016514 |
PaintCorrectionMaskRadius (4) | 0.016505 |
PaintCorrectionMaskRadius (5) | 0.016506 |
PaintCorrectionMaskRadius (6) | 0.016497 |
PaintCorrectionMaskRadius (7) | 0.016496 |
PaintCorrectionMaskRadius (8) | 0.016491 |
PaintCorrectionMaskRadius (9) | 0.015195 |
PaintCorrectionMaskRadius | 0.015130 |
PaintCorrectionMaskValue | 0.827334 |
PaintCorrectionMaskWhat | Mask/Paint |
PaintCorrectionMoire | 0.000000 |
PaintCorrectionSaturation | 0.000000 |
PaintCorrectionShadows2012 | 0.000000 |
PaintCorrectionSharpness | 0.476926 |
PaintCorrectionTemperature | 0.000000 |
PaintCorrectionTint | 0.000000 |
PaintCorrectionWhat | Correction |
ParametricDarks | 0 |
ParametricHighlights | 0 |
ParametricHighlightSplit | 75 |
ParametricLights | 0 |
ParametricMidtoneSplit | 50 |
ParametricShadows | 0 |
ParametricShadowSplit | 25 |
PerspectiveAspect | 0 |
PerspectiveHorizontal | 0 |
PerspectiveRotate | 0.0 |
PerspectiveScale | 100 |
PerspectiveUpright | 0 |
PerspectiveVertical | 0 |
PerspectiveX | 0.00 |
PerspectiveY | 0.00 |
PostCropVignetteAmount | 0 |
ProcessVersion | 10.0 |
ProfileDescription | Adobe RGB (1998) |
RawFileName | IMG_9034.CR2 |
RecommendedExposureIndex | 100 |
RedHue | -43 |
RedSaturation | -81 |
RegionAppliedToDimensionsH | 5451 |
RegionAppliedToDimensionsUnit | pixel |
RegionAppliedToDimensionsW | 3634 |
RegionAreaH | 0.01966 |
RegionAreaW | 0.02952 |
RegionAreaX | 0.49334 |
RegionAreaY | 0.68040 |
RegionRotation | -1.57339 |
RegionType | Face |
Rights | Tomasz Slawinski |
Saturation | +5 |
SaturationAdjustmentAqua | +51 |
SaturationAdjustmentBlue | +22 |
SaturationAdjustmentGreen | -100 |
SaturationAdjustmentMagenta | 0 |
SaturationAdjustmentOrange | +25 |
SaturationAdjustmentPurple | +31 |
SaturationAdjustmentRed | -14 |
SaturationAdjustmentYellow | -2 |
SawynArt |
ScaleFactor35efl | 1.0 |
SceneCaptureType | Standard |
SensitivityType | Recommended Exposure Index |
SerialNumber | 013052001421 |
Shadows2012 | +43 |
ShadowTint | 0 |
SharpenDetail | 25 |
SharpenEdgeMasking | 97 |
SharpenRadius | +1.0 |
Sharpness | 110 |
ShutterSpeed | 1/100 |
ShutterSpeedValue | 1/100 |
Software | Adobe Photoshop Lightroom Classic 7.3.1 (Macintosh) |
SplitToningBalance | 0 |
SplitToningHighlightHue | 0 |
SplitToningHighlightSaturation | 0 |
SplitToningShadowHue | 0 |
SplitToningShadowSaturation | 0 |
Tint | -42 |
ToneCurve | 0, 0, 255, 255 |
ToneCurveBlue | 0, 0, 255, 255 |
ToneCurveGreen | 0, 0, 255, 255 |
ToneCurveName | Linear |
ToneCurveName2012 | Linear |
ToneCurvePV2012 | 0, 0, 255, 255 |
ToneCurvePV2012Blue | 0, 0, 255, 255 |
ToneCurvePV2012Green | 0, 0, 255, 255 |
ToneCurvePV2012Red | 0, 0, 255, 255 |
ToneCurveRed | 0, 0, 255, 255 |
ToneMapStrength | 0 |
Version | 10.3 |
Vibrance | +19 |
VignetteAmount | 0 |
VignetteCorrectionAlreadyApplied | True |
WhiteBalance (1) | Custom |
WhiteBalance | Manual |
Whites2012 | +15 |