Felt | Verdi |
AlreadyApplied | True |
Aperture | 3.5 |
ApertureValue | 3.5 |
AutoLateralCA | 0 |
AutoWhiteVersion | 134348800 |
BitsPerSample | 8 |
Blacks2012 | -100 |
BlueHue | 0 |
BlueSaturation | 0 |
BrightnessValue | -5.73671875 |
CameraProfile | Adobe Standard |
CircleOfConfusion | 0.020 mm |
Clarity2012 | +10 |
ColorComponents | 3 |
ColorNoiseReduction | 25 |
ColorNoiseReductionDetail | 50 |
ColorNoiseReductionSmoothness | 50 |
ColorSpace | sRGB |
ColorTemperature | 4575 |
ColorTransform | YCbCr |
Contrast | Normal |
Contrast2012 | +8 |
ConvertToGrayscale | False |
CreateDate | 2017:09:09 23:09:19 |
CreatorTool | Adobe Photoshop Lightroom 6.10.1 (Macintosh) |
CropAngle | 0 |
CropBottom | 0.865584 |
CropConstrainToWarp | 0 |
CropLeft | 0.135726 |
CropRight | 0.90484 |
CropTop | 0.136428 |
CustomRendered | Normal |
DateCreated (1) | 2017:09:09 23:09:19 |
DateCreated | 2017:09:09 |
DateTimeOriginal | 2017:09:09 23:09:19 |
DefringeGreenAmount | 0 |
DefringeGreenHueHi | 60 |
DefringeGreenHueLo | 40 |
DefringePurpleAmount | 0 |
DefringePurpleHueHi | 70 |
DefringePurpleHueLo | 30 |
Dehaze | 0 |
DigitalZoomRatio | 1 |
DistortionCorrectionAlreadyApplied | True |
ExifImageHeight | 2917 |
ExifImageWidth | 4615 |
Exposure2012 | +0.90 |
ExposureCompensation | 0 |
ExposureMode | Manual |
ExposureProgram | Manual |
ExposureTime | 13 |
Flash | Off, Did not fire |
FNumber | 3.5 |
FocalLength | 16.0 mm |
FocalLength35efl | 16.0 mm (35 mm equivalent: 24.0 mm) |
FocalLengthIn35mmFormat | 24 mm |
Format | image/jpeg |
FOV | 73.7 deg |
GradientBasedCorrActive | true |
GradientBasedCorrAmount | 1.000000 |
GradientBasedCorrBrightness | 0.000000 |
GradientBasedCorrClarity2012 (1) | 0.324855 |
GradientBasedCorrClarity2012 | -0.078034 |
GradientBasedCorrContrast2012 (2) | 1.000000 |
GradientBasedCorrContrast2012 | -1.000000 |
GradientBasedCorrDefringe | 0.000000 |
GradientBasedCorrExposure2012 (1) | 0.086392 |
GradientBasedCorrExposure2012 (2) | -0.174509 |
GradientBasedCorrExposure2012 | -0.053416 |
GradientBasedCorrHighlights2012 (1) | 0.020531 |
GradientBasedCorrHighlights2012 (2) | 0.174964 |
GradientBasedCorrHighlights2012 | 1.000000 |
GradientBasedCorrHue | 0.000000 |
GradientBasedCorrLocalBlacks2012 (1) | -0.376635 |
GradientBasedCorrLocalBlacks2012 (2) | 0.266715 |
GradientBasedCorrLocalBlacks2012 | -0.282794 |
GradientBasedCorrLocalDehaze | 0.000000 |
GradientBasedCorrLocalWhites2012 | -1.000000 |
GradientBasedCorrLuminanceNoise | 0.000000 |
GradientBasedCorrMaskFullX (1) | 0.543149 |
GradientBasedCorrMaskFullX (2) | 0.145393 |
GradientBasedCorrMaskFullX | 0.182402 |
GradientBasedCorrMaskFullY (1) | 0.150974 |
GradientBasedCorrMaskFullY (2) | 0.478527 |
GradientBasedCorrMaskFullY | 0.145104 |
GradientBasedCorrMaskValue | 1.000000 |
GradientBasedCorrMaskWhat | Mask/Gradient |
GradientBasedCorrMaskZeroX (1) | 0.542495 |
GradientBasedCorrMaskZeroX (2) | 0.356108 |
GradientBasedCorrMaskZeroX | 0.278033 |
GradientBasedCorrMaskZeroY (1) | 0.916123 |
GradientBasedCorrMaskZeroY (2) | 0.638107 |
GradientBasedCorrMaskZeroY | 0.432617 |
GradientBasedCorrMoire | 0.000000 |
GradientBasedCorrSaturation | 0.000000 |
GradientBasedCorrShadows2012 | -1.000000 |
GradientBasedCorrSharpness | 0.000000 |
GradientBasedCorrTemperature | -0.055323 |
GradientBasedCorrTint | 0.000000 |
GradientBasedCorrWhat | Correction |
GrainAmount | 0 |
GreenHue | 0 |
GreenSaturation | 0 |
HasCrop | True |
HasExtendedXMP | A00FEB5E9D59CA00A797C10D88FDED6B |
HasSettings | True |
Highlights2012 | -49 |
HueAdjustmentAqua | +100 |
HueAdjustmentBlue | +2 |
HueAdjustmentGreen | -6 |
HueAdjustmentMagenta | 0 |
HueAdjustmentOrange | -29 |
HueAdjustmentPurple | 0 |
HueAdjustmentRed | 0 |
HueAdjustmentYellow | -1 |
HyperfocalDistance | 3.65 m |
ImageHeight | 2917 |
ImageSize | 4615x2917 |
ImageWidth | 4615 |
ISO | 2500 |
LateralChromaticAberrationCorrectionAlreadyApplied | True |
Lens | E PZ 16-50mm F3.5-5.6 OSS |
LensDistortInfo | 34464/32768 -209446903/1073741824 101333252/1073741824 -31669092/1073741824 |
LensInfo | 16-50mm f/3.5-5.6 |
LensManualDistortionAmount | +3 |
LensModel | E PZ 16-50mm F3.5-5.6 OSS |
LensProfileChromaticAberrationScale | 100 |
LensProfileDistortionScale | 100 |
LensProfileEnable | 1 |
LensProfileFilename | SONY (Sony E PZ 16-50mm F3.5-5.6 OSS) - RAW.lcp |
LensProfileName | Adobe (Sony E PZ 16-50mm F3.5-5.6 OSS) |
LensProfileSetup | LensDefaults |
LensProfileVignettingScale | 100 |
LightSource | Unknown |
LightValue | -4.7 |
LuminanceAdjustmentAqua | 0 |
LuminanceAdjustmentBlue | 0 |
LuminanceAdjustmentGreen | 0 |
LuminanceAdjustmentMagenta | 0 |
LuminanceAdjustmentOrange | -37 |
LuminanceAdjustmentPurple | 0 |
LuminanceAdjustmentRed | 0 |
LuminanceAdjustmentYellow | -50 |
LuminanceNoiseReductionContrast | 0 |
LuminanceNoiseReductionDetail | 55 |
LuminanceSmoothing | 42 |
Make | SONY |
MaxApertureValue | 3.5 |
Megapixels | 13.5 |
MeteringMode | Multi-segment |
Model | ILCE-6000 |
ModifyDate (1) | 2017:09:10 00:27:01+02:00 |
ModifyDate | 2017:09:10 00:27:01 |
ParametricDarks | -11 |
ParametricHighlights | 0 |
ParametricHighlightSplit | 75 |
ParametricLights | +18 |
ParametricMidtoneSplit | 50 |
ParametricShadows | 0 |
ParametricShadowSplit | 25 |
PerspectiveAspect | 0 |
PerspectiveHorizontal | 0 |
PerspectiveRotate | 0.0 |
PerspectiveScale | 100 |
PerspectiveUpright | 0 |
PerspectiveVertical | 0 |
PerspectiveX | 0.00 |
PerspectiveY | 0.00 |
PostCropVignetteAmount | +3 |
PostCropVignetteFeather | 50 |
PostCropVignetteMidpoint | 50 |
PostCropVignetteRoundness | 0 |
PostCropVignetteStyle | 1 |
ProcessVersion | 6.7 |
ProfileDescription | sRGB IEC61966-2.1 |
RecommendedExposureIndex | 2500 |
RedHue | 0 |
RedSaturation | 0 |
Saturation (1) | +37 |
Saturation | Normal |
SaturationAdjustmentAqua | 0 |
SaturationAdjustmentBlue | 0 |
SaturationAdjustmentGreen | 0 |
SaturationAdjustmentMagenta | 0 |
SaturationAdjustmentOrange | 0 |
SaturationAdjustmentPurple | 0 |
SaturationAdjustmentRed | 0 |
SaturationAdjustmentYellow | 0 |
ScaleFactor35efl | 1.5 |
SceneCaptureType | Standard |
SceneType | Directly photographed |
SensitivityType | Recommended Exposure Index |
Shadows2012 | -52 |
ShadowTint | 0 |
SharpenDetail | 25 |
SharpenEdgeMasking | 0 |
SharpenRadius | +1.0 |
Sharpness (1) | 24 |
Sharpness | Normal |
ShutterSpeed | 13 |
ShutterSpeedValue | 13 |
Software | Adobe Photoshop Lightroom 6.10.1 (Macintosh) |
SplitToningBalance | 0 |
SplitToningHighlightHue | 0 |
SplitToningHighlightSaturation | 0 |
SplitToningShadowHue | 0 |
SplitToningShadowSaturation | 0 |
Tint | -1 |
ToneCurve | 0, 0, 255, 255 |
ToneCurveBlue | 0, 0, 255, 255 |
ToneCurveGreen | 0, 0, 255, 255 |
ToneCurveName | Linear |
ToneCurveName2012 | Linear |
ToneCurvePV2012 | 0, 0, 255, 255 |
ToneCurvePV2012Blue | 0, 0, 255, 255 |
ToneCurvePV2012Green | 0, 0, 255, 255 |
ToneCurvePV2012Red | 0, 0, 255, 255 |
ToneCurveRed | 0, 0, 255, 255 |
ToneMapStrength | 0 |
Version | 9.10.1 |
Vibrance | -25 |
VignetteAmount | 0 |
VignetteCorrectionAlreadyApplied | True |
WhiteBalance (1) | Custom |
WhiteBalance | Auto |
Whites2012 | +23 |