Felt | Verdi |
AlreadyApplied | True |
Aperture | 22.0 |
ApertureValue | 22.0 |
AutoLateralCA | 0 |
AutoWhiteVersion | 134348800 |
BitsPerSample | 8 |
Blacks2012 | -17 |
BlueHue | 0 |
BlueSaturation | 0 |
CameraProfile | Adobe Standard |
Caption-Abstract | OLYMPUS DIGITAL CAMERA |
CFAPattern | [Red,Green][Green,Blue] |
CircleOfConfusion | 0.015 mm |
Clarity2012 | +26 |
ColorComponents | 3 |
ColorNoiseReduction | 25 |
ColorNoiseReductionDetail | 50 |
ColorNoiseReductionSmoothness | 50 |
ColorSpace | sRGB |
ColorTemperature | 6524 |
ColorTransform | YCbCr |
Contrast | Normal |
Contrast2012 | +12 |
ConvertToGrayscale | False |
CreateDate | 2016:10:04 19:21:09 |
CreatorTool | Adobe Photoshop Lightroom 6.0 (Windows) |
CropAngle | 0.533696 |
CropBottom | 0.82805 |
CropConstrainToWarp | 1 |
CropLeft | 0.026501 |
CropRight | 0.976005 |
CropTop | 0.100316 |
CustomRendered | Normal |
DateCreated (1) | 2016:10:04 19:21:09 |
DateCreated | 2016:10:04 |
DateTimeOriginal | 2016:10:04 19:21:09 |
DefringeGreenAmount | 0 |
DefringeGreenHueHi | 60 |
DefringeGreenHueLo | 40 |
DefringePurpleAmount | 0 |
DefringePurpleHueHi | 70 |
DefringePurpleHueLo | 30 |
Description | OLYMPUS DIGITAL CAMERA |
DigitalZoomRatio | 1 |
Exposure2012 | +0.60 |
ExposureCompensation | 0 |
ExposureMode | Manual |
ExposureProgram | Manual |
ExposureTime | 0.5 |
Flash | Auto, Did not fire |
FlashCompensation | 0 |
FNumber | 22.0 |
FocalLength | 7.0 mm |
FocalLength35efl | 7.0 mm (35 mm equivalent: 14.0 mm) |
FocalLengthIn35mmFormat | 14 mm |
Format | image/jpeg |
FOV | 104.3 deg |
GainControl | Low gain up |
GrainAmount | 0 |
GreenHue | 0 |
GreenSaturation | 0 |
HasCrop | True |
HasSettings | True |
Highlights2012 | +12 |
HueAdjustmentAqua | 0 |
HueAdjustmentBlue | 0 |
HueAdjustmentGreen | 0 |
HueAdjustmentMagenta | 0 |
HueAdjustmentOrange | 0 |
HueAdjustmentPurple | 0 |
HueAdjustmentRed | 0 |
HueAdjustmentYellow | 0 |
HyperfocalDistance | 0.15 m |
ImageDescription | OLYMPUS DIGITAL CAMERA |
ImageHeight | 2474 |
ImageSize | 4398x2474 |
ImageWidth | 4398 |
ISO | 200 |
Lens | OLYMPUS M.7-14mm F2.8 |
LensInfo | 7-14mm f/2.8 |
LensManualDistortionAmount | -2 |
LensModel | OLYMPUS M.7-14mm F2.8 |
LensProfileEnable | 0 |
LensProfileSetup | LensDefaults |
LensSerialNumber | AC82141302 |
LightSource | Unknown |
LightValue | 8.9 |
LuminanceAdjustmentAqua | 0 |
LuminanceAdjustmentBlue | -22 |
LuminanceAdjustmentGreen | 0 |
LuminanceAdjustmentMagenta | -7 |
LuminanceAdjustmentOrange | -4 |
LuminanceAdjustmentPurple | -7 |
LuminanceAdjustmentRed | -7 |
LuminanceAdjustmentYellow | -2 |
LuminanceNoiseReductionContrast | 0 |
LuminanceNoiseReductionDetail | 50 |
LuminanceSmoothing | 14 |
Make | OLYMPUS IMAGING CORP. |
MaxApertureValue | 2.8 |
Megapixels | 10.9 |
MeteringMode | Multi-segment |
Model | E-M5MarkII |
ModifyDate (1) | 2016:10:04 23:00:57+02:00 |
ModifyDate | 2016:10:04 23:00:57 |
Orientation | Horizontal (normal) |
ParametricDarks | 0 |
ParametricHighlights | 0 |
ParametricHighlightSplit | 75 |
ParametricLights | 0 |
ParametricMidtoneSplit | 50 |
ParametricShadows | 0 |
ParametricShadowSplit | 25 |
PerspectiveAspect | 0 |
PerspectiveHorizontal | 0 |
PerspectiveRotate | -0.2 |
PerspectiveScale | 100 |
PerspectiveUpright | 0 |
PerspectiveVertical | -18 |
PostCropVignetteAmount | -10 |
PostCropVignetteFeather | 87 |
PostCropVignetteHighlightContrast | 0 |
PostCropVignetteMidpoint | 50 |
PostCropVignetteRoundness | 0 |
PostCropVignetteStyle | 1 |
ProcessVersion | 6.7 |
ProfileDescription | sRGB IEC61966-2.1 |
RawFileName | Nanco F. S. Hoogstad-040101.jpg |
RedHue | 0 |
RedSaturation | 0 |
Saturation (1) | +12 |
Saturation | Normal |
SaturationAdjustmentAqua | 0 |
SaturationAdjustmentBlue | 0 |
SaturationAdjustmentGreen | 0 |
SaturationAdjustmentMagenta | +11 |
SaturationAdjustmentOrange | +18 |
SaturationAdjustmentPurple | +11 |
SaturationAdjustmentRed | +20 |
SaturationAdjustmentYellow | +18 |
ScaleFactor35efl | 2.0 |
SceneCaptureType | Standard |
SensitivityType | Standard Output Sensitivity |
SerialNumber | BFKA33899 |
Shadows2012 | -24 |
ShadowTint | 0 |
SharpenDetail | 25 |
SharpenEdgeMasking | 0 |
SharpenRadius | +1.0 |
Sharpness (1) | 25 |
Sharpness | Normal |
ShutterSpeed | 0.5 |
ShutterSpeedValue | 0.5 |
Software | Adobe Photoshop Lightroom 6.0 (Windows) |
SplitToningBalance | -33 |
SplitToningHighlightHue | 241 |
SplitToningHighlightSaturation | 96 |
SplitToningShadowHue | 0 |
SplitToningShadowSaturation | 0 |
Tint | +43 |
ToneCurve | 0, 0, 255, 255 |
ToneCurveBlue | 0, 0, 255, 255 |
ToneCurveGreen | 0, 0, 255, 255 |
ToneCurveName | Linear |
ToneCurveName2012 | Linear |
ToneCurvePV2012 | 0, 0, 255, 255 |
ToneCurvePV2012Blue | 0, 0, 255, 255 |
ToneCurvePV2012Green | 0, 0, 255, 255 |
ToneCurvePV2012Red | 0, 0, 255, 255 |
ToneCurveRed | 0, 0, 255, 255 |
Version | 9.0 |
Vibrance | +19 |
VignetteAmount | -11 |
VignetteMidpoint | 49 |
WhiteBalance (1) | Custom |
WhiteBalance | Auto |
Whites2012 | +26 |