Felt | Verdi |
AlreadyApplied | True |
Aperture | 11.0 |
ApertureValue | 11.0 |
Artist | Øyvind Samdal Steinskog |
AutoLateralCA | 1 |
AutoWhiteVersion | 134348800 |
BitsPerSample | 8 |
Blacks2012 | -21 |
BlueHue | 0 |
BlueSaturation | 0 |
BrightnessValue | 7.34 |
By-line | Øyvind Samdal Steinskog |
CameraProfile | Camera PROVIA/STANDARD |
CircGradBasedCorrActive | true |
CircGradBasedCorrAmount | 1.000000 |
CircGradBasedCorrBrightness | 0.000000 |
CircGradBasedCorrClarity2012 | 0.000000 |
CircGradBasedCorrContrast2012 | 0.000000 |
CircGradBasedCorrDefringe | 0.000000 |
CircGradBasedCorrExposure2012 (1) | 0.164757 |
CircGradBasedCorrExposure2012 (10) | 0.215712 |
CircGradBasedCorrExposure2012 (11) | 0.088889 |
CircGradBasedCorrExposure2012 (12) | 0.222222 |
CircGradBasedCorrExposure2012 (13) | 0.156684 |
CircGradBasedCorrExposure2012 (14) | 0.149054 |
CircGradBasedCorrExposure2012 (2) | 0.232899 |
CircGradBasedCorrExposure2012 (3) | 0.191338 |
CircGradBasedCorrExposure2012 (5) | 0.238715 |
CircGradBasedCorrExposure2012 (7) | 0.182726 |
CircGradBasedCorrExposure2012 (8) | 0.244444 |
CircGradBasedCorrExposure2012 (9) | 0.270573 |
CircGradBasedCorrExposure2012 | 0.062500 |
CircGradBasedCorrHighlights2012 | 0.000000 |
CircGradBasedCorrHue | 240.000000 |
CircGradBasedCorrLocalBlacks2012 | 0.000000 |
CircGradBasedCorrLocalDehaze | 0.000000 |
CircGradBasedCorrLocalWhites2012 | 0.000000 |
CircGradBasedCorrLuminanceNoise | 0.000000 |
CircGradBasedCorrMaskAngle (1) | -15.357600 |
CircGradBasedCorrMaskAngle (10) | 5.723180 |
CircGradBasedCorrMaskAngle (11) | 15.145000 |
CircGradBasedCorrMaskAngle (12) | 24.702900 |
CircGradBasedCorrMaskAngle (3) | -41.460300 |
CircGradBasedCorrMaskAngle (4) | 9.106930 |
CircGradBasedCorrMaskAngle (5) | 33.215300 |
CircGradBasedCorrMaskAngle (6) | 0.000000 |
CircGradBasedCorrMaskAngle (7) | 5.345200 |
CircGradBasedCorrMaskAngle (8) | -35.174700 |
CircGradBasedCorrMaskAngle (9) | 27.394200 |
CircGradBasedCorrMaskAngle | -28.392600 |
CircGradBasedCorrMaskBottom (1) | 1.084620 |
CircGradBasedCorrMaskBottom (10) | 0.878827 |
CircGradBasedCorrMaskBottom (11) | 0.600356 |
CircGradBasedCorrMaskBottom (12) | 0.518248 |
CircGradBasedCorrMaskBottom (13) | 0.581374 |
CircGradBasedCorrMaskBottom (14) | 0.541618 |
CircGradBasedCorrMaskBottom (2) | 0.876478 |
CircGradBasedCorrMaskBottom (3) | 0.638535 |
CircGradBasedCorrMaskBottom (4) | 0.688990 |
CircGradBasedCorrMaskBottom (5) | 0.648231 |
CircGradBasedCorrMaskBottom (6) | 0.535277 |
CircGradBasedCorrMaskBottom (7) | 0.746754 |
CircGradBasedCorrMaskBottom (8) | 0.724712 |
CircGradBasedCorrMaskBottom (9) | 1.029710 |
CircGradBasedCorrMaskBottom | 0.675097 |
CircGradBasedCorrMaskFeather (14) | +100 |
CircGradBasedCorrMaskFeather | +50 |
CircGradBasedCorrMaskFlipped | true |
CircGradBasedCorrMaskLeft (1) | 0.371078 |
CircGradBasedCorrMaskLeft (10) | 0.650157 |
CircGradBasedCorrMaskLeft (11) | 0.558853 |
CircGradBasedCorrMaskLeft (12) | -0.010776 |
CircGradBasedCorrMaskLeft (13) | 0.000330 |
CircGradBasedCorrMaskLeft (14) | 0.220417 |
CircGradBasedCorrMaskLeft (2) | 0.704976 |
CircGradBasedCorrMaskLeft (3) | 0.091915 |
CircGradBasedCorrMaskLeft (4) | -0.026367 |
CircGradBasedCorrMaskLeft (5) | 0.051262 |
CircGradBasedCorrMaskLeft (6) | 0.722679 |
CircGradBasedCorrMaskLeft (7) | 0.437257 |
CircGradBasedCorrMaskLeft (8) | -0.005907 |
CircGradBasedCorrMaskLeft (9) | 0.314847 |
CircGradBasedCorrMaskLeft | 0.270960 |
CircGradBasedCorrMaskMidpoint | +50 |
CircGradBasedCorrMaskRight (1) | 0.678201 |
CircGradBasedCorrMaskRight (10) | 0.680438 |
CircGradBasedCorrMaskRight (11) | 0.643622 |
CircGradBasedCorrMaskRight (12) | 0.103625 |
CircGradBasedCorrMaskRight (13) | 0.103313 |
CircGradBasedCorrMaskRight (14) | 0.595277 |
CircGradBasedCorrMaskRight (2) | 1.090850 |
CircGradBasedCorrMaskRight (3) | 0.458322 |
CircGradBasedCorrMaskRight (4) | 0.263140 |
CircGradBasedCorrMaskRight (5) | 0.275243 |
CircGradBasedCorrMaskRight (6) | 0.853089 |
CircGradBasedCorrMaskRight (7) | 0.607335 |
CircGradBasedCorrMaskRight (8) | 0.247271 |
CircGradBasedCorrMaskRight (9) | 0.274970 |
CircGradBasedCorrMaskRight | 0.434488 |
CircGradBasedCorrMaskRoundness | 0 |
CircGradBasedCorrMaskTop (1) | 0.749760 |
CircGradBasedCorrMaskTop (10) | 0.648605 |
CircGradBasedCorrMaskTop (11) | 0.537794 |
CircGradBasedCorrMaskTop (12) | 0.368624 |
CircGradBasedCorrMaskTop (13) | 0.521754 |
CircGradBasedCorrMaskTop (14) | 0.253436 |
CircGradBasedCorrMaskTop (2) | 0.695751 |
CircGradBasedCorrMaskTop (3) | 0.882948 |
CircGradBasedCorrMaskTop (4) | 0.539695 |
CircGradBasedCorrMaskTop (5) | 0.329764 |
CircGradBasedCorrMaskTop (6) | 0.455415 |
CircGradBasedCorrMaskTop (7) | 0.666760 |
CircGradBasedCorrMaskTop (8) | 0.890400 |
CircGradBasedCorrMaskTop (9) | 0.729436 |
CircGradBasedCorrMaskTop | 0.631836 |
CircGradBasedCorrMaskValue | 1.000000 |
CircGradBasedCorrMaskVersion | +2 |
CircGradBasedCorrMaskWhat | Mask/CircularGradient |
CircGradBasedCorrMoire | 0.000000 |
CircGradBasedCorrSaturation | 0.000000 |
CircGradBasedCorrShadows2012 | 0.000000 |
CircGradBasedCorrSharpness | 0.000000 |
CircGradBasedCorrTemperature | 0.000000 |
CircGradBasedCorrTint | 0.000000 |
CircGradBasedCorrWhat | Correction |
CircleOfConfusion | 0.020 mm |
Clarity2012 | 0 |
ColorComponents | 3 |
ColorNoiseReduction | 25 |
ColorNoiseReductionDetail | 50 |
ColorNoiseReductionSmoothness | 50 |
ColorSpace | sRGB |
ColorTemperature | 5050 |
ColorTransform | YCbCr |
Contrast2012 | 0 |
ConvertToGrayscale | False |
Copyright | Copyright © Samdal Steinskog |
CopyrightFlag | True |
CopyrightNotice | Copyright © Samdal Steinskog |
CreateDate | 2016:09:23 12:52:13 |
Creator | Øyvind Samdal Steinskog |
CreatorAddress | Nattlandslia 5 |
CreatorCity | Bergen |
CreatorCountry | Norway |
CreatorPostalCode | 5231 |
CreatorTool | Adobe Photoshop Lightroom 6.6.1 (Macintosh) |
CreatorWorkEmail | steinskog@gmail.com |
CropAngle | 0 |
CropBottom | 0.938619 |
CropConstrainToWarp | 0 |
CropLeft | 0 |
CropRight | 1 |
CropTop | 0.047216 |
CustomRendered | Normal |
DateCreated (1) | 2016:09:23 |
DateCreated | 2016:09:23 12:52:13 |
DateTimeOriginal | 2016:09:23 12:52:13 |
DefringeGreenAmount | 0 |
DefringeGreenHueHi | 60 |
DefringeGreenHueLo | 40 |
DefringePurpleAmount | 0 |
DefringePurpleHueHi | 70 |
DefringePurpleHueLo | 30 |
Dehaze | 0 |
Exposure2012 | +0.40 |
ExposureCompensation | 0 |
ExposureMode | Auto |
ExposureProgram | Aperture-priority AE |
ExposureTime | 1/55 |
Flash | Off, Did not fire |
FNumber | 11.0 |
FocalLength | 24.0 mm |
FocalLength35efl | 24.0 mm (35 mm equivalent: 36.0 mm) |
FocalLengthIn35mmFormat | 36 mm |
Format | image/jpeg |
FOV | 53.1 deg |
GradientBasedCorrActive | true |
GradientBasedCorrAmount | 1.000000 |
GradientBasedCorrBrightness | 0.000000 |
GradientBasedCorrClarity2012 | 0.298090 |
GradientBasedCorrContrast2012 | 0.328299 |
GradientBasedCorrDefringe | 0.000000 |
GradientBasedCorrExposure2012 | -0.066667 |
GradientBasedCorrHighlights2012 | 0.000000 |
GradientBasedCorrHue | 240.000000 |
GradientBasedCorrLocalBlacks2012 | 0.000000 |
GradientBasedCorrLocalDehaze | 0.402691 |
GradientBasedCorrLocalWhites2012 | 0.000000 |
GradientBasedCorrLuminanceNoise | 0.723351 |
GradientBasedCorrMaskFullX | 0.498609 |
GradientBasedCorrMaskFullY | 0.293571 |
GradientBasedCorrMaskValue | 1.000000 |
GradientBasedCorrMaskWhat | Mask/Gradient |
GradientBasedCorrMaskZeroX | 0.494157 |
GradientBasedCorrMaskZeroY | 0.456780 |
GradientBasedCorrMoire | 0.000000 |
GradientBasedCorrSaturation | 0.000000 |
GradientBasedCorrShadows2012 | 0.000000 |
GradientBasedCorrSharpness | 0.000000 |
GradientBasedCorrTemperature | 0.000000 |
GradientBasedCorrTint | 0.000000 |
GradientBasedCorrWhat | Correction |
GrainAmount | 0 |
GreenHue | 0 |
GreenSaturation | 0 |
HasCrop | True |
HasExtendedXMP | 310B8B4337C8ECBDC95177FB504F7B13 |
HasSettings | True |
Highlights2012 | -100 |
HueAdjustmentAqua | 0 |
HueAdjustmentBlue | 0 |
HueAdjustmentGreen | 0 |
HueAdjustmentMagenta | 0 |
HueAdjustmentOrange | 0 |
HueAdjustmentPurple | 0 |
HueAdjustmentRed | 0 |
HueAdjustmentYellow | 0 |
HyperfocalDistance | 2.61 m |
ImageHeight | 3566 |
ImageSize | 6000x3566 |
ImageWidth | 6000 |
ISO | 200 |
Lens | XF10-24mmF4 R OIS |
LensInfo | 10-24mm f/4 |
LensMake | FUJIFILM |
LensManualDistortionAmount | 0 |
LensModel | XF10-24mmF4 R OIS |
LensProfileEnable | 0 |
LensProfileSetup | LensDefaults |
LensSerialNumber | 48A03000 |
LightSource | Unknown |
LightValue | 11.7 |
LuminanceAdjustmentAqua | 0 |
LuminanceAdjustmentBlue | 0 |
LuminanceAdjustmentGreen | 0 |
LuminanceAdjustmentMagenta | 0 |
LuminanceAdjustmentOrange | 0 |
LuminanceAdjustmentPurple | 0 |
LuminanceAdjustmentRed | 0 |
LuminanceAdjustmentYellow | 0 |
LuminanceSmoothing | 0 |
Make | FUJIFILM |
Marked | True |
MaxApertureValue | 4.0 |
Megapixels | 21.4 |
MeteringMode | Multi-segment |
Model | X-Pro2 |
ModifyDate (1) | 2016:09:24 21:05:38+02:00 |
ModifyDate | 2016:09:24 21:05:38 |
PaintCorrectionActive | true |
PaintCorrectionAmount | 1.000000 |
PaintCorrectionBrightness | 0.000000 |
PaintCorrectionClarity2012 | 0.000000 |
PaintCorrectionContrast2012 (4) | 0.266667 |
PaintCorrectionContrast2012 | 0.000000 |
PaintCorrectionDefringe | 0.000000 |
PaintCorrectionExposure2012 (1) | -0.075000 |
PaintCorrectionExposure2012 (3) | 0.062500 |
PaintCorrectionExposure2012 (6) | 0.044444 |
PaintCorrectionExposure2012 (7) | 0.082292 |
PaintCorrectionExposure2012 (8) | -0.090625 |
PaintCorrectionExposure2012 | 0.000000 |
PaintCorrectionHighlights2012 | 0.000000 |
PaintCorrectionHue | 240.000000 |
PaintCorrectionLocalBlacks2012 | 0.000000 |
PaintCorrectionLocalDehaze | 0.000000 |
PaintCorrectionLocalWhites2012 | 0.000000 |
PaintCorrectionLuminanceNoise | 0.000000 |
PaintCorrectionMaskCenterWeight | 0.066959 |
PaintCorrectionMaskFlow | 0.760949 |
PaintCorrectionMaskRadius (1) | 0.039512 |
PaintCorrectionMaskRadius (13) | 0.044702 |
PaintCorrectionMaskRadius (15) | 0.019640 |
PaintCorrectionMaskRadius (25) | 0.029399 |
PaintCorrectionMaskRadius (31) | 0.083514 |
PaintCorrectionMaskRadius (37) | 0.024936 |
PaintCorrectionMaskRadius (40) | 0.015175 |
PaintCorrectionMaskRadius (6) | 0.034411 |
PaintCorrectionMaskRadius (60) | 0.035059 |
PaintCorrectionMaskRadius (8) | 0.014894 |
PaintCorrectionMaskRadius (9) | 0.024475 |
PaintCorrectionMaskRadius | 0.073835 |
PaintCorrectionMaskValue | 0.744183 |
PaintCorrectionMaskWhat | Mask/Paint |
PaintCorrectionMoire | 0.000000 |
PaintCorrectionSaturation (1) | 0.485069 |
PaintCorrectionSaturation | 0.000000 |
PaintCorrectionShadows2012 | 0.000000 |
PaintCorrectionSharpness | 0.000000 |
PaintCorrectionTemperature (2) | 0.000000 |
PaintCorrectionTemperature | 0.188391 |
PaintCorrectionTint (7) | 0.000000 |
PaintCorrectionTint | 0.185787 |
PaintCorrectionWhat | Correction |
ParametricDarks | 0 |
ParametricHighlights | 0 |
ParametricHighlightSplit | 75 |
ParametricLights | 0 |
ParametricMidtoneSplit | 50 |
ParametricShadows | 0 |
ParametricShadowSplit | 25 |
PerspectiveAspect | 0 |
PerspectiveHorizontal | 0 |
PerspectiveRotate | 0.0 |
PerspectiveScale | 100 |
PerspectiveUpright | 0 |
PerspectiveVertical | 0 |
PerspectiveX | 0.00 |
PerspectiveY | 0.00 |
PostCropVignetteAmount | -20 |
PostCropVignetteFeather | 50 |
PostCropVignetteHighlightContrast | 0 |
PostCropVignetteMidpoint | 65 |
PostCropVignetteRoundness | 0 |
PostCropVignetteStyle | 1 |
ProcessVersion | 6.7 |
ProfileDescription | sRGB IEC61966-2.1 |
RedHue | 0 |
RedSaturation | 0 |
Rights | Copyright © Samdal Steinskog |
Saturation | 0 |
SaturationAdjustmentAqua | 0 |
SaturationAdjustmentBlue | 0 |
SaturationAdjustmentGreen | 0 |
SaturationAdjustmentMagenta | 0 |
SaturationAdjustmentOrange | 0 |
SaturationAdjustmentPurple | 0 |
SaturationAdjustmentRed | 0 |
SaturationAdjustmentYellow | 0 |
ScaleFactor35efl | 1.5 |
SceneCaptureType | Standard |
SceneType | Directly photographed |
SensingMethod | One-chip color area |
SensitivityType | Standard Output Sensitivity |
Shadows2012 | +34 |
ShadowTint | 0 |
SharpenDetail | 25 |
SharpenEdgeMasking | 0 |
SharpenRadius | +1.0 |
Sharpness (1) | 25 |
Sharpness | Hard |
ShutterSpeed | 1/55 |
ShutterSpeedValue | 1/55 |
Software | Adobe Photoshop Lightroom 6.6.1 (Macintosh) |
SplitToningBalance | 0 |
SplitToningHighlightHue | 48 |
SplitToningHighlightSaturation | 33 |
SplitToningShadowHue | 230 |
SplitToningShadowSaturation | 11 |
SubjectDistanceRange | Unknown |
Tint | +9 |
ToneCurve | 0, 0, 255, 255 |
ToneCurveBlue | 0, 0, 255, 255 |
ToneCurveGreen | 0, 0, 255, 255 |
ToneCurveName | Linear |
ToneCurveName2012 | Custom |
ToneCurvePV2012 | 0, 38, 56, 61, 194, 190, 255, 224 |
ToneCurvePV2012Blue | 0, 38, 59, 73, 191, 192, 255, 230 |
ToneCurvePV2012Green | 0, 0, 255, 255 |
ToneCurvePV2012Red | 0, 0, 64, 60, 188, 194, 255, 255 |
ToneCurveRed | 0, 0, 255, 255 |
ToneMapStrength | 0 |
UsageTerms | No reproduction of any kind without prior written permission |
Version | 9.6 |
Vibrance | 0 |
VignetteAmount | 0 |
WhiteBalance (1) | As Shot |
WhiteBalance | Auto |
Whites2012 | +36 |