Felt | Verdi |
AlreadyApplied | True |
Aperture | 4.0 |
ApertureValue | 4.0 |
ApproximateFocusDistance | 10.4 |
Artist | Edvin Urkedal Koppen |
AutoLateralCA | 1 |
AutoWhiteVersion | 134348800 |
BitsPerSample | 8 |
Blacks2012 | -36 |
BlueHue | 0 |
BlueSaturation | 0 |
By-line | Edvin Urkedal Koppen |
CameraProfile | Adobe Standard |
CircleOfConfusion | 0.016 mm |
Clarity2012 | +40 |
ColorComponents | 3 |
ColorNoiseReduction | 25 |
ColorNoiseReductionDetail | 50 |
ColorNoiseReductionSmoothness | 50 |
ColorSpace | sRGB |
ColorTemperature | 5600 |
ColorTransform | YCbCr |
Contrast2012 | 0 |
ConvertToGrayscale | True |
Copyright | Edvin Urkedal Koppen |
CopyrightNotice | Edvin Urkedal Koppen |
CreateDate (1) | 2014:07:18 13:05:49.20 |
CreateDate | 2014:07:18 13:05:49 |
Creator | Edvin Urkedal Koppen |
CreatorTool | Adobe Photoshop Lightroom 5.4 (Windows) |
CropAngle | 0 |
CropBottom | 0.987826 |
CropConstrainToWarp | 0 |
CropLeft | 0.0927 |
CropRight | 0.965238 |
CropTop | 0.165217 |
CustomRendered | Normal |
DateCreated (1) | 2014:07:18 |
DateCreated | 2014:07:18 13:05:49.20 |
DateTimeOriginal | 2014:07:18 13:05:49 |
DOF | 10.38 m (7.36 - 17.74 m) |
Exposure2012 | 0.00 |
ExposureCompensation | 0 |
ExposureMode | Manual |
ExposureProgram | Manual |
ExposureTime | 1/2000 |
Firmware | 1.1.1 |
Flash | Off, Did not fire |
FlashCompensation | 0 |
FNumber | 4.0 |
FocalLength | 40.0 mm |
FocalLength35efl | 40.0 mm (35 mm equivalent: 75.2 mm) |
Format | image/jpeg |
FOV | 26.9 deg |
GrainAmount | 0 |
GrayMixerAqua | -19 |
GrayMixerBlue | +9 |
GrayMixerGreen | -27 |
GrayMixerMagenta | +4 |
GrayMixerOrange | -19 |
GrayMixerPurple | +16 |
GrayMixerRed | -9 |
GrayMixerYellow | -23 |
GreenHue | 0 |
GreenSaturation | 0 |
HasCrop | True |
HasExtendedXMP | 4B7BE8858B367515BCA14C9EB9ACB369 |
HasSettings | True |
Highlights2012 | -67 |
HyperfocalDistance | 25.04 m |
ImageHeight | 3001 |
ImageNumber | 0 |
ImageSize | 4775x3001 |
ImageWidth | 4775 |
ISO | 100 |
Lens | EF40mm f/2.8 STM |
LensID (1) | 4144 |
LensID | Canon EF 40mm f/2.8 STM |
LensInfo | 40mm f/? |
LensManualDistortionAmount | 0 |
LensModel | EF40mm f/2.8 STM |
LensProfileEnable | 0 |
LensProfileSetup | LensDefaults |
LensSerialNumber | 9001001706 |
LightValue | 15.0 |
LuminanceSmoothing | 0 |
Make | Canon |
MaxApertureValue | 2.8 |
Megapixels | 14.3 |
MeteringMode | Multi-segment |
Model | Canon EOS 70D |
ModifyDate (1) | 2014:07:18 20:25:42+02:00 |
ModifyDate | 2014:07:18 20:25:42 |
PaintCorrectionActive | true |
PaintCorrectionAmount | 1.000000 |
PaintCorrectionBrightness | 0.000000 |
PaintCorrectionClarity2012 (2) | 0.310340 |
PaintCorrectionClarity2012 (3) | 0.241380 |
PaintCorrectionClarity2012 (4) | 0.563220 |
PaintCorrectionClarity2012 (5) | 0.000000 |
PaintCorrectionClarity2012 | -0.402300 |
PaintCorrectionContrast2012 (1) | 0.218390 |
PaintCorrectionContrast2012 | 0.000000 |
PaintCorrectionDefringe | 0.000000 |
PaintCorrectionExposure2012 (1) | -0.057500 |
PaintCorrectionExposure2012 (2) | 0.057500 |
PaintCorrectionExposure2012 (3) | 0.080500 |
PaintCorrectionExposure2012 | 0.000000 |
PaintCorrectionHighlights2012 (3) | -0.494250 |
PaintCorrectionHighlights2012 | 0.000000 |
PaintCorrectionHue | 0.000000 |
PaintCorrectionLuminanceNoise | 0.000000 |
PaintCorrectionMaskCenterWeight | 0.000000 |
PaintCorrectionMaskFlow | 1.000000 |
PaintCorrectionMaskRadius (1) | 0.226448 |
PaintCorrectionMaskRadius (12) | 0.261138 |
PaintCorrectionMaskRadius (13) | 0.154363 |
PaintCorrectionMaskRadius (14) | 0.004554 |
PaintCorrectionMaskRadius (15) | 0.005619 |
PaintCorrectionMaskRadius (16) | 0.003508 |
PaintCorrectionMaskRadius (17) | 0.006704 |
PaintCorrectionMaskRadius (22) | 0.023764 |
PaintCorrectionMaskRadius (26) | 0.071106 |
PaintCorrectionMaskRadius (27) | 0.013626 |
PaintCorrectionMaskRadius (30) | 0.011241 |
PaintCorrectionMaskRadius (31) | 0.009109 |
PaintCorrectionMaskRadius (32) | 0.007017 |
PaintCorrectionMaskRadius (38) | 0.014848 |
PaintCorrectionMaskRadius (4) | 0.029325 |
PaintCorrectionMaskRadius (41) | 0.139467 |
PaintCorrectionMaskRadius (42) | 0.064831 |
PaintCorrectionMaskRadius (46) | 0.097226 |
PaintCorrectionMaskRadius (48) | 0.010077 |
PaintCorrectionMaskRadius (53) | 0.110898 |
PaintCorrectionMaskRadius (54) | 0.040752 |
PaintCorrectionMaskRadius (55) | 0.052588 |
PaintCorrectionMaskRadius (56) | 0.046619 |
PaintCorrectionMaskRadius (60) | 0.007809 |
PaintCorrectionMaskRadius (8) | 0.034988 |
PaintCorrectionMaskRadius (9) | 0.013412 |
PaintCorrectionMaskRadius | 0.002481 |
PaintCorrectionMaskValue (39) | 1.000000 |
PaintCorrectionMaskValue | 0.000000 |
PaintCorrectionMaskWhat | Mask/Paint |
PaintCorrectionMoire | 0.000000 |
PaintCorrectionSaturation | 0.000000 |
PaintCorrectionShadows2012 | 0.000000 |
PaintCorrectionSharpness (1) | 0.241380 |
PaintCorrectionSharpness (2) | 0.195400 |
PaintCorrectionSharpness (4) | 0.000000 |
PaintCorrectionSharpness (5) | -1.000000 |
PaintCorrectionSharpness | -0.471260 |
PaintCorrectionTemperature (5) | 0.011490 |
PaintCorrectionTemperature | 0.000000 |
PaintCorrectionTint | 0.000000 |
PaintCorrectionWhat | Correction |
ParametricDarks | 0 |
ParametricHighlights | 0 |
ParametricHighlightSplit | 75 |
ParametricLights | 0 |
ParametricMidtoneSplit | 50 |
ParametricShadows | 0 |
ParametricShadowSplit | 25 |
PerspectiveAspect | 0 |
PerspectiveHorizontal | 0 |
PerspectiveRotate | 0.0 |
PerspectiveScale | 100 |
PerspectiveUpright | 0 |
PerspectiveVertical | 0 |
PostCropVignetteAmount | 0 |
ProcessVersion | 6.7 |
ProfileDescription | sRGB IEC61966-2.1 |
RecommendedExposureIndex | 100 |
RedHue | 0 |
RedSaturation | 0 |
Rights | Edvin Urkedal Koppen |
ScaleFactor35efl | 1.9 |
SceneCaptureType | Standard |
SensitivityType | Recommended Exposure Index |
SerialNumber | 063022008726 |
Shadows2012 | 0 |
ShadowTint | 0 |
SharpenDetail | 25 |
SharpenEdgeMasking | 0 |
SharpenRadius | +1.0 |
Sharpness | 25 |
ShutterSpeed | 1/2000 |
ShutterSpeedValue | 1/2000 |
Software | Adobe Photoshop Lightroom 5.4 (Windows) |
SplitToningBalance | 0 |
SplitToningHighlightHue | 0 |
SplitToningHighlightSaturation | 0 |
SplitToningShadowHue | 0 |
SplitToningShadowSaturation | 0 |
Tint | +9 |
ToneCurve | 0, 0, 255, 255 |
ToneCurveBlue | 0, 0, 255, 255 |
ToneCurveGreen | 0, 0, 255, 255 |
ToneCurveName | Linear |
ToneCurveName2012 | Linear |
ToneCurvePV2012 | 0, 0, 255, 255 |
ToneCurvePV2012Blue | 0, 0, 255, 255 |
ToneCurvePV2012Green | 0, 0, 255, 255 |
ToneCurvePV2012Red | 0, 0, 255, 255 |
ToneCurveRed | 0, 0, 255, 255 |
Version | 8.4 |
VignetteAmount | 0 |
WhiteBalance (1) | As Shot |
WhiteBalance | Auto |
Whites2012 | 0 |